BEGIN:VCALENDAR
VERSION:2.0
PRODID:-//College of Southern Nevada - ECPv6.15.13//NONSGML v1.0//EN
CALSCALE:GREGORIAN
METHOD:PUBLISH
X-ORIGINAL-URL:https://news.csn.edu
X-WR-CALDESC:Events for College of Southern Nevada
REFRESH-INTERVAL;VALUE=DURATION:PT1H
X-Robots-Tag:noindex
X-PUBLISHED-TTL:PT1H
BEGIN:VTIMEZONE
TZID:UTC
BEGIN:STANDARD
TZOFFSETFROM:+0000
TZOFFSETTO:+0000
TZNAME:UTC
DTSTART:20250101T000000
END:STANDARD
END:VTIMEZONE
BEGIN:VTIMEZONE
TZID:America/Los_Angeles
BEGIN:DAYLIGHT
TZOFFSETFROM:-0800
TZOFFSETTO:-0700
TZNAME:PDT
DTSTART:20250309T100000
END:DAYLIGHT
BEGIN:STANDARD
TZOFFSETFROM:-0700
TZOFFSETTO:-0800
TZNAME:PST
DTSTART:20251102T090000
END:STANDARD
BEGIN:DAYLIGHT
TZOFFSETFROM:-0800
TZOFFSETTO:-0700
TZNAME:PDT
DTSTART:20260308T100000
END:DAYLIGHT
BEGIN:STANDARD
TZOFFSETFROM:-0700
TZOFFSETTO:-0800
TZNAME:PST
DTSTART:20261101T090000
END:STANDARD
BEGIN:DAYLIGHT
TZOFFSETFROM:-0800
TZOFFSETTO:-0700
TZNAME:PDT
DTSTART:20270314T100000
END:DAYLIGHT
BEGIN:STANDARD
TZOFFSETFROM:-0700
TZOFFSETTO:-0800
TZNAME:PST
DTSTART:20271107T090000
END:STANDARD
END:VTIMEZONE
BEGIN:VEVENT
DTSTART;TZID=UTC:20260501T210000
DTEND;TZID=UTC:20260502T210000
DTSTAMP:20260419T061751
CREATED:20260214T151739Z
LAST-MODIFIED:20260214T151739Z
UID:10009389-1777669200-1777755600@news.csn.edu
SUMMARY:College of Southern Nevada Women's Cross Country and Distance Track  UCI Steve Scott Invitational
DESCRIPTION:College of Southern Nevada Women’s Cross Country and Distance Track  UCI Steve Scott Invitational
URL:https://news.csn.edu/event/college-of-southern-nevada-womens-cross-country-and-distance-track-uci-steve-scott-invitational/
LOCATION:Irvine\, CA
CATEGORIES:Women's Cross Country
END:VEVENT
BEGIN:VEVENT
DTSTART;TZID=UTC:20260501T210000
DTEND;TZID=UTC:20260502T210000
DTSTAMP:20260419T061751
CREATED:20260215T051736Z
LAST-MODIFIED:20260215T051736Z
UID:10009397-1777669200-1777755600@news.csn.edu
SUMMARY:College of Southern Nevada Men's Cross Country and Distance Track  UCI Steve Scott Invitational
DESCRIPTION:College of Southern Nevada Men’s Cross Country and Distance Track  UCI Steve Scott Invitational
URL:https://news.csn.edu/event/college-of-southern-nevada-mens-cross-country-and-distance-track-uci-steve-scott-invitational/
LOCATION:Irvine\, CA
CATEGORIES:Men's Cross Country
END:VEVENT
BEGIN:VEVENT
DTSTART;TZID=UTC:20260501T213000
DTEND;TZID=UTC:20260502T003000
DTSTAMP:20260419T061751
CREATED:20251227T121530Z
LAST-MODIFIED:20251227T121530Z
UID:10009058-1777671000-1777681800@news.csn.edu
SUMMARY:College of Southern Nevada Baseball at Eastern Arizona College
DESCRIPTION:College of Southern Nevada Baseball at Eastern Arizona College
URL:https://news.csn.edu/event/college-of-southern-nevada-baseball-at-eastern-arizona-college-2/
LOCATION:Thatcher\, AZ
CATEGORIES:Baseball
END:VEVENT
BEGIN:VEVENT
DTSTART;TZID=America/Los_Angeles:20260502T100000
DTEND;TZID=America/Los_Angeles:20260502T160000
DTSTAMP:20260419T061751
CREATED:20260212T171405Z
LAST-MODIFIED:20260212T171405Z
UID:10009336-1777716000-1777737600@news.csn.edu
SUMMARY:Transmitting Figures
DESCRIPTION:Sapira Cheuk \nFriday\, February 27 – Saturday\, May 2\, 2026 \nGallery Talk & Artist Reception:\nWednesday\, April 1 • 6 p.m. \nGallery Hours:\nMonday through Friday • 9:00 a.m. to 6:00 p.m.\nSaturday 10:00 a.m. to 4:00 p.m.\nAll CSN art gallery events are tree\, family friendly & open to the public. \nFor more information please call: 702.651.4146\nartgallery@csn.edu • www.csn.edu/artgallery \nDirections: The Fine Arts Gallery is located adjacent to the Nicholas J. Horn Theatre Lobby on the North Las Vegas Campus of the College of Southern Nevada\n3200 E. Cheyenne Ave. • North Las Vegas\, NV 89030
URL:https://news.csn.edu/event/transmitting-figures-56/
LOCATION:CSN Fine Arts Gallery\, 3200 E. Cheyenne Avenue\, North Las Vegas\, 89030\, United States
CATEGORIES:Arts
ATTACH;FMTTYPE=image/jpeg:https://news.csn.edu/wp-content/uploads/2026/02/transmitting-figures.jpg
END:VEVENT
BEGIN:VEVENT
DTSTART;TZID=UTC:20260502T180000
DTEND;TZID=UTC:20260502T200000
DTSTAMP:20260419T061751
CREATED:20251227T063459Z
LAST-MODIFIED:20251227T063459Z
UID:10009009-1777744800-1777752000@news.csn.edu
SUMMARY:College of Southern Nevada Softball at Eastern Arizona College
DESCRIPTION:College of Southern Nevada Softball at Eastern Arizona College
URL:https://news.csn.edu/event/college-of-southern-nevada-softball-at-eastern-arizona-college-3/
LOCATION:Thatcher\, AZ
END:VEVENT
BEGIN:VEVENT
DTSTART;TZID=UTC:20260502T190000
DTEND;TZID=UTC:20260502T220000
DTSTAMP:20260419T061751
CREATED:20251227T121530Z
LAST-MODIFIED:20251227T121530Z
UID:10009059-1777748400-1777759200@news.csn.edu
SUMMARY:College of Southern Nevada Baseball at Eastern Arizona College
DESCRIPTION:College of Southern Nevada Baseball at Eastern Arizona College
URL:https://news.csn.edu/event/college-of-southern-nevada-baseball-at-eastern-arizona-college-3/
LOCATION:Thatcher\, AZ
CATEGORIES:Baseball
END:VEVENT
BEGIN:VEVENT
DTSTART;TZID=UTC:20260502T200000
DTEND;TZID=UTC:20260502T220000
DTSTAMP:20260419T061751
CREATED:20251227T063459Z
LAST-MODIFIED:20251227T063459Z
UID:10009010-1777752000-1777759200@news.csn.edu
SUMMARY:College of Southern Nevada Softball at Eastern Arizona College
DESCRIPTION:College of Southern Nevada Softball at Eastern Arizona College
URL:https://news.csn.edu/event/college-of-southern-nevada-softball-at-eastern-arizona-college-4/
LOCATION:Thatcher\, AZ
END:VEVENT
END:VCALENDAR