BEGIN:VCALENDAR
VERSION:2.0
PRODID:-//College of Southern Nevada - ECPv6.15.13//NONSGML v1.0//EN
CALSCALE:GREGORIAN
METHOD:PUBLISH
X-WR-CALNAME:College of Southern Nevada
X-ORIGINAL-URL:https://news.csn.edu
X-WR-CALDESC:Events for College of Southern Nevada
REFRESH-INTERVAL;VALUE=DURATION:PT1H
X-Robots-Tag:noindex
X-PUBLISHED-TTL:PT1H
BEGIN:VTIMEZONE
TZID:UTC
BEGIN:STANDARD
TZOFFSETFROM:+0000
TZOFFSETTO:+0000
TZNAME:UTC
DTSTART:20250101T000000
END:STANDARD
END:VTIMEZONE
BEGIN:VTIMEZONE
TZID:America/Los_Angeles
BEGIN:DAYLIGHT
TZOFFSETFROM:-0800
TZOFFSETTO:-0700
TZNAME:PDT
DTSTART:20250309T100000
END:DAYLIGHT
BEGIN:STANDARD
TZOFFSETFROM:-0700
TZOFFSETTO:-0800
TZNAME:PST
DTSTART:20251102T090000
END:STANDARD
BEGIN:DAYLIGHT
TZOFFSETFROM:-0800
TZOFFSETTO:-0700
TZNAME:PDT
DTSTART:20260308T100000
END:DAYLIGHT
BEGIN:STANDARD
TZOFFSETFROM:-0700
TZOFFSETTO:-0800
TZNAME:PST
DTSTART:20261101T090000
END:STANDARD
BEGIN:DAYLIGHT
TZOFFSETFROM:-0800
TZOFFSETTO:-0700
TZNAME:PDT
DTSTART:20270314T100000
END:DAYLIGHT
BEGIN:STANDARD
TZOFFSETFROM:-0700
TZOFFSETTO:-0800
TZNAME:PST
DTSTART:20271107T090000
END:STANDARD
END:VTIMEZONE
BEGIN:VEVENT
DTSTART;VALUE=DATE:20260507
DTEND;VALUE=DATE:20260509
DTSTAMP:20260419T074418
CREATED:20251227T121530Z
LAST-MODIFIED:20251227T121530Z
UID:10009060-1778112000-1778284799@news.csn.edu
SUMMARY:College of Southern Nevada Baseball vs TBA
DESCRIPTION:College of Southern Nevada Baseball vs TBA
URL:https://news.csn.edu/event/college-of-southern-nevada-baseball-vs-tba-2/
LOCATION:NV
CATEGORIES:Baseball
END:VEVENT
BEGIN:VEVENT
DTSTART;VALUE=DATE:20260508
DTEND;VALUE=DATE:20260509
DTSTAMP:20260419T074418
CREATED:20251227T063459Z
LAST-MODIFIED:20251227T063459Z
UID:10009011-1778198400-1778284799@news.csn.edu
SUMMARY:College of Southern Nevada Softball vs TBA
DESCRIPTION:College of Southern Nevada Softball vs TBA
URL:https://news.csn.edu/event/college-of-southern-nevada-softball-vs-tba/
LOCATION:NV
END:VEVENT
BEGIN:VEVENT
DTSTART;VALUE=DATE:20260508
DTEND;VALUE=DATE:20260509
DTSTAMP:20260419T074418
CREATED:20260214T151739Z
LAST-MODIFIED:20260214T151739Z
UID:10009390-1778198400-1778284799@news.csn.edu
SUMMARY:College of Southern Nevada Women's Cross Country and Distance Track  APU Franson Last Chance Invitational
DESCRIPTION:College of Southern Nevada Women’s Cross Country and Distance Track  APU Franson Last Chance Invitational
URL:https://news.csn.edu/event/college-of-southern-nevada-womens-cross-country-and-distance-track-apu-franson-last-chance-invitational/
LOCATION:Azusa\, CA
CATEGORIES:Women's Cross Country
END:VEVENT
BEGIN:VEVENT
DTSTART;VALUE=DATE:20260508
DTEND;VALUE=DATE:20260509
DTSTAMP:20260419T074418
CREATED:20260215T051736Z
LAST-MODIFIED:20260215T051736Z
UID:10009398-1778198400-1778284799@news.csn.edu
SUMMARY:College of Southern Nevada Men's Cross Country and Distance Track  APU Franson Last Chance Invitational
DESCRIPTION:College of Southern Nevada Men’s Cross Country and Distance Track  APU Franson Last Chance Invitational
URL:https://news.csn.edu/event/college-of-southern-nevada-mens-cross-country-and-distance-track-apu-franson-last-chance-invitational/
LOCATION:Azusa\, CA
CATEGORIES:Men's Cross Country
END:VEVENT
BEGIN:VEVENT
DTSTART;TZID=America/Los_Angeles:20260508T080000
DTEND;TZID=America/Los_Angeles:20260508T170000
DTSTAMP:20260419T074418
CREATED:20260131T000702Z
LAST-MODIFIED:20260131T000702Z
UID:10009225-1778227200-1778259600@news.csn.edu
SUMMARY:To The Left
DESCRIPTION:Participating Artists:\nAimee Coello\, Camile Lovaz\, Rose Miller\, Niko Navalta\, Jessica Samaniego\, Bella Sanabria\, Montaysia Yuneek and Arianna Zaremehrjardi \nFri.\, Feb. 13 – Sat.\, June 20\, 2026\nPanel Discussion and Artist Reception: Thurs.\, June 11 at 6 p.m.\nThe Debra March Center of Excellence\n2200 Via Inspirada\, Henderson\, NV 89044 \nGallery Hours:\nMonday through Friday 8 a.m. to 5 p.m.\nGallery is closed Saturday\, Sunday\, Nevada state holidays and between CSN academic terms.\nAll CSN art gallery events are free\, family friendly and open to the public. \nFor exhibition information\, please email: artgallery@csn.edu or call 702.651.4146\nFor building access and hours\,\nplease call 702-651-3727 | Website: www.csn.edu/artgallery
URL:https://news.csn.edu/event/to-the-left-61/
LOCATION:Debra March Center of Excellence\, 2200 Via Inspirada\, Henderson\, NV\, 89044\, United States
CATEGORIES:Arts
ATTACH;FMTTYPE=image/jpeg:https://news.csn.edu/wp-content/uploads/2026/01/to-the-left-flyer.jpg
END:VEVENT
BEGIN:VEVENT
DTSTART;TZID=America/Los_Angeles:20260508T083000
DTEND;TZID=America/Los_Angeles:20260508T223000
DTSTAMP:20260419T074418
CREATED:20260413T155134Z
LAST-MODIFIED:20260413T155134Z
UID:10010505-1778229000-1778279400@news.csn.edu
SUMMARY:ART 298: Portfolio Emphasis Spring 2026 Exhibition
DESCRIPTION:“Eerily Beautiful”\nFriday\, May 8\, 2026\, through Saturday\, June 13\, 2026\nNorth Las Vegas Campus – Artspace Gallery \nCSN’s Artspace Gallery is free\, family-friendly\, and open to the public. Gallery hours are from 8 a.m. to 10:30 p.m. Monday through Friday and 8 a.m. to 5 p.m. Saturday. The Artspace Gallery is upstairs above the main entrance lobby on the North Las Vegas campus\, located at 3200 E. Cheyenne Avenue\, one mile East of I-15 North. \nFor more information\, please call (702) 651-4146 or visit us at:http://www.csn.edu/artgallery
URL:https://news.csn.edu/event/art-298-portfolio-emphasis-spring-2026-exhibition/2026-05-08/
LOCATION:CSN Artspace Gallery\, 3200 E. Cheyenne Avenue\, North Las Vegas\, 89030\, United States
CATEGORIES:Arts
ATTACH;FMTTYPE=image/jpeg:https://news.csn.edu/wp-content/uploads/2026/04/art298.jpg
END:VEVENT
BEGIN:VEVENT
DTSTART;TZID=America/Los_Angeles:20260508T170000
DTEND;TZID=America/Los_Angeles:20260508T193000
DTSTAMP:20260419T074418
CREATED:20260415T200649Z
LAST-MODIFIED:20260415T200917Z
UID:10010852-1778259600-1778268600@news.csn.edu
SUMMARY:Spring 2026 Communication Department Public Speaking Festival
DESCRIPTION:The Public Speaking Festival is the Communication Department’s biannual showcase of student speeches across CSN! Professors from all COM 101 courses pick student speeches to compete against each other in 3 rounds\, and have their speeches judged by a panel of CSN and student judges. \nIn the end\, there are 6 finalists\, 3 for Informative speeches and 3 for Persuasive speeches. This is our opportunity to celebrate and encourage continual student achievement within the Communication Department. The final round is open to the public and is judged not by students but by a panel of “Celebrity Judges”\, prominent community members who lend their time and expertise to adjudicate speeches. \nScan the QR code if you are interested in joining the Public Speaking contest!
URL:https://news.csn.edu/event/spring-2026-communication-department-public-speaking-festival/
LOCATION:Charleston Campus Building K\, 6375 W. Charleston Blvd\, Las Vegas\, NV\, 89146\, United States
CATEGORIES:Community,Cultural Event,Employees,Student life
ATTACH;FMTTYPE=image/png:https://news.csn.edu/wp-content/uploads/2026/04/Flyer.pdf.png
END:VEVENT
BEGIN:VEVENT
DTSTART;TZID=America/Los_Angeles:20260508T180000
DTEND;TZID=America/Los_Angeles:20260508T200000
DTSTAMP:20260419T074418
CREATED:20260316T001055Z
LAST-MODIFIED:20260316T001746Z
UID:10009435-1778263200-1778270400@news.csn.edu
SUMMARY:Diverse Identities Graduation Celebrations: Latino Alliance
DESCRIPTION:Are you graduating this semester? CSN’s Civil & Cultural Engagement team is hosting a Farewell Celebration for graduating Coyotes of Latino/Hispanic identities on May 8th at the North Las Vegas Campus Horn Theatre at 6 PM! Scan the QR Code to RSVP to this or any Celebration you would like to attend! Join CSN as we celebrate YOU for the big day!
URL:https://news.csn.edu/event/diverse-identities-graduation-celebrations-latino-alliance/
LOCATION:CSN Horn Theatre\, 3200 East Cheyenne Avenue\, North Las Vegas\, NV\, 89122\, United States
CATEGORIES:Arts,Athletics,Community,Cultural Event,Employees,Sports,Student life
ATTACH;FMTTYPE=image/png:https://news.csn.edu/wp-content/uploads/2026/03/Diverse-Identities-Graduation-Celebration-Flyer-10.png
END:VEVENT
END:VCALENDAR