BEGIN:VCALENDAR
VERSION:2.0
PRODID:-//College of Southern Nevada - ECPv6.15.13//NONSGML v1.0//EN
CALSCALE:GREGORIAN
METHOD:PUBLISH
X-WR-CALNAME:College of Southern Nevada
X-ORIGINAL-URL:https://news.csn.edu
X-WR-CALDESC:Events for College of Southern Nevada
REFRESH-INTERVAL;VALUE=DURATION:PT1H
X-Robots-Tag:noindex
X-PUBLISHED-TTL:PT1H
BEGIN:VTIMEZONE
TZID:America/Los_Angeles
BEGIN:DAYLIGHT
TZOFFSETFROM:-0800
TZOFFSETTO:-0700
TZNAME:PDT
DTSTART:20250309T100000
END:DAYLIGHT
BEGIN:STANDARD
TZOFFSETFROM:-0700
TZOFFSETTO:-0800
TZNAME:PST
DTSTART:20251102T090000
END:STANDARD
BEGIN:DAYLIGHT
TZOFFSETFROM:-0800
TZOFFSETTO:-0700
TZNAME:PDT
DTSTART:20260308T100000
END:DAYLIGHT
BEGIN:STANDARD
TZOFFSETFROM:-0700
TZOFFSETTO:-0800
TZNAME:PST
DTSTART:20261101T090000
END:STANDARD
BEGIN:DAYLIGHT
TZOFFSETFROM:-0800
TZOFFSETTO:-0700
TZNAME:PDT
DTSTART:20270314T100000
END:DAYLIGHT
BEGIN:STANDARD
TZOFFSETFROM:-0700
TZOFFSETTO:-0800
TZNAME:PST
DTSTART:20271107T090000
END:STANDARD
END:VTIMEZONE
BEGIN:VEVENT
DTSTART;TZID=America/Los_Angeles:20260516T100000
DTEND;TZID=America/Los_Angeles:20260516T160000
DTSTAMP:20260419T074508
CREATED:20260326T164504Z
LAST-MODIFIED:20260326T164504Z
UID:10010497-1778925600-1778947200@news.csn.edu
SUMMARY:JURIED STUDENT EXHIBITION
DESCRIPTION:Department of Fine Arts 2026 \nFriday\, May 15 – Saturday\, June 20\, 2026 \nOpening Reception & Awards Celebration \nFriday\, May 15 • 6 – 8 p.m. \nA Salon de Refusés will take place in conjunction\nwith this exhibit in the Nicholas J. Horn Theatre Lobby. \nThe Fine Arts Gallery and the\nHorn Theatre Lobby Gallery \nGallery hours are from 9 a.m. to 6:00 p.m. Monday through Friday and 10 a.m. to 4 p.m. Saturday.
URL:https://news.csn.edu/event/juried-student-exhibition-2/2026-05-16/
LOCATION:CSN Performing Arts Center Horn Theatre\, 3200 E. Cheyenne Avenue\, North Las Vegas\, NV\, 89030\, United States
CATEGORIES:Arts
ATTACH;FMTTYPE=image/jpeg:https://news.csn.edu/wp-content/uploads/2026/03/juried.jpg
END:VEVENT
END:VCALENDAR