BEGIN:VCALENDAR
VERSION:2.0
PRODID:-//College of Southern Nevada - ECPv6.15.13//NONSGML v1.0//EN
CALSCALE:GREGORIAN
METHOD:PUBLISH
X-WR-CALNAME:College of Southern Nevada
X-ORIGINAL-URL:https://news.csn.edu
X-WR-CALDESC:Events for College of Southern Nevada
REFRESH-INTERVAL;VALUE=DURATION:PT1H
X-Robots-Tag:noindex
X-PUBLISHED-TTL:PT1H
BEGIN:VTIMEZONE
TZID:America/Los_Angeles
BEGIN:DAYLIGHT
TZOFFSETFROM:-0800
TZOFFSETTO:-0700
TZNAME:PDT
DTSTART:20250309T100000
END:DAYLIGHT
BEGIN:STANDARD
TZOFFSETFROM:-0700
TZOFFSETTO:-0800
TZNAME:PST
DTSTART:20251102T090000
END:STANDARD
BEGIN:DAYLIGHT
TZOFFSETFROM:-0800
TZOFFSETTO:-0700
TZNAME:PDT
DTSTART:20260308T100000
END:DAYLIGHT
BEGIN:STANDARD
TZOFFSETFROM:-0700
TZOFFSETTO:-0800
TZNAME:PST
DTSTART:20261101T090000
END:STANDARD
BEGIN:DAYLIGHT
TZOFFSETFROM:-0800
TZOFFSETTO:-0700
TZNAME:PDT
DTSTART:20270314T100000
END:DAYLIGHT
BEGIN:STANDARD
TZOFFSETFROM:-0700
TZOFFSETTO:-0800
TZNAME:PST
DTSTART:20271107T090000
END:STANDARD
END:VTIMEZONE
BEGIN:VTIMEZONE
TZID:UTC
BEGIN:STANDARD
TZOFFSETFROM:+0000
TZOFFSETTO:+0000
TZNAME:UTC
DTSTART:20250101T000000
END:STANDARD
END:VTIMEZONE
BEGIN:VEVENT
DTSTART;TZID=America/Los_Angeles:20260202T080000
DTEND;TZID=America/Los_Angeles:20260202T170000
DTSTAMP:20260424T015253
CREATED:20251013T170530Z
LAST-MODIFIED:20251013T170530Z
UID:10008604-1770019200-1770051600@news.csn.edu
SUMMARY:Beyond the Fence
DESCRIPTION:Fri.\, Oct. 17\, 2025 – Sat.\, Feb. 7\, 2026\nGallery Talk & Artist Reception: Tues.\, Feb. 3\, 2026 at 6-8 p.m.  \nThe Debra March Center of Excellence \n2200 Via Inspirada\, Henderson\, NV 89044
URL:https://news.csn.edu/event/beyond-the-fence-91/
LOCATION:Debra March Center of Excellence\, 2200 Via Inspirada\, Henderson\, NV\, 89044\, United States
CATEGORIES:Arts
ATTACH;FMTTYPE=image/jpeg:https://news.csn.edu/wp-content/uploads/2025/10/beyondthefence.jpg
END:VEVENT
BEGIN:VEVENT
DTSTART;TZID=America/Los_Angeles:20260202T080000
DTEND;TZID=America/Los_Angeles:20260202T223000
DTSTAMP:20260424T015253
CREATED:20251118T161528Z
LAST-MODIFIED:20251118T161528Z
UID:10008754-1770019200-1770071400@news.csn.edu
SUMMARY:ART 298: Portfolio Emphasis Fall 2025 Exhibition - “Memento”
DESCRIPTION:Friday\, December 5\, 2025\, through Saturday\, February 28\, 2026\nNorth Las Vegas Campus Artspace Gallery \nCSN’s Artspace Gallery is free\, family-friendly\, and open to the public. Gallery hours are from 8 a.m. to 10:30 p.m. Monday through Friday and 8 a.m. to 5 p.m. Saturday. \nThe Artspace Gallery is upstairs above the main entrance lobby on the North Las Vegas campus\, located at 3200 E. Cheyenne Avenue\, one mile East of I-15 North. \nFor more information\, please call (702) 651-4146 \nhttp://www.csn.edu/artgallery
URL:https://news.csn.edu/event/art-298-portfolio-emphasis-fall-2025-exhibition-memento-51/
LOCATION:North Las Vegas campus\, 3200 E. Cheyenne Avenue\, North Las Vegas\, NV\, 89122\, United States
CATEGORIES:Arts
ATTACH;FMTTYPE=image/jpeg:https://news.csn.edu/wp-content/uploads/2025/11/smlr.jpg
END:VEVENT
BEGIN:VEVENT
DTSTART;TZID=America/Los_Angeles:20260202T090000
DTEND;TZID=America/Los_Angeles:20260202T100000
DTSTAMP:20260424T015253
CREATED:20251013T205024Z
LAST-MODIFIED:20251013T234133Z
UID:10008628-1770022800-1770026400@news.csn.edu
SUMMARY:Mindful Balance group
DESCRIPTION:
URL:https://news.csn.edu/event/mindful-balance-group/2026-02-02/
LOCATION:NV
ATTACH;FMTTYPE=image/png:https://news.csn.edu/wp-content/uploads/2025/10/CAPS-Mindful-Balance-Group-Flyer-1.png
END:VEVENT
BEGIN:VEVENT
DTSTART;TZID=America/Los_Angeles:20260202T090000
DTEND;TZID=America/Los_Angeles:20260202T180000
DTSTAMP:20260424T015253
CREATED:20251120T183745Z
LAST-MODIFIED:20251120T183745Z
UID:10008821-1770022800-1770055200@news.csn.edu
SUMMARY:Christine Knize: Orchidelirium
DESCRIPTION:Friday\, December 12\, 2025\, through Saturday\, February 14\, 2026\nGallery Talk and Artist Reception: Friday\, December 12\, 2025\nNorth Las Vegas Campus • Fine Arts Gallery \nThe College of Southern Nevada\, School of Arts & Letters\, and Department of Fine Arts will host an exhibition of large-scale oil paintings by Florida-based artist Christine Knize. Christine Knize: Orchidelirium opens Friday\, December 12\, 2025\, and runs through Saturday\, February 14\, 2026\, in the Fine Arts Gallery on the North Las Vegas Campus of the College of Southern Nevada. A special Gallery Talk and Artist Reception\, with refreshments\, will take place on Friday\, December 12\, 2025\, at 6:00 pm. \nFor more information\, please call (702) 651-4146 \nhttp://www.csn.edu/artgallery
URL:https://news.csn.edu/event/christine-knize-orchidelirium-43/
LOCATION:North Las Vegas campus\, 3200 E. Cheyenne Avenue\, North Las Vegas\, NV\, 89122\, United States
CATEGORIES:Arts
ATTACH;FMTTYPE=image/jpeg:https://news.csn.edu/wp-content/uploads/2025/11/ck.jpg
END:VEVENT
BEGIN:VEVENT
DTSTART;TZID=America/Los_Angeles:20260203T080000
DTEND;TZID=America/Los_Angeles:20260203T170000
DTSTAMP:20260424T015253
CREATED:20251013T170603Z
LAST-MODIFIED:20251013T170603Z
UID:10008605-1770105600-1770138000@news.csn.edu
SUMMARY:Beyond the Fence
DESCRIPTION:Fri.\, Oct. 17\, 2025 – Sat.\, Feb. 7\, 2026\nGallery Talk & Artist Reception: Tues.\, Feb. 3\, 2026 at 6-8 p.m.  \nThe Debra March Center of Excellence \n2200 Via Inspirada\, Henderson\, NV 89044
URL:https://news.csn.edu/event/beyond-the-fence-92/
LOCATION:Debra March Center of Excellence\, 2200 Via Inspirada\, Henderson\, NV\, 89044\, United States
CATEGORIES:Arts
ATTACH;FMTTYPE=image/jpeg:https://news.csn.edu/wp-content/uploads/2025/10/beyondthefence.jpg
END:VEVENT
BEGIN:VEVENT
DTSTART;TZID=America/Los_Angeles:20260203T080000
DTEND;TZID=America/Los_Angeles:20260203T223000
DTSTAMP:20260424T015253
CREATED:20251118T161533Z
LAST-MODIFIED:20251118T161533Z
UID:10008755-1770105600-1770157800@news.csn.edu
SUMMARY:ART 298: Portfolio Emphasis Fall 2025 Exhibition - “Memento”
DESCRIPTION:Friday\, December 5\, 2025\, through Saturday\, February 28\, 2026\nNorth Las Vegas Campus Artspace Gallery \nCSN’s Artspace Gallery is free\, family-friendly\, and open to the public. Gallery hours are from 8 a.m. to 10:30 p.m. Monday through Friday and 8 a.m. to 5 p.m. Saturday. \nThe Artspace Gallery is upstairs above the main entrance lobby on the North Las Vegas campus\, located at 3200 E. Cheyenne Avenue\, one mile East of I-15 North. \nFor more information\, please call (702) 651-4146 \nhttp://www.csn.edu/artgallery
URL:https://news.csn.edu/event/art-298-portfolio-emphasis-fall-2025-exhibition-memento-52/
LOCATION:North Las Vegas campus\, 3200 E. Cheyenne Avenue\, North Las Vegas\, NV\, 89122\, United States
CATEGORIES:Arts
ATTACH;FMTTYPE=image/jpeg:https://news.csn.edu/wp-content/uploads/2025/11/smlr.jpg
END:VEVENT
BEGIN:VEVENT
DTSTART;TZID=America/Los_Angeles:20260203T081500
DTEND;TZID=America/Los_Angeles:20260203T084500
DTSTAMP:20260424T015253
CREATED:20251125T203238Z
LAST-MODIFIED:20251125T203238Z
UID:10008863-1770106500-1770108300@news.csn.edu
SUMMARY:Biscuits & Business
DESCRIPTION:﻿Biscuits & Business with the Career Services Director \nMeet the Career Services Director to get an insider look at all the resources available to you to ensure you maximize your time here and successfully launch your professional Career. \nQuestions?: Email career.services@csn.edu \ntinyurl.com/Sp26BiscuitsAndBusiness
URL:https://news.csn.edu/event/biscuits-business-3/
LOCATION:NV
CATEGORIES:Community
ATTACH;FMTTYPE=image/jpeg:https://news.csn.edu/wp-content/uploads/2025/11/biscuitsbusiness.jpg
END:VEVENT
BEGIN:VEVENT
DTSTART;TZID=America/Los_Angeles:20260203T090000
DTEND;TZID=America/Los_Angeles:20260203T100000
DTSTAMP:20260424T015253
CREATED:20251212T224319Z
LAST-MODIFIED:20251212T224319Z
UID:10008919-1770109200-1770112800@news.csn.edu
SUMMARY:BibliU Course Material Adoption Trainings
DESCRIPTION:BibliU will host three training opportunities to learn how to submit course material adoptions via their adoption portal. Trainings will be held on: \n\nFriday\, January 30th from 10am – 11am PST on teams\nTuesday\, February 3rd from 9-10am PST on teams\nThursday\, February 5th from 11am – noon PST on teams
URL:https://news.csn.edu/event/bibliu-course-material-adoption-trainings/2026-02-03/
LOCATION:Virtual
CATEGORIES:Employees
END:VEVENT
BEGIN:VEVENT
DTSTART;TZID=America/Los_Angeles:20260203T090000
DTEND;TZID=America/Los_Angeles:20260203T180000
DTSTAMP:20260424T015253
CREATED:20251120T183747Z
LAST-MODIFIED:20251120T183747Z
UID:10008820-1770109200-1770141600@news.csn.edu
SUMMARY:Christine Knize: Orchidelirium
DESCRIPTION:Friday\, December 12\, 2025\, through Saturday\, February 14\, 2026\nGallery Talk and Artist Reception: Friday\, December 12\, 2025\nNorth Las Vegas Campus • Fine Arts Gallery \nThe College of Southern Nevada\, School of Arts & Letters\, and Department of Fine Arts will host an exhibition of large-scale oil paintings by Florida-based artist Christine Knize. Christine Knize: Orchidelirium opens Friday\, December 12\, 2025\, and runs through Saturday\, February 14\, 2026\, in the Fine Arts Gallery on the North Las Vegas Campus of the College of Southern Nevada. A special Gallery Talk and Artist Reception\, with refreshments\, will take place on Friday\, December 12\, 2025\, at 6:00 pm. \nFor more information\, please call (702) 651-4146 \nhttp://www.csn.edu/artgallery
URL:https://news.csn.edu/event/christine-knize-orchidelirium-44/
LOCATION:North Las Vegas campus\, 3200 E. Cheyenne Avenue\, North Las Vegas\, NV\, 89122\, United States
CATEGORIES:Arts
ATTACH;FMTTYPE=image/jpeg:https://news.csn.edu/wp-content/uploads/2025/11/ck.jpg
END:VEVENT
BEGIN:VEVENT
DTSTART;TZID=America/Los_Angeles:20260203T130000
DTEND;TZID=America/Los_Angeles:20260203T143000
DTSTAMP:20260424T015253
CREATED:20251203T222113Z
LAST-MODIFIED:20251203T222248Z
UID:10008909-1770123600-1770129000@news.csn.edu
SUMMARY:Activate & Optimize
DESCRIPTION:https://forms.office.com/pages/responsepage.aspx?id=dNU137qfzkigc3N4aNd6SN55au-Weh1CoRsGU8A5fBhUN1hTQzJTTkk3S1REMjRBS0w2NkpVOVI2Ty4u&route=shorturl
URL:https://news.csn.edu/event/activate-optimize/2026-02-03/
LOCATION:Virtual
CATEGORIES:Student life
ATTACH;FMTTYPE=image/jpeg:https://news.csn.edu/wp-content/uploads/2025/12/Sp26-Activate-Optimize-Handshake-Workshop.jpg
END:VEVENT
BEGIN:VEVENT
DTSTART;TZID=America/Los_Angeles:20260203T180000
DTEND;TZID=America/Los_Angeles:20260203T200000
DTSTAMP:20260424T015253
CREATED:20251013T105055Z
LAST-MODIFIED:20251013T105055Z
UID:10008507-1770141600-1770148800@news.csn.edu
SUMMARY:CSN Art Galleries present: Beyond the Fence by Robin Stark Gallery Talk and Artist Reception
DESCRIPTION:
URL:https://news.csn.edu/event/csn-art-galleries-present-beyond-the-fence-by-robin-stark-gallery-talk-and-artist-reception/
LOCATION:Debra March Center of Excellence\, 2200 Via Inspirada\, Henderson\, NV\, 89044\, United States
CATEGORIES:Arts,Community,Cultural Event,Employees,Student life
ATTACH;FMTTYPE=image/jpeg:https://news.csn.edu/wp-content/uploads/2025/10/R.StarkMarquee-AT-LR-scaled.jpg
END:VEVENT
BEGIN:VEVENT
DTSTART;TZID=America/Los_Angeles:20260203T180000
DTEND;TZID=America/Los_Angeles:20260203T200000
DTSTAMP:20260424T015253
CREATED:20251013T170704Z
LAST-MODIFIED:20251013T170704Z
UID:10008610-1770141600-1770148800@news.csn.edu
SUMMARY:Beyond the Fence - Gallery Talk & Artist Reception
DESCRIPTION:Fri.\, Oct. 17\, 2025 – Sat.\, Feb. 7\, 2026\nGallery Talk & Artist Reception: Tues.\, Feb. 3\, 2026 at 6-8 p.m.  \nThe Debra March Center of Excellence \n2200 Via Inspirada\, Henderson\, NV 89044 \nGallery Talk & Artist Reception: Tues.\, Feb. 3\, 2026 at 6-8 p.m.
URL:https://news.csn.edu/event/beyond-the-fence-gallery-talk-artist-reception/
LOCATION:Debra March Center of Excellence\, 2200 Via Inspirada\, Henderson\, NV\, 89044\, United States
CATEGORIES:Arts
ATTACH;FMTTYPE=image/jpeg:https://news.csn.edu/wp-content/uploads/2025/10/beyondthefence.jpg
END:VEVENT
BEGIN:VEVENT
DTSTART;TZID=America/Los_Angeles:20260204T080000
DTEND;TZID=America/Los_Angeles:20260204T170000
DTSTAMP:20260424T015253
CREATED:20251013T170606Z
LAST-MODIFIED:20251013T170606Z
UID:10008606-1770192000-1770224400@news.csn.edu
SUMMARY:Beyond the Fence
DESCRIPTION:Fri.\, Oct. 17\, 2025 – Sat.\, Feb. 7\, 2026\nGallery Talk & Artist Reception: Tues.\, Feb. 3\, 2026 at 6-8 p.m.  \nThe Debra March Center of Excellence \n2200 Via Inspirada\, Henderson\, NV 89044
URL:https://news.csn.edu/event/beyond-the-fence-93/
LOCATION:Debra March Center of Excellence\, 2200 Via Inspirada\, Henderson\, NV\, 89044\, United States
CATEGORIES:Arts
ATTACH;FMTTYPE=image/jpeg:https://news.csn.edu/wp-content/uploads/2025/10/beyondthefence.jpg
END:VEVENT
BEGIN:VEVENT
DTSTART;TZID=America/Los_Angeles:20260204T080000
DTEND;TZID=America/Los_Angeles:20260204T223000
DTSTAMP:20260424T015253
CREATED:20251118T161537Z
LAST-MODIFIED:20251118T161537Z
UID:10008753-1770192000-1770244200@news.csn.edu
SUMMARY:ART 298: Portfolio Emphasis Fall 2025 Exhibition - “Memento”
DESCRIPTION:Friday\, December 5\, 2025\, through Saturday\, February 28\, 2026\nNorth Las Vegas Campus Artspace Gallery \nCSN’s Artspace Gallery is free\, family-friendly\, and open to the public. Gallery hours are from 8 a.m. to 10:30 p.m. Monday through Friday and 8 a.m. to 5 p.m. Saturday. \nThe Artspace Gallery is upstairs above the main entrance lobby on the North Las Vegas campus\, located at 3200 E. Cheyenne Avenue\, one mile East of I-15 North. \nFor more information\, please call (702) 651-4146 \nhttp://www.csn.edu/artgallery
URL:https://news.csn.edu/event/art-298-portfolio-emphasis-fall-2025-exhibition-memento-53/
LOCATION:North Las Vegas campus\, 3200 E. Cheyenne Avenue\, North Las Vegas\, NV\, 89122\, United States
CATEGORIES:Arts
ATTACH;FMTTYPE=image/jpeg:https://news.csn.edu/wp-content/uploads/2025/11/smlr.jpg
END:VEVENT
BEGIN:VEVENT
DTSTART;TZID=America/Los_Angeles:20260204T090000
DTEND;TZID=America/Los_Angeles:20260204T180000
DTSTAMP:20260424T015253
CREATED:20251120T183753Z
LAST-MODIFIED:20251120T183753Z
UID:10008822-1770195600-1770228000@news.csn.edu
SUMMARY:Christine Knize: Orchidelirium
DESCRIPTION:Friday\, December 12\, 2025\, through Saturday\, February 14\, 2026\nGallery Talk and Artist Reception: Friday\, December 12\, 2025\nNorth Las Vegas Campus • Fine Arts Gallery \nThe College of Southern Nevada\, School of Arts & Letters\, and Department of Fine Arts will host an exhibition of large-scale oil paintings by Florida-based artist Christine Knize. Christine Knize: Orchidelirium opens Friday\, December 12\, 2025\, and runs through Saturday\, February 14\, 2026\, in the Fine Arts Gallery on the North Las Vegas Campus of the College of Southern Nevada. A special Gallery Talk and Artist Reception\, with refreshments\, will take place on Friday\, December 12\, 2025\, at 6:00 pm. \nFor more information\, please call (702) 651-4146 \nhttp://www.csn.edu/artgallery
URL:https://news.csn.edu/event/christine-knize-orchidelirium-45/
LOCATION:North Las Vegas campus\, 3200 E. Cheyenne Avenue\, North Las Vegas\, NV\, 89122\, United States
CATEGORIES:Arts
ATTACH;FMTTYPE=image/jpeg:https://news.csn.edu/wp-content/uploads/2025/11/ck.jpg
END:VEVENT
BEGIN:VEVENT
DTSTART;TZID=America/Los_Angeles:20260204T110000
DTEND;TZID=America/Los_Angeles:20260204T120000
DTSTAMP:20260424T015253
CREATED:20251125T211720Z
LAST-MODIFIED:20251125T211720Z
UID:10008880-1770202800-1770206400@news.csn.edu
SUMMARY:From Draft to Done Resume & Cover Letter Workshop
DESCRIPTION:Questions?: Email career.services@csn.edu \nRSVP: https://forms.office.com/pages/responsepage.aspx?id=dNU137qfzkigc3N4aNd6SN55au-Weh1CoRsGU8A5fBhUNjAwMzlYVElaSVA0SURDMkJCOEVHSFhWRS4u&route=shorturl \n 
URL:https://news.csn.edu/event/from-draft-to-done-resume-cover-letter-workshop/2026-02-04/
LOCATION:NV
CATEGORIES:Community
ATTACH;FMTTYPE=image/jpeg:https://news.csn.edu/wp-content/uploads/2025/11/Sp26-From-Draft-to-Done-Resume-Workshop-scaled.jpg
END:VEVENT
BEGIN:VEVENT
DTSTART;TZID=America/Los_Angeles:20260204T150000
DTEND;TZID=America/Los_Angeles:20260204T160000
DTSTAMP:20260424T015253
CREATED:20250822T165932Z
LAST-MODIFIED:20250822T170007Z
UID:10008339-1770217200-1770220800@news.csn.edu
SUMMARY:Thrive Support Group (CAPS) - Henderson
DESCRIPTION:
URL:https://news.csn.edu/event/thrive-support-group-caps-henderson/2026-02-04/
LOCATION:Henderson Campus\, 700 College Drive\, Henderson\, NV\, 89146\, United States
ATTACH;FMTTYPE=image/png:https://news.csn.edu/wp-content/uploads/2025/08/Fa25-Thrive-Support-Group-HEN.png
END:VEVENT
BEGIN:VEVENT
DTSTART;TZID=UTC:20260205T013000
DTEND;TZID=UTC:20260205T033000
DTSTAMP:20260424T015253
CREATED:20251127T071902Z
LAST-MODIFIED:20251127T071902Z
UID:10008899-1770255000-1770262200@news.csn.edu
SUMMARY:College of Southern Nevada Women's Basketball vs Arizona Western College
DESCRIPTION:College of Southern Nevada Women’s Basketball vs Arizona Western College
URL:https://news.csn.edu/event/college-of-southern-nevada-womens-basketball-vs-arizona-western-college-3/
LOCATION:North Las Vegas\, NV\, CSN Sports Center
CATEGORIES:Women's Basketball
END:VEVENT
BEGIN:VEVENT
DTSTART;TZID=UTC:20260205T033000
DTEND;TZID=UTC:20260205T053000
DTSTAMP:20260424T015253
CREATED:20251121T201635Z
LAST-MODIFIED:20251121T201635Z
UID:10008846-1770262200-1770269400@news.csn.edu
SUMMARY:College of Southern Nevada Men's Basketball vs Arizona Western College
DESCRIPTION:College of Southern Nevada Men’s Basketball vs Arizona Western College
URL:https://news.csn.edu/event/college-of-southern-nevada-mens-basketball-vs-arizona-western-college-3/
LOCATION:North Las Vegas\, NV\, Coyote Event Center
CATEGORIES:Men's Basketball
END:VEVENT
BEGIN:VEVENT
DTSTART;TZID=America/Los_Angeles:20260205T080000
DTEND;TZID=America/Los_Angeles:20260205T170000
DTSTAMP:20260424T015253
CREATED:20251013T170610Z
LAST-MODIFIED:20251013T170610Z
UID:10008607-1770278400-1770310800@news.csn.edu
SUMMARY:Beyond the Fence
DESCRIPTION:Fri.\, Oct. 17\, 2025 – Sat.\, Feb. 7\, 2026\nGallery Talk & Artist Reception: Tues.\, Feb. 3\, 2026 at 6-8 p.m.  \nThe Debra March Center of Excellence \n2200 Via Inspirada\, Henderson\, NV 89044
URL:https://news.csn.edu/event/beyond-the-fence-94/
LOCATION:Debra March Center of Excellence\, 2200 Via Inspirada\, Henderson\, NV\, 89044\, United States
CATEGORIES:Arts
ATTACH;FMTTYPE=image/jpeg:https://news.csn.edu/wp-content/uploads/2025/10/beyondthefence.jpg
END:VEVENT
BEGIN:VEVENT
DTSTART;TZID=America/Los_Angeles:20260205T080000
DTEND;TZID=America/Los_Angeles:20260205T223000
DTSTAMP:20260424T015253
CREATED:20251118T161543Z
LAST-MODIFIED:20251118T161543Z
UID:10008756-1770278400-1770330600@news.csn.edu
SUMMARY:ART 298: Portfolio Emphasis Fall 2025 Exhibition - “Memento”
DESCRIPTION:Friday\, December 5\, 2025\, through Saturday\, February 28\, 2026\nNorth Las Vegas Campus Artspace Gallery \nCSN’s Artspace Gallery is free\, family-friendly\, and open to the public. Gallery hours are from 8 a.m. to 10:30 p.m. Monday through Friday and 8 a.m. to 5 p.m. Saturday. \nThe Artspace Gallery is upstairs above the main entrance lobby on the North Las Vegas campus\, located at 3200 E. Cheyenne Avenue\, one mile East of I-15 North. \nFor more information\, please call (702) 651-4146 \nhttp://www.csn.edu/artgallery
URL:https://news.csn.edu/event/art-298-portfolio-emphasis-fall-2025-exhibition-memento-54/
LOCATION:North Las Vegas campus\, 3200 E. Cheyenne Avenue\, North Las Vegas\, NV\, 89122\, United States
CATEGORIES:Arts
ATTACH;FMTTYPE=image/jpeg:https://news.csn.edu/wp-content/uploads/2025/11/smlr.jpg
END:VEVENT
BEGIN:VEVENT
DTSTART;TZID=America/Los_Angeles:20260205T090000
DTEND;TZID=America/Los_Angeles:20260205T180000
DTSTAMP:20260424T015253
CREATED:20251120T183756Z
LAST-MODIFIED:20251120T183756Z
UID:10008824-1770282000-1770314400@news.csn.edu
SUMMARY:Christine Knize: Orchidelirium
DESCRIPTION:Friday\, December 12\, 2025\, through Saturday\, February 14\, 2026\nGallery Talk and Artist Reception: Friday\, December 12\, 2025\nNorth Las Vegas Campus • Fine Arts Gallery \nThe College of Southern Nevada\, School of Arts & Letters\, and Department of Fine Arts will host an exhibition of large-scale oil paintings by Florida-based artist Christine Knize. Christine Knize: Orchidelirium opens Friday\, December 12\, 2025\, and runs through Saturday\, February 14\, 2026\, in the Fine Arts Gallery on the North Las Vegas Campus of the College of Southern Nevada. A special Gallery Talk and Artist Reception\, with refreshments\, will take place on Friday\, December 12\, 2025\, at 6:00 pm. \nFor more information\, please call (702) 651-4146 \nhttp://www.csn.edu/artgallery
URL:https://news.csn.edu/event/christine-knize-orchidelirium-46/
LOCATION:North Las Vegas campus\, 3200 E. Cheyenne Avenue\, North Las Vegas\, NV\, 89122\, United States
CATEGORIES:Arts
ATTACH;FMTTYPE=image/jpeg:https://news.csn.edu/wp-content/uploads/2025/11/ck.jpg
END:VEVENT
BEGIN:VEVENT
DTSTART;TZID=UTC:20260206T020000
DTEND;TZID=UTC:20260206T050000
DTSTAMP:20260424T015253
CREATED:20251227T121528Z
LAST-MODIFIED:20251227T121528Z
UID:10009020-1770343200-1770354000@news.csn.edu
SUMMARY:College of Southern Nevada Baseball vs Gateway Community College
DESCRIPTION:College of Southern Nevada Baseball vs Gateway Community College
URL:https://news.csn.edu/event/college-of-southern-nevada-baseball-vs-gateway-community-college-2/
LOCATION:Henderson\, NV\, Morse Stadium
CATEGORIES:Baseball
END:VEVENT
BEGIN:VEVENT
DTSTART;TZID=America/Los_Angeles:20260206T080000
DTEND;TZID=America/Los_Angeles:20260206T170000
DTSTAMP:20260424T015253
CREATED:20251013T170614Z
LAST-MODIFIED:20251013T170614Z
UID:10008608-1770364800-1770397200@news.csn.edu
SUMMARY:Beyond the Fence
DESCRIPTION:Fri.\, Oct. 17\, 2025 – Sat.\, Feb. 7\, 2026\nGallery Talk & Artist Reception: Tues.\, Feb. 3\, 2026 at 6-8 p.m.  \nThe Debra March Center of Excellence \n2200 Via Inspirada\, Henderson\, NV 89044
URL:https://news.csn.edu/event/beyond-the-fence-95/
LOCATION:Debra March Center of Excellence\, 2200 Via Inspirada\, Henderson\, NV\, 89044\, United States
CATEGORIES:Arts
ATTACH;FMTTYPE=image/jpeg:https://news.csn.edu/wp-content/uploads/2025/10/beyondthefence.jpg
END:VEVENT
BEGIN:VEVENT
DTSTART;TZID=America/Los_Angeles:20260206T080000
DTEND;TZID=America/Los_Angeles:20260206T170000
DTSTAMP:20260424T015253
CREATED:20260116T224956Z
LAST-MODIFIED:20260116T224956Z
UID:10009068-1770364800-1770397200@news.csn.edu
SUMMARY:Active Assailant Safety Training
DESCRIPTION:Join the University Police Department for an 8-hour\, hands-on Active Assailant Training designed to help participants develop practical response strategies and confidence in high-stress situations. This interactive\, scenario-based course focuses on preparedness\, situational awareness\, and coordinated response techniques. Participants will engage in guided activities and discussions to better understand how to react safely and effectively during critical incidents.
URL:https://news.csn.edu/event/active-assailant-safety-training/
LOCATION:Nevada State University\, 1300 Nevada State Dr\, Henderson\, NV\, 89002\, United States
CATEGORIES:Athletics,Community,Employees,Student life
ATTACH;FMTTYPE=image/png:https://news.csn.edu/wp-content/uploads/2026/01/AAT-FEB-6-2026-FLYER.png
END:VEVENT
BEGIN:VEVENT
DTSTART;TZID=America/Los_Angeles:20260206T080000
DTEND;TZID=America/Los_Angeles:20260206T223000
DTSTAMP:20260424T015253
CREATED:20251118T161549Z
LAST-MODIFIED:20251118T161549Z
UID:10008757-1770364800-1770417000@news.csn.edu
SUMMARY:ART 298: Portfolio Emphasis Fall 2025 Exhibition - “Memento”
DESCRIPTION:Friday\, December 5\, 2025\, through Saturday\, February 28\, 2026\nNorth Las Vegas Campus Artspace Gallery \nCSN’s Artspace Gallery is free\, family-friendly\, and open to the public. Gallery hours are from 8 a.m. to 10:30 p.m. Monday through Friday and 8 a.m. to 5 p.m. Saturday. \nThe Artspace Gallery is upstairs above the main entrance lobby on the North Las Vegas campus\, located at 3200 E. Cheyenne Avenue\, one mile East of I-15 North. \nFor more information\, please call (702) 651-4146 \nhttp://www.csn.edu/artgallery
URL:https://news.csn.edu/event/art-298-portfolio-emphasis-fall-2025-exhibition-memento-55/
LOCATION:North Las Vegas campus\, 3200 E. Cheyenne Avenue\, North Las Vegas\, NV\, 89122\, United States
CATEGORIES:Arts
ATTACH;FMTTYPE=image/jpeg:https://news.csn.edu/wp-content/uploads/2025/11/smlr.jpg
END:VEVENT
BEGIN:VEVENT
DTSTART;TZID=America/Los_Angeles:20260206T090000
DTEND;TZID=America/Los_Angeles:20260206T180000
DTSTAMP:20260424T015253
CREATED:20251120T183802Z
LAST-MODIFIED:20251120T183802Z
UID:10008823-1770368400-1770400800@news.csn.edu
SUMMARY:Christine Knize: Orchidelirium
DESCRIPTION:Friday\, December 12\, 2025\, through Saturday\, February 14\, 2026\nGallery Talk and Artist Reception: Friday\, December 12\, 2025\nNorth Las Vegas Campus • Fine Arts Gallery \nThe College of Southern Nevada\, School of Arts & Letters\, and Department of Fine Arts will host an exhibition of large-scale oil paintings by Florida-based artist Christine Knize. Christine Knize: Orchidelirium opens Friday\, December 12\, 2025\, and runs through Saturday\, February 14\, 2026\, in the Fine Arts Gallery on the North Las Vegas Campus of the College of Southern Nevada. A special Gallery Talk and Artist Reception\, with refreshments\, will take place on Friday\, December 12\, 2025\, at 6:00 pm. \nFor more information\, please call (702) 651-4146 \nhttp://www.csn.edu/artgallery
URL:https://news.csn.edu/event/christine-knize-orchidelirium-47/
LOCATION:North Las Vegas campus\, 3200 E. Cheyenne Avenue\, North Las Vegas\, NV\, 89122\, United States
CATEGORIES:Arts
ATTACH;FMTTYPE=image/jpeg:https://news.csn.edu/wp-content/uploads/2025/11/ck.jpg
END:VEVENT
BEGIN:VEVENT
DTSTART;TZID=America/Los_Angeles:20260206T110000
DTEND;TZID=America/Los_Angeles:20260206T130000
DTSTAMP:20260424T015253
CREATED:20251223T054345Z
LAST-MODIFIED:20251223T054345Z
UID:10008975-1770375600-1770382800@news.csn.edu
SUMMARY:Spring 2026 ASCSN Senate Meetings
DESCRIPTION:ASCSN advocates for the academic and social success of students by promoting inclusivity and connecting them to community resources. Come join us for an informative meeting of promoting the success of CSN Students in campus life\, clubs\, organizations and community involvement!
URL:https://news.csn.edu/event/spring-2026-ascsn-senate-meetings/2026-02-06/
LOCATION:Charleston Campus Student Union Room 130\, 6375 W. Charleston\, Las Vegas\, 89146\, United States
CATEGORIES:Community,Cultural Event,Student life
ATTACH;FMTTYPE=image/png:https://news.csn.edu/wp-content/uploads/2025/12/ASCSN-Sp26-Senate-Meetings.png
END:VEVENT
BEGIN:VEVENT
DTSTART;TZID=UTC:20260206T200000
DTEND;TZID=UTC:20260206T230000
DTSTAMP:20260424T015253
CREATED:20251227T121528Z
LAST-MODIFIED:20251227T121528Z
UID:10009021-1770408000-1770418800@news.csn.edu
SUMMARY:College of Southern Nevada Baseball vs Gateway Community College
DESCRIPTION:College of Southern Nevada Baseball vs Gateway Community College
URL:https://news.csn.edu/event/college-of-southern-nevada-baseball-vs-gateway-community-college-3/
LOCATION:Henderson\, NV\, Morse Stadium
CATEGORIES:Baseball
END:VEVENT
BEGIN:VEVENT
DTSTART;TZID=UTC:20260206T223000
DTEND;TZID=UTC:20260207T013000
DTSTAMP:20260424T015253
CREATED:20251227T121528Z
LAST-MODIFIED:20251227T121528Z
UID:10009022-1770417000-1770427800@news.csn.edu
SUMMARY:College of Southern Nevada Baseball vs Gateway Community College
DESCRIPTION:College of Southern Nevada Baseball vs Gateway Community College
URL:https://news.csn.edu/event/college-of-southern-nevada-baseball-vs-gateway-community-college-4/
LOCATION:Henderson\, NV\, Morse Stadium
CATEGORIES:Baseball
END:VEVENT
END:VCALENDAR