BEGIN:VCALENDAR
VERSION:2.0
PRODID:-//College of Southern Nevada - ECPv6.15.13//NONSGML v1.0//EN
CALSCALE:GREGORIAN
METHOD:PUBLISH
X-WR-CALNAME:College of Southern Nevada
X-ORIGINAL-URL:https://news.csn.edu
X-WR-CALDESC:Events for College of Southern Nevada
REFRESH-INTERVAL;VALUE=DURATION:PT1H
X-Robots-Tag:noindex
X-PUBLISHED-TTL:PT1H
BEGIN:VTIMEZONE
TZID:UTC
BEGIN:STANDARD
TZOFFSETFROM:+0000
TZOFFSETTO:+0000
TZNAME:UTC
DTSTART:20250101T000000
END:STANDARD
END:VTIMEZONE
BEGIN:VTIMEZONE
TZID:America/Los_Angeles
BEGIN:DAYLIGHT
TZOFFSETFROM:-0800
TZOFFSETTO:-0700
TZNAME:PDT
DTSTART:20250309T100000
END:DAYLIGHT
BEGIN:STANDARD
TZOFFSETFROM:-0700
TZOFFSETTO:-0800
TZNAME:PST
DTSTART:20251102T090000
END:STANDARD
BEGIN:DAYLIGHT
TZOFFSETFROM:-0800
TZOFFSETTO:-0700
TZNAME:PDT
DTSTART:20260308T100000
END:DAYLIGHT
BEGIN:STANDARD
TZOFFSETFROM:-0700
TZOFFSETTO:-0800
TZNAME:PST
DTSTART:20261101T090000
END:STANDARD
BEGIN:DAYLIGHT
TZOFFSETFROM:-0800
TZOFFSETTO:-0700
TZNAME:PDT
DTSTART:20270314T100000
END:DAYLIGHT
BEGIN:STANDARD
TZOFFSETFROM:-0700
TZOFFSETTO:-0800
TZNAME:PST
DTSTART:20271107T090000
END:STANDARD
END:VTIMEZONE
BEGIN:VEVENT
DTSTART;TZID=UTC:20260219T013000
DTEND;TZID=UTC:20260219T033000
DTSTAMP:20260423T025024
CREATED:20251127T071902Z
LAST-MODIFIED:20251127T071902Z
UID:10008903-1771464600-1771471800@news.csn.edu
SUMMARY:College of Southern Nevada Women's Basketball vs Yavapai College
DESCRIPTION:College of Southern Nevada Women’s Basketball vs Yavapai College
URL:https://news.csn.edu/event/college-of-southern-nevada-womens-basketball-vs-yavapai-college-3/
LOCATION:North Las Vegas\, NV\, CSN Sports Center
CATEGORIES:Women's Basketball
END:VEVENT
BEGIN:VEVENT
DTSTART;TZID=UTC:20260219T033000
DTEND;TZID=UTC:20260219T053000
DTSTAMP:20260423T025024
CREATED:20251121T201635Z
LAST-MODIFIED:20251121T201635Z
UID:10008850-1771471800-1771479000@news.csn.edu
SUMMARY:College of Southern Nevada Men's Basketball vs Yavapai College
DESCRIPTION:College of Southern Nevada Men’s Basketball vs Yavapai College
URL:https://news.csn.edu/event/college-of-southern-nevada-mens-basketball-vs-yavapai-college-3/
LOCATION:North Las Vegas\, NV\, Coyote Event Center
CATEGORIES:Men's Basketball
END:VEVENT
BEGIN:VEVENT
DTSTART;TZID=America/Los_Angeles:20260219T080000
DTEND;TZID=America/Los_Angeles:20260219T170000
DTSTAMP:20260423T025024
CREATED:20260130T235744Z
LAST-MODIFIED:20260130T235744Z
UID:10009169-1771488000-1771520400@news.csn.edu
SUMMARY:To The Left
DESCRIPTION:Participating Artists:\nAimee Coello\, Camile Lovaz\, Rose Miller\, Niko Navalta\, Jessica Samaniego\, Bella Sanabria\, Montaysia Yuneek and Arianna Zaremehrjardi \nFri.\, Feb. 13 – Sat.\, June 20\, 2026\nPanel Discussion and Artist Reception: Thurs.\, June 11 at 6 p.m.\nThe Debra March Center of Excellence\n2200 Via Inspirada\, Henderson\, NV 89044 \nGallery Hours:\nMonday through Friday 8 a.m. to 5 p.m.\nGallery is closed Saturday\, Sunday\, Nevada state holidays and between CSN academic terms.\nAll CSN art gallery events are free\, family friendly and open to the public. \nFor exhibition information\, please email: artgallery@csn.edu or call 702.651.4146\nFor building access and hours\,\nplease call 702-651-3727 | Website: www.csn.edu/artgallery
URL:https://news.csn.edu/event/to-the-left-5/
LOCATION:Debra March Center of Excellence\, 2200 Via Inspirada\, Henderson\, NV\, 89044\, United States
CATEGORIES:Arts
ATTACH;FMTTYPE=image/jpeg:https://news.csn.edu/wp-content/uploads/2026/01/to-the-left-flyer.jpg
END:VEVENT
BEGIN:VEVENT
DTSTART;TZID=America/Los_Angeles:20260219T080000
DTEND;TZID=America/Los_Angeles:20260219T223000
DTSTAMP:20260423T025024
CREATED:20251118T161816Z
LAST-MODIFIED:20251118T161816Z
UID:10008769-1771488000-1771540200@news.csn.edu
SUMMARY:ART 298: Portfolio Emphasis Fall 2025 Exhibition - “Memento”
DESCRIPTION:Friday\, December 5\, 2025\, through Saturday\, February 28\, 2026\nNorth Las Vegas Campus Artspace Gallery \nCSN’s Artspace Gallery is free\, family-friendly\, and open to the public. Gallery hours are from 8 a.m. to 10:30 p.m. Monday through Friday and 8 a.m. to 5 p.m. Saturday. \nThe Artspace Gallery is upstairs above the main entrance lobby on the North Las Vegas campus\, located at 3200 E. Cheyenne Avenue\, one mile East of I-15 North. \nFor more information\, please call (702) 651-4146 \nhttp://www.csn.edu/artgallery
URL:https://news.csn.edu/event/art-298-portfolio-emphasis-fall-2025-exhibition-memento-66/
LOCATION:North Las Vegas campus\, 3200 E. Cheyenne Avenue\, North Las Vegas\, NV\, 89122\, United States
CATEGORIES:Arts
ATTACH;FMTTYPE=image/jpeg:https://news.csn.edu/wp-content/uploads/2025/11/smlr.jpg
END:VEVENT
BEGIN:VEVENT
DTSTART;TZID=America/Los_Angeles:20260219T110000
DTEND;TZID=America/Los_Angeles:20260219T130000
DTSTAMP:20260423T025024
CREATED:20251216T012920Z
LAST-MODIFIED:20251216T012920Z
UID:10008938-1771498800-1771506000@news.csn.edu
SUMMARY:Mastering the Fair - Pre-Career Fair Event
DESCRIPTION:Come join us at our Spring 2026 Mastering the Fair: Pre-Career Fair Events! \nTuesday\, February 17\, 2026 from 11am – 1pm \nHenderson Campus – C Building Lobby \nWednesday\, February 18\, 2026 from 11am – 1pm \nNorth Las Vegas Campus – June Whitley Lounge \nMonday\, January 19\, 2026 from 11am – 1pm \nCharleston Campus – Student Union Lobby
URL:https://news.csn.edu/event/mastering-the-fair-pre-career-fair-event/2026-02-19/
LOCATION:Henderson Campus Building C\, 700 College Dr\, Henderson\, Nevada\, 89002\, United States
CATEGORIES:Community,Employees,Student life
ATTACH;FMTTYPE=image/jpeg:https://news.csn.edu/wp-content/uploads/2025/12/3-1.jpg
END:VEVENT
BEGIN:VEVENT
DTSTART;TZID=UTC:20260220T020000
DTEND;TZID=UTC:20260220T050000
DTSTAMP:20260423T025024
CREATED:20251227T121529Z
LAST-MODIFIED:20251227T121529Z
UID:10009026-1771552800-1771563600@news.csn.edu
SUMMARY:College of Southern Nevada Baseball vs Colorado Northwestern Community College
DESCRIPTION:College of Southern Nevada Baseball vs Colorado Northwestern Community College
URL:https://news.csn.edu/event/college-of-southern-nevada-baseball-vs-colorado-northwestern-community-college-5/
LOCATION:Henderson\, NV\, Morse Stadium
CATEGORIES:Baseball
END:VEVENT
BEGIN:VEVENT
DTSTART;TZID=America/Los_Angeles:20260220T080000
DTEND;TZID=America/Los_Angeles:20260220T170000
DTSTAMP:20260423T025024
CREATED:20260130T235757Z
LAST-MODIFIED:20260130T235757Z
UID:10009170-1771574400-1771606800@news.csn.edu
SUMMARY:To The Left
DESCRIPTION:Participating Artists:\nAimee Coello\, Camile Lovaz\, Rose Miller\, Niko Navalta\, Jessica Samaniego\, Bella Sanabria\, Montaysia Yuneek and Arianna Zaremehrjardi \nFri.\, Feb. 13 – Sat.\, June 20\, 2026\nPanel Discussion and Artist Reception: Thurs.\, June 11 at 6 p.m.\nThe Debra March Center of Excellence\n2200 Via Inspirada\, Henderson\, NV 89044 \nGallery Hours:\nMonday through Friday 8 a.m. to 5 p.m.\nGallery is closed Saturday\, Sunday\, Nevada state holidays and between CSN academic terms.\nAll CSN art gallery events are free\, family friendly and open to the public. \nFor exhibition information\, please email: artgallery@csn.edu or call 702.651.4146\nFor building access and hours\,\nplease call 702-651-3727 | Website: www.csn.edu/artgallery
URL:https://news.csn.edu/event/to-the-left-6/
LOCATION:Debra March Center of Excellence\, 2200 Via Inspirada\, Henderson\, NV\, 89044\, United States
CATEGORIES:Arts
ATTACH;FMTTYPE=image/jpeg:https://news.csn.edu/wp-content/uploads/2026/01/to-the-left-flyer.jpg
END:VEVENT
BEGIN:VEVENT
DTSTART;TZID=America/Los_Angeles:20260220T080000
DTEND;TZID=America/Los_Angeles:20260220T223000
DTSTAMP:20260423T025024
CREATED:20251118T161820Z
LAST-MODIFIED:20251118T161820Z
UID:10008768-1771574400-1771626600@news.csn.edu
SUMMARY:ART 298: Portfolio Emphasis Fall 2025 Exhibition - “Memento”
DESCRIPTION:Friday\, December 5\, 2025\, through Saturday\, February 28\, 2026\nNorth Las Vegas Campus Artspace Gallery \nCSN’s Artspace Gallery is free\, family-friendly\, and open to the public. Gallery hours are from 8 a.m. to 10:30 p.m. Monday through Friday and 8 a.m. to 5 p.m. Saturday. \nThe Artspace Gallery is upstairs above the main entrance lobby on the North Las Vegas campus\, located at 3200 E. Cheyenne Avenue\, one mile East of I-15 North. \nFor more information\, please call (702) 651-4146 \nhttp://www.csn.edu/artgallery
URL:https://news.csn.edu/event/art-298-portfolio-emphasis-fall-2025-exhibition-memento-67/
LOCATION:North Las Vegas campus\, 3200 E. Cheyenne Avenue\, North Las Vegas\, NV\, 89122\, United States
CATEGORIES:Arts
ATTACH;FMTTYPE=image/jpeg:https://news.csn.edu/wp-content/uploads/2025/11/smlr.jpg
END:VEVENT
BEGIN:VEVENT
DTSTART;TZID=America/Los_Angeles:20260220T083000
DTEND;TZID=America/Los_Angeles:20260220T140000
DTSTAMP:20260423T025024
CREATED:20260122T231542Z
LAST-MODIFIED:20260122T231542Z
UID:10009070-1771576200-1771596000@news.csn.edu
SUMMARY:Open Education Resources (OER) Professional Development Day
DESCRIPTION:CSN’s inaugural Open Education Resources (OER) Professional Development Day was created exclusively for our faculty community! This event is an opportunity for professors and staff alike to understand the transformative power of OER and low/zero-cost textbooks in shaping student success!
URL:https://news.csn.edu/event/open-education-resources-oer-professional-development-day/
LOCATION:Charleston Student Union\, 6375 W. Charleston Blvd\, Las Vegas\, NV\, 89146\, United States
CATEGORIES:Community,Cultural Event,Employees
ATTACH;FMTTYPE=image/png:https://news.csn.edu/wp-content/uploads/2026/01/Opening-Doors-OER-Conference-Flyer-Sp26-1.png
END:VEVENT
BEGIN:VEVENT
DTSTART;TZID=America/Los_Angeles:20260220T110000
DTEND;TZID=America/Los_Angeles:20260220T130000
DTSTAMP:20260423T025024
CREATED:20251223T054345Z
LAST-MODIFIED:20251223T054345Z
UID:10008976-1771585200-1771592400@news.csn.edu
SUMMARY:Spring 2026 ASCSN Senate Meetings
DESCRIPTION:ASCSN advocates for the academic and social success of students by promoting inclusivity and connecting them to community resources. Come join us for an informative meeting of promoting the success of CSN Students in campus life\, clubs\, organizations and community involvement!
URL:https://news.csn.edu/event/spring-2026-ascsn-senate-meetings/2026-02-20/
LOCATION:Charleston Campus Student Union Room 130\, 6375 W. Charleston\, Las Vegas\, 89146\, United States
CATEGORIES:Community,Cultural Event,Student life
ATTACH;FMTTYPE=image/png:https://news.csn.edu/wp-content/uploads/2025/12/ASCSN-Sp26-Senate-Meetings.png
END:VEVENT
BEGIN:VEVENT
DTSTART;TZID=America/Los_Angeles:20260220T110000
DTEND;TZID=America/Los_Angeles:20260220T130000
DTSTAMP:20260423T025024
CREATED:20260213T195044Z
LAST-MODIFIED:20260213T195044Z
UID:10009377-1771585200-1771592400@news.csn.edu
SUMMARY:Emergency Equipment Hands-On Training
DESCRIPTION:CSN’s Environmental Health & Safety Department (EHS) is offering a hands-on training session to help spread awareness on how to operate emergency equipment! This event is open to all students\, staff\, and faculty wanting to learn how to use a fire extinguisher\, an Automated External Defibrillator (AED)\, and the Stop-The-Bleed Kit. \n  \nFebruary 20 @ 11 AM – 1 PM West Charleston Campus Student Union Room 130 \nMarch 27 @ 11 AM – 1 PM Henderson Campus Student Union Room 130 \nApril 10 @ 11 AM – 1 PM North Las Vegas Campus Student Union Room 130
URL:https://news.csn.edu/event/emergency-equipment-hands-on-training/2026-02-20/
LOCATION:Charleston Campus Student Union Room 130\, 6375 W. Charleston\, Las Vegas\, 89146\, United States
CATEGORIES:Community,Cultural Event,Employees,Student life
ATTACH;FMTTYPE=image/jpeg:https://news.csn.edu/wp-content/uploads/2026/02/Hands-On-Emergency-Equipment-Training-Flyer_2026-scaled.jpg
END:VEVENT
BEGIN:VEVENT
DTSTART;TZID=UTC:20260220T200000
DTEND;TZID=UTC:20260220T230000
DTSTAMP:20260423T025024
CREATED:20251227T121529Z
LAST-MODIFIED:20251227T121529Z
UID:10009027-1771617600-1771628400@news.csn.edu
SUMMARY:College of Southern Nevada Baseball vs Colorado Northwestern Community College
DESCRIPTION:College of Southern Nevada Baseball vs Colorado Northwestern Community College
URL:https://news.csn.edu/event/college-of-southern-nevada-baseball-vs-colorado-northwestern-community-college-6/
LOCATION:Henderson\, NV\, Morse Stadium
CATEGORIES:Baseball
END:VEVENT
BEGIN:VEVENT
DTSTART;TZID=UTC:20260220T210000
DTEND;TZID=UTC:20260220T230000
DTSTAMP:20260423T025024
CREATED:20251220T061805Z
LAST-MODIFIED:20251220T061805Z
UID:10008962-1771621200-1771628400@news.csn.edu
SUMMARY:College of Southern Nevada Softball vs College of Southern Idaho
DESCRIPTION:College of Southern Nevada Softball vs College of Southern Idaho
URL:https://news.csn.edu/event/college-of-southern-nevada-softball-vs-college-of-southern-idaho-5/
LOCATION:Henderson\, NV\, Lady Coyote Softball Field
END:VEVENT
BEGIN:VEVENT
DTSTART;TZID=UTC:20260220T223000
DTEND;TZID=UTC:20260221T013000
DTSTAMP:20260423T025024
CREATED:20251227T121529Z
LAST-MODIFIED:20251227T121529Z
UID:10009028-1771626600-1771637400@news.csn.edu
SUMMARY:College of Southern Nevada Baseball vs Colorado Northwestern Community College
DESCRIPTION:College of Southern Nevada Baseball vs Colorado Northwestern Community College
URL:https://news.csn.edu/event/college-of-southern-nevada-baseball-vs-colorado-northwestern-community-college-7/
LOCATION:Henderson\, NV\, Morse Stadium
CATEGORIES:Baseball
END:VEVENT
BEGIN:VEVENT
DTSTART;TZID=UTC:20260220T230000
DTEND;TZID=UTC:20260221T010000
DTSTAMP:20260423T025024
CREATED:20251220T061805Z
LAST-MODIFIED:20251220T061805Z
UID:10008963-1771628400-1771635600@news.csn.edu
SUMMARY:College of Southern Nevada Softball vs College of Southern Idaho
DESCRIPTION:College of Southern Nevada Softball vs College of Southern Idaho
URL:https://news.csn.edu/event/college-of-southern-nevada-softball-vs-college-of-southern-idaho-6/
LOCATION:Henderson\, NV\, Lady Coyote Softball Field
END:VEVENT
BEGIN:VEVENT
DTSTART;TZID=America/Los_Angeles:20260221T080000
DTEND;TZID=America/Los_Angeles:20260221T170000
DTSTAMP:20260423T025024
CREATED:20251118T161829Z
LAST-MODIFIED:20251118T161829Z
UID:10008770-1771660800-1771693200@news.csn.edu
SUMMARY:ART 298: Portfolio Emphasis Fall 2025 Exhibition - “Memento”
DESCRIPTION:Friday\, December 5\, 2025\, through Saturday\, February 28\, 2026\nNorth Las Vegas Campus Artspace Gallery \nCSN’s Artspace Gallery is free\, family-friendly\, and open to the public. Gallery hours are from 8 a.m. to 10:30 p.m. Monday through Friday and 8 a.m. to 5 p.m. Saturday. \nThe Artspace Gallery is upstairs above the main entrance lobby on the North Las Vegas campus\, located at 3200 E. Cheyenne Avenue\, one mile East of I-15 North. \nFor more information\, please call (702) 651-4146 \nhttp://www.csn.edu/artgallery
URL:https://news.csn.edu/event/art-298-portfolio-emphasis-fall-2025-exhibition-memento-68/
LOCATION:North Las Vegas campus\, 3200 E. Cheyenne Avenue\, North Las Vegas\, NV\, 89122\, United States
CATEGORIES:Arts
ATTACH;FMTTYPE=image/jpeg:https://news.csn.edu/wp-content/uploads/2025/11/smlr.jpg
END:VEVENT
BEGIN:VEVENT
DTSTART;TZID=America/Los_Angeles:20260221T110000
DTEND;TZID=America/Los_Angeles:20260221T130000
DTSTAMP:20260423T025024
CREATED:20260128T225818Z
LAST-MODIFIED:20260128T225818Z
UID:10009095-1771671600-1771678800@news.csn.edu
SUMMARY:Lunar New Year Parade with CSN
DESCRIPTION:Want to help with the parade setup\, or just to come and enjoy the fun? Get ready to celebrate with us at our Annual Spring Lunar New Year Festival and Parade at the Downtown Las Vegas Fremont East Entertainment District!  This unforgettable parade draws thousands of spectators each year\, and YOU can be part of the excitement! Scan the QR code to RSVP today!
URL:https://news.csn.edu/event/lunar-new-year-parade-with-csn/
LOCATION:Downtown Las Vegas\, Downtown\, Las Vegas\, NV\, 89101\, United States
CATEGORIES:Arts,Athletics,Community,Cultural Event,Employees,Sports,Student life
ATTACH;FMTTYPE=image/jpeg:https://news.csn.edu/wp-content/uploads/2026/01/YearoftheHorseFlyer-scaled.jpg
END:VEVENT
BEGIN:VEVENT
DTSTART;TZID=UTC:20260221T190000
DTEND;TZID=UTC:20260221T210000
DTSTAMP:20260423T025024
CREATED:20251220T061805Z
LAST-MODIFIED:20251220T061805Z
UID:10008964-1771700400-1771707600@news.csn.edu
SUMMARY:College of Southern Nevada Softball at College of Southern Idaho
DESCRIPTION:College of Southern Nevada Softball at College of Southern Idaho
URL:https://news.csn.edu/event/college-of-southern-nevada-softball-at-college-of-southern-idaho-6/
LOCATION:Twin Falls\, ID
END:VEVENT
BEGIN:VEVENT
DTSTART;TZID=UTC:20260221T200000
DTEND;TZID=UTC:20260221T230000
DTSTAMP:20260423T025024
CREATED:20251227T121529Z
LAST-MODIFIED:20251227T121529Z
UID:10009029-1771704000-1771714800@news.csn.edu
SUMMARY:College of Southern Nevada Baseball vs Colorado Northwestern Community College
DESCRIPTION:College of Southern Nevada Baseball vs Colorado Northwestern Community College
URL:https://news.csn.edu/event/college-of-southern-nevada-baseball-vs-colorado-northwestern-community-college-8/
LOCATION:Henderson\, NV\, Morse Stadium
CATEGORIES:Baseball
END:VEVENT
BEGIN:VEVENT
DTSTART;TZID=UTC:20260221T210000
DTEND;TZID=UTC:20260221T230000
DTSTAMP:20260423T025024
CREATED:20251127T071902Z
LAST-MODIFIED:20251127T071902Z
UID:10008904-1771707600-1771714800@news.csn.edu
SUMMARY:College of Southern Nevada Women's Basketball at Arizona Western College
DESCRIPTION:College of Southern Nevada Women’s Basketball at Arizona Western College
URL:https://news.csn.edu/event/college-of-southern-nevada-womens-basketball-at-arizona-western-college-3/
LOCATION:Yuma\, AZ
CATEGORIES:Women's Basketball
END:VEVENT
BEGIN:VEVENT
DTSTART;TZID=UTC:20260221T210000
DTEND;TZID=UTC:20260221T230000
DTSTAMP:20260423T025024
CREATED:20251220T061805Z
LAST-MODIFIED:20251220T061805Z
UID:10008965-1771707600-1771714800@news.csn.edu
SUMMARY:College of Southern Nevada Softball at College of Southern Idaho
DESCRIPTION:College of Southern Nevada Softball at College of Southern Idaho
URL:https://news.csn.edu/event/college-of-southern-nevada-softball-at-college-of-southern-idaho-7/
LOCATION:Twin Falls\, ID
END:VEVENT
BEGIN:VEVENT
DTSTART;TZID=UTC:20260221T213000
DTEND;TZID=UTC:20260222T003000
DTSTAMP:20260423T025024
CREATED:20260221T133041Z
LAST-MODIFIED:20260221T133041Z
UID:10009414-1771709400-1771720200@news.csn.edu
SUMMARY:College of Southern Nevada Baseball vs Colorado Northwestern Community College
DESCRIPTION:College of Southern Nevada Baseball vs Colorado Northwestern Community College\nStreaming Video: https://team1sports.com/csn/\nTickets: https://csncoyotes.com/sports/2021/3/19/home-town-ticket.aspx
URL:https://news.csn.edu/event/college-of-southern-nevada-baseball-vs-colorado-northwestern-community-college-9/
LOCATION:Henderson\, NV\, Morse Stadium
CATEGORIES:Baseball
END:VEVENT
BEGIN:VEVENT
DTSTART;TZID=UTC:20260221T230000
DTEND;TZID=UTC:20260222T010000
DTSTAMP:20260423T025024
CREATED:20251121T201635Z
LAST-MODIFIED:20251121T201635Z
UID:10008851-1771714800-1771722000@news.csn.edu
SUMMARY:College of Southern Nevada Men's Basketball at Arizona Western College
DESCRIPTION:College of Southern Nevada Men’s Basketball at Arizona Western College
URL:https://news.csn.edu/event/college-of-southern-nevada-mens-basketball-at-arizona-western-college-3/
LOCATION:Yuma\, AZ
CATEGORIES:Men's Basketball
END:VEVENT
BEGIN:VEVENT
DTSTART;TZID=America/Los_Angeles:20260223T080000
DTEND;TZID=America/Los_Angeles:20260223T170000
DTSTAMP:20260423T025024
CREATED:20260130T235813Z
LAST-MODIFIED:20260130T235813Z
UID:10009171-1771833600-1771866000@news.csn.edu
SUMMARY:To The Left
DESCRIPTION:Participating Artists:\nAimee Coello\, Camile Lovaz\, Rose Miller\, Niko Navalta\, Jessica Samaniego\, Bella Sanabria\, Montaysia Yuneek and Arianna Zaremehrjardi \nFri.\, Feb. 13 – Sat.\, June 20\, 2026\nPanel Discussion and Artist Reception: Thurs.\, June 11 at 6 p.m.\nThe Debra March Center of Excellence\n2200 Via Inspirada\, Henderson\, NV 89044 \nGallery Hours:\nMonday through Friday 8 a.m. to 5 p.m.\nGallery is closed Saturday\, Sunday\, Nevada state holidays and between CSN academic terms.\nAll CSN art gallery events are free\, family friendly and open to the public. \nFor exhibition information\, please email: artgallery@csn.edu or call 702.651.4146\nFor building access and hours\,\nplease call 702-651-3727 | Website: www.csn.edu/artgallery
URL:https://news.csn.edu/event/to-the-left-7/
LOCATION:Debra March Center of Excellence\, 2200 Via Inspirada\, Henderson\, NV\, 89044\, United States
CATEGORIES:Arts
ATTACH;FMTTYPE=image/jpeg:https://news.csn.edu/wp-content/uploads/2026/01/to-the-left-flyer.jpg
END:VEVENT
BEGIN:VEVENT
DTSTART;TZID=America/Los_Angeles:20260223T080000
DTEND;TZID=America/Los_Angeles:20260223T223000
DTSTAMP:20260423T025024
CREATED:20251118T161924Z
LAST-MODIFIED:20251118T161924Z
UID:10008771-1771833600-1771885800@news.csn.edu
SUMMARY:ART 298: Portfolio Emphasis Fall 2025 Exhibition - “Memento”
DESCRIPTION:Friday\, December 5\, 2025\, through Saturday\, February 28\, 2026\nNorth Las Vegas Campus Artspace Gallery \nCSN’s Artspace Gallery is free\, family-friendly\, and open to the public. Gallery hours are from 8 a.m. to 10:30 p.m. Monday through Friday and 8 a.m. to 5 p.m. Saturday. \nThe Artspace Gallery is upstairs above the main entrance lobby on the North Las Vegas campus\, located at 3200 E. Cheyenne Avenue\, one mile East of I-15 North. \nFor more information\, please call (702) 651-4146 \nhttp://www.csn.edu/artgallery
URL:https://news.csn.edu/event/art-298-portfolio-emphasis-fall-2025-exhibition-memento-69/
LOCATION:North Las Vegas campus\, 3200 E. Cheyenne Avenue\, North Las Vegas\, NV\, 89122\, United States
CATEGORIES:Arts
ATTACH;FMTTYPE=image/jpeg:https://news.csn.edu/wp-content/uploads/2025/11/smlr.jpg
END:VEVENT
BEGIN:VEVENT
DTSTART;TZID=America/Los_Angeles:20260223T090000
DTEND;TZID=America/Los_Angeles:20260223T100000
DTSTAMP:20260423T025024
CREATED:20251013T205024Z
LAST-MODIFIED:20251013T234133Z
UID:10008631-1771837200-1771840800@news.csn.edu
SUMMARY:Mindful Balance group
DESCRIPTION:
URL:https://news.csn.edu/event/mindful-balance-group/2026-02-23/
LOCATION:NV
ATTACH;FMTTYPE=image/png:https://news.csn.edu/wp-content/uploads/2025/10/CAPS-Mindful-Balance-Group-Flyer-1.png
END:VEVENT
BEGIN:VEVENT
DTSTART;TZID=America/Los_Angeles:20260223T110000
DTEND;TZID=America/Los_Angeles:20260223T120000
DTSTAMP:20260423T025024
CREATED:20260123T002740Z
LAST-MODIFIED:20260123T002740Z
UID:10009072-1771844400-1771848000@news.csn.edu
SUMMARY:CSN Sophomore Survival Series
DESCRIPTION:Still need another 30 more credits before you graduate? Never fear! CSN’s Sophomore Survival Series is here to help YOU with workshops designed to discover the tools you need to finish college strong!  Join us in person for free supplies or online through livestream! Scan the QR code to register for a workshop today! \nStudy Smarter\, Work Harder \n\nFebruary 11: North Las Vegas Campus\, June Whitley Student Lounge @ 1 PM – 2 PM\nFebruary 23: Charleston Campus\, Student Union Ballroom @ 11 AM – 12 PM\n\nThe Resource Roadmap \n\nMarch 10: North Las Vegas Campus\, June Whitley Student Lounge @ 1 PM – 2 PM\nMarch 25: Charleston Campus\, Student Union Ballroom @ 11 AM – 12 PM\n\nThe Finish Line Strategy \n\nApril 6: North Las Vegas Campus\, June Whitley Student Lounge @ 1 PM – 2 PM\nApril 14: Charleston Campus\, Student Union Ballroom @ 11 AM – 12 PM\n\nSpring 2026 Sophomore Special Event \n\nApril 22: North Las Vegas Campus\, Student Union Ballroom  @ 12 PM – 2 PM
URL:https://news.csn.edu/event/csn-sophomore-survival-series/2026-02-23/
LOCATION:June Whitley Student Lounge\, 3200 N. Cheyenne Avenue\, North Las Vegas\, NV\, 89030\, United States
CATEGORIES:Arts,Athletics,Community,Cultural Event,Sports,Student life
ATTACH;FMTTYPE=image/png:https://news.csn.edu/wp-content/uploads/2026/01/Sophomore-Survival-Series-Workshop-Flyer-1.png
END:VEVENT
BEGIN:VEVENT
DTSTART;TZID=America/Los_Angeles:20260223T110000
DTEND;TZID=America/Los_Angeles:20260223T140000
DTSTAMP:20260423T025024
CREATED:20260128T223028Z
LAST-MODIFIED:20260128T223028Z
UID:10009093-1771844400-1771855200@news.csn.edu
SUMMARY:ASCSN Spring 2026 Chill-n-Grill BBQ
DESCRIPTION:Come and hang out with your ASCSN Senators at the Henderson Campus Student Union for the Spring 2026 Chill-n-Grill Barbeque! Food and beverages will be provided\, and all are welcomed to this event!
URL:https://news.csn.edu/event/ascsn-spring-2026-chill-n-grill-bbq/
LOCATION:Henderson Student Union\, 700 College Dr.\, Henderson\, NV\, 89002\, United States
CATEGORIES:Arts,Athletics,Community,Cultural Event,Employees,Sports,Student life
ATTACH;FMTTYPE=image/jpeg:https://news.csn.edu/wp-content/uploads/2026/01/Sp.-26-HN-Welcome-Back-Event-Flyer.jpg
END:VEVENT
BEGIN:VEVENT
DTSTART;TZID=America/Los_Angeles:20260224T080000
DTEND;TZID=America/Los_Angeles:20260224T170000
DTSTAMP:20260423T025024
CREATED:20260130T235820Z
LAST-MODIFIED:20260130T235820Z
UID:10009172-1771920000-1771952400@news.csn.edu
SUMMARY:To The Left
DESCRIPTION:Participating Artists:\nAimee Coello\, Camile Lovaz\, Rose Miller\, Niko Navalta\, Jessica Samaniego\, Bella Sanabria\, Montaysia Yuneek and Arianna Zaremehrjardi \nFri.\, Feb. 13 – Sat.\, June 20\, 2026\nPanel Discussion and Artist Reception: Thurs.\, June 11 at 6 p.m.\nThe Debra March Center of Excellence\n2200 Via Inspirada\, Henderson\, NV 89044 \nGallery Hours:\nMonday through Friday 8 a.m. to 5 p.m.\nGallery is closed Saturday\, Sunday\, Nevada state holidays and between CSN academic terms.\nAll CSN art gallery events are free\, family friendly and open to the public. \nFor exhibition information\, please email: artgallery@csn.edu or call 702.651.4146\nFor building access and hours\,\nplease call 702-651-3727 | Website: www.csn.edu/artgallery
URL:https://news.csn.edu/event/to-the-left-8/
LOCATION:Debra March Center of Excellence\, 2200 Via Inspirada\, Henderson\, NV\, 89044\, United States
CATEGORIES:Arts
ATTACH;FMTTYPE=image/jpeg:https://news.csn.edu/wp-content/uploads/2026/01/to-the-left-flyer.jpg
END:VEVENT
BEGIN:VEVENT
DTSTART;TZID=America/Los_Angeles:20260224T080000
DTEND;TZID=America/Los_Angeles:20260224T223000
DTSTAMP:20260423T025024
CREATED:20251118T161927Z
LAST-MODIFIED:20251118T161927Z
UID:10008772-1771920000-1771972200@news.csn.edu
SUMMARY:ART 298: Portfolio Emphasis Fall 2025 Exhibition - “Memento”
DESCRIPTION:Friday\, December 5\, 2025\, through Saturday\, February 28\, 2026\nNorth Las Vegas Campus Artspace Gallery \nCSN’s Artspace Gallery is free\, family-friendly\, and open to the public. Gallery hours are from 8 a.m. to 10:30 p.m. Monday through Friday and 8 a.m. to 5 p.m. Saturday. \nThe Artspace Gallery is upstairs above the main entrance lobby on the North Las Vegas campus\, located at 3200 E. Cheyenne Avenue\, one mile East of I-15 North. \nFor more information\, please call (702) 651-4146 \nhttp://www.csn.edu/artgallery
URL:https://news.csn.edu/event/art-298-portfolio-emphasis-fall-2025-exhibition-memento-70/
LOCATION:North Las Vegas campus\, 3200 E. Cheyenne Avenue\, North Las Vegas\, NV\, 89122\, United States
CATEGORIES:Arts
ATTACH;FMTTYPE=image/jpeg:https://news.csn.edu/wp-content/uploads/2025/11/smlr.jpg
END:VEVENT
END:VCALENDAR