BEGIN:VCALENDAR
VERSION:2.0
PRODID:-//College of Southern Nevada - ECPv6.15.13//NONSGML v1.0//EN
CALSCALE:GREGORIAN
METHOD:PUBLISH
X-WR-CALNAME:College of Southern Nevada
X-ORIGINAL-URL:https://news.csn.edu
X-WR-CALDESC:Events for College of Southern Nevada
REFRESH-INTERVAL;VALUE=DURATION:PT1H
X-Robots-Tag:noindex
X-PUBLISHED-TTL:PT1H
BEGIN:VTIMEZONE
TZID:UTC
BEGIN:STANDARD
TZOFFSETFROM:+0000
TZOFFSETTO:+0000
TZNAME:UTC
DTSTART:20250101T000000
END:STANDARD
END:VTIMEZONE
BEGIN:VTIMEZONE
TZID:America/Los_Angeles
BEGIN:DAYLIGHT
TZOFFSETFROM:-0800
TZOFFSETTO:-0700
TZNAME:PDT
DTSTART:20250309T100000
END:DAYLIGHT
BEGIN:STANDARD
TZOFFSETFROM:-0700
TZOFFSETTO:-0800
TZNAME:PST
DTSTART:20251102T090000
END:STANDARD
BEGIN:DAYLIGHT
TZOFFSETFROM:-0800
TZOFFSETTO:-0700
TZNAME:PDT
DTSTART:20260308T100000
END:DAYLIGHT
BEGIN:STANDARD
TZOFFSETFROM:-0700
TZOFFSETTO:-0800
TZNAME:PST
DTSTART:20261101T090000
END:STANDARD
BEGIN:DAYLIGHT
TZOFFSETFROM:-0800
TZOFFSETTO:-0700
TZNAME:PDT
DTSTART:20270314T100000
END:DAYLIGHT
BEGIN:STANDARD
TZOFFSETFROM:-0700
TZOFFSETTO:-0800
TZNAME:PST
DTSTART:20271107T090000
END:STANDARD
END:VTIMEZONE
BEGIN:VEVENT
DTSTART;TZID=UTC:20260227T220000
DTEND;TZID=UTC:20260228T010000
DTSTAMP:20260420T211713
CREATED:20251227T121529Z
LAST-MODIFIED:20251227T121529Z
UID:10009031-1772229600-1772240400@news.csn.edu
SUMMARY:College of Southern Nevada Baseball at Yavapai College
DESCRIPTION:College of Southern Nevada Baseball at Yavapai College
URL:https://news.csn.edu/event/college-of-southern-nevada-baseball-at-yavapai-college-2/
LOCATION:Prescott\, AZ
CATEGORIES:Baseball
END:VEVENT
BEGIN:VEVENT
DTSTART;TZID=America/Los_Angeles:20260228T080000
DTEND;TZID=America/Los_Angeles:20260228T170000
DTSTAMP:20260420T211713
CREATED:20251118T161948Z
LAST-MODIFIED:20251118T161948Z
UID:10008774-1772265600-1772298000@news.csn.edu
SUMMARY:ART 298: Portfolio Emphasis Fall 2025 Exhibition - “Memento”
DESCRIPTION:Friday\, December 5\, 2025\, through Saturday\, February 28\, 2026\nNorth Las Vegas Campus Artspace Gallery \nCSN’s Artspace Gallery is free\, family-friendly\, and open to the public. Gallery hours are from 8 a.m. to 10:30 p.m. Monday through Friday and 8 a.m. to 5 p.m. Saturday. \nThe Artspace Gallery is upstairs above the main entrance lobby on the North Las Vegas campus\, located at 3200 E. Cheyenne Avenue\, one mile East of I-15 North. \nFor more information\, please call (702) 651-4146 \nhttp://www.csn.edu/artgallery
URL:https://news.csn.edu/event/art-298-portfolio-emphasis-fall-2025-exhibition-memento-74/
LOCATION:North Las Vegas campus\, 3200 E. Cheyenne Avenue\, North Las Vegas\, NV\, 89122\, United States
CATEGORIES:Arts
ATTACH;FMTTYPE=image/jpeg:https://news.csn.edu/wp-content/uploads/2025/11/smlr.jpg
END:VEVENT
BEGIN:VEVENT
DTSTART;TZID=America/Los_Angeles:20260228T100000
DTEND;TZID=America/Los_Angeles:20260228T160000
DTSTAMP:20260420T211713
CREATED:20260212T164228Z
LAST-MODIFIED:20260212T164228Z
UID:10009270-1772272800-1772294400@news.csn.edu
SUMMARY:Transmitting Figures
DESCRIPTION:Sapira Cheuk \nFriday\, February 27 – Saturday\, May 2\, 2026 \nGallery Talk & Artist Reception:\nWednesday\, April 1 • 6 p.m. \nGallery Hours:\nMonday through Friday • 9:00 a.m. to 6:00 p.m.\nSaturday 10:00 a.m. to 4:00 p.m.\nAll CSN art gallery events are tree\, family friendly & open to the public. \nFor more information please call: 702.651.4146\nartgallery@csn.edu • www.csn.edu/artgallery \nDirections: The Fine Arts Gallery is located adjacent to the Nicholas J. Horn Theatre Lobby on the North Las Vegas Campus of the College of Southern Nevada\n3200 E. Cheyenne Ave. • North Las Vegas\, NV 89030
URL:https://news.csn.edu/event/transmitting-figures-2/
LOCATION:CSN Fine Arts Gallery\, 3200 E. Cheyenne Avenue\, North Las Vegas\, 89030\, United States
CATEGORIES:Arts
ATTACH;FMTTYPE=image/jpeg:https://news.csn.edu/wp-content/uploads/2026/02/transmitting-figures.jpg
END:VEVENT
BEGIN:VEVENT
DTSTART;TZID=America/Los_Angeles:20260228T110000
DTEND;TZID=America/Los_Angeles:20260228T150000
DTSTAMP:20260420T211713
CREATED:20260127T164122Z
LAST-MODIFIED:20260127T164122Z
UID:10009079-1772276400-1772290800@news.csn.edu
SUMMARY:CSN Spring 2026 Dance Days
DESCRIPTION:
URL:https://news.csn.edu/event/csn-spring-2026-dance-days/
LOCATION:CSN Performing Arts Center Theatres\, 3200 E. Cheyenne Avenue\, North Las Vegas\, 89030\, United States
CATEGORIES:Arts,Community,Employees,Student life
ATTACH;FMTTYPE=image/jpeg:https://news.csn.edu/wp-content/uploads/2026/01/S26-Dance-Days-SM-LR-scaled.jpg
END:VEVENT
BEGIN:VEVENT
DTSTART;TZID=UTC:20260228T190000
DTEND;TZID=UTC:20260228T210000
DTSTAMP:20260420T211713
CREATED:20251220T061805Z
LAST-MODIFIED:20251220T061805Z
UID:10008968-1772305200-1772312400@news.csn.edu
SUMMARY:College of Southern Nevada Softball vs Utah State University Eastern
DESCRIPTION:College of Southern Nevada Softball vs Utah State University Eastern
URL:https://news.csn.edu/event/college-of-southern-nevada-softball-vs-utah-state-university-eastern-8/
LOCATION:Henderson\, NV\, Lady Coyote Softball Field
END:VEVENT
BEGIN:VEVENT
DTSTART;TZID=UTC:20260228T190000
DTEND;TZID=UTC:20260228T220000
DTSTAMP:20260420T211713
CREATED:20251227T121529Z
LAST-MODIFIED:20251227T121529Z
UID:10009032-1772305200-1772316000@news.csn.edu
SUMMARY:College of Southern Nevada Baseball at Yavapai College
DESCRIPTION:College of Southern Nevada Baseball at Yavapai College
URL:https://news.csn.edu/event/college-of-southern-nevada-baseball-at-yavapai-college-3/
LOCATION:Prescott\, AZ
CATEGORIES:Baseball
END:VEVENT
BEGIN:VEVENT
DTSTART;TZID=UTC:20260228T200000
DTEND;TZID=UTC:20260228T230000
DTSTAMP:20260420T211713
CREATED:20260214T151739Z
LAST-MODIFIED:20260214T151739Z
UID:10009383-1772308800-1772319600@news.csn.edu
SUMMARY:College of Southern Nevada Women's Cross Country and Distance Track  Rossi Relays 2026
DESCRIPTION:College of Southern Nevada Women’s Cross Country and Distance Track  Rossi Relays 2026
URL:https://news.csn.edu/event/college-of-southern-nevada-womens-cross-country-and-distance-track-rossi-relays-2026/
LOCATION:Mojave\, CA
CATEGORIES:Women's Cross Country
END:VEVENT
BEGIN:VEVENT
DTSTART;TZID=UTC:20260228T200000
DTEND;TZID=UTC:20260228T230000
DTSTAMP:20260420T211713
CREATED:20260215T051736Z
LAST-MODIFIED:20260215T051736Z
UID:10009391-1772308800-1772319600@news.csn.edu
SUMMARY:College of Southern Nevada Men's Cross Country and Distance Track  Rossi Relays 2026
DESCRIPTION:College of Southern Nevada Men’s Cross Country and Distance Track  Rossi Relays 2026
URL:https://news.csn.edu/event/college-of-southern-nevada-mens-cross-country-and-distance-track-rossi-relays-2026/
LOCATION:Mojave\, CA
CATEGORIES:Men's Cross Country
END:VEVENT
BEGIN:VEVENT
DTSTART;TZID=UTC:20260228T220000
DTEND;TZID=UTC:20260301T000000
DTSTAMP:20260420T211713
CREATED:20251127T071903Z
LAST-MODIFIED:20251127T071903Z
UID:10008906-1772316000-1772323200@news.csn.edu
SUMMARY:College of Southern Nevada Women's Basketball vs Central Arizona College
DESCRIPTION:College of Southern Nevada Women’s Basketball vs Central Arizona College
URL:https://news.csn.edu/event/college-of-southern-nevada-womens-basketball-vs-central-arizona-college-3/
LOCATION:North Las Vegas\, NV\, CSN Sports Center
CATEGORIES:Women's Basketball
END:VEVENT
BEGIN:VEVENT
DTSTART;TZID=UTC:20260301T000000
DTEND;TZID=UTC:20260301T020000
DTSTAMP:20260420T211713
CREATED:20251121T201635Z
LAST-MODIFIED:20251121T201635Z
UID:10008853-1772323200-1772330400@news.csn.edu
SUMMARY:College of Southern Nevada Men's Basketball vs Central Arizona College
DESCRIPTION:College of Southern Nevada Men’s Basketball vs Central Arizona College
URL:https://news.csn.edu/event/college-of-southern-nevada-mens-basketball-vs-central-arizona-college-3/
LOCATION:North Las Vegas\, NV\, Coyote Event Center
CATEGORIES:Men's Basketball
END:VEVENT
BEGIN:VEVENT
DTSTART;VALUE=DATE:20260301
DTEND;VALUE=DATE:20260302
DTSTAMP:20260420T211713
CREATED:20260217T191845Z
LAST-MODIFIED:20260217T191845Z
UID:10009407-1772323200-1772409599@news.csn.edu
SUMMARY:Graduation Deadline Spring 2026
DESCRIPTION:Graduation is around the corner and the deadline to apply is Sunday\, March 1s! Make sure you’re set and ready by meeting with your advisor! Stop by the NLV Academic Advising department today to snap a polaroid photo and celebrate your achievement! Scan the QR code for more details about the graduation event\, and don’t forget to order your cap and gown!
URL:https://news.csn.edu/event/graduation-deadline-spring-2026/
LOCATION:CSN North Las Vegas Campus\, 3200 E. Cheyenne Ave\, North Las Vegas\, NV\, 89030\, United States
CATEGORIES:Arts,Athletics,Community,Cultural Event,Employees,Sports,Student life
ATTACH;FMTTYPE=image/png:https://news.csn.edu/wp-content/uploads/2026/02/🎓-Grad-Check-✔️.png
END:VEVENT
BEGIN:VEVENT
DTSTART;TZID=America/Los_Angeles:20260302T080000
DTEND;TZID=America/Los_Angeles:20260302T170000
DTSTAMP:20260420T211713
CREATED:20260130T235853Z
LAST-MODIFIED:20260130T235853Z
UID:10009176-1772438400-1772470800@news.csn.edu
SUMMARY:To The Left
DESCRIPTION:Participating Artists:\nAimee Coello\, Camile Lovaz\, Rose Miller\, Niko Navalta\, Jessica Samaniego\, Bella Sanabria\, Montaysia Yuneek and Arianna Zaremehrjardi \nFri.\, Feb. 13 – Sat.\, June 20\, 2026\nPanel Discussion and Artist Reception: Thurs.\, June 11 at 6 p.m.\nThe Debra March Center of Excellence\n2200 Via Inspirada\, Henderson\, NV 89044 \nGallery Hours:\nMonday through Friday 8 a.m. to 5 p.m.\nGallery is closed Saturday\, Sunday\, Nevada state holidays and between CSN academic terms.\nAll CSN art gallery events are free\, family friendly and open to the public. \nFor exhibition information\, please email: artgallery@csn.edu or call 702.651.4146\nFor building access and hours\,\nplease call 702-651-3727 | Website: www.csn.edu/artgallery
URL:https://news.csn.edu/event/to-the-left-12/
LOCATION:Debra March Center of Excellence\, 2200 Via Inspirada\, Henderson\, NV\, 89044\, United States
CATEGORIES:Arts
ATTACH;FMTTYPE=image/jpeg:https://news.csn.edu/wp-content/uploads/2026/01/to-the-left-flyer.jpg
END:VEVENT
BEGIN:VEVENT
DTSTART;TZID=America/Los_Angeles:20260302T090000
DTEND;TZID=America/Los_Angeles:20260302T100000
DTSTAMP:20260420T211713
CREATED:20251013T205024Z
LAST-MODIFIED:20251013T234133Z
UID:10008632-1772442000-1772445600@news.csn.edu
SUMMARY:Mindful Balance group
DESCRIPTION:
URL:https://news.csn.edu/event/mindful-balance-group/2026-03-02/
ATTACH;FMTTYPE=image/png:https://news.csn.edu/wp-content/uploads/2025/10/CAPS-Mindful-Balance-Group-Flyer-1.png
END:VEVENT
BEGIN:VEVENT
DTSTART;TZID=America/Los_Angeles:20260302T090000
DTEND;TZID=America/Los_Angeles:20260302T180000
DTSTAMP:20260420T211713
CREATED:20260212T164253Z
LAST-MODIFIED:20260212T164253Z
UID:10009271-1772442000-1772474400@news.csn.edu
SUMMARY:Transmitting Figures
DESCRIPTION:Sapira Cheuk \nFriday\, February 27 – Saturday\, May 2\, 2026 \nGallery Talk & Artist Reception:\nWednesday\, April 1 • 6 p.m. \nGallery Hours:\nMonday through Friday • 9:00 a.m. to 6:00 p.m.\nSaturday 10:00 a.m. to 4:00 p.m.\nAll CSN art gallery events are tree\, family friendly & open to the public. \nFor more information please call: 702.651.4146\nartgallery@csn.edu • www.csn.edu/artgallery \nDirections: The Fine Arts Gallery is located adjacent to the Nicholas J. Horn Theatre Lobby on the North Las Vegas Campus of the College of Southern Nevada\n3200 E. Cheyenne Ave. • North Las Vegas\, NV 89030
URL:https://news.csn.edu/event/transmitting-figures-3/
LOCATION:CSN Fine Arts Gallery\, 3200 E. Cheyenne Avenue\, North Las Vegas\, 89030\, United States
CATEGORIES:Arts
ATTACH;FMTTYPE=image/jpeg:https://news.csn.edu/wp-content/uploads/2026/02/transmitting-figures.jpg
END:VEVENT
BEGIN:VEVENT
DTSTART;TZID=UTC:20260303T013000
DTEND;TZID=UTC:20260303T033000
DTSTAMP:20260420T211713
CREATED:20251127T071903Z
LAST-MODIFIED:20251127T071903Z
UID:10008907-1772501400-1772508600@news.csn.edu
SUMMARY:College of Southern Nevada Women's Basketball vs Nellis Diamonds
DESCRIPTION:College of Southern Nevada Women’s Basketball vs Nellis Diamonds
URL:https://news.csn.edu/event/college-of-southern-nevada-womens-basketball-vs-nellis-diamonds-2/
LOCATION:North Las Vegas\, NV\, CSN Sports Center
CATEGORIES:Women's Basketball
END:VEVENT
BEGIN:VEVENT
DTSTART;TZID=UTC:20260303T033000
DTEND;TZID=UTC:20260303T053000
DTSTAMP:20260420T211713
CREATED:20251121T201635Z
LAST-MODIFIED:20251121T201635Z
UID:10008854-1772508600-1772515800@news.csn.edu
SUMMARY:College of Southern Nevada Men's Basketball vs Ball Dawgs All-Stars
DESCRIPTION:College of Southern Nevada Men’s Basketball vs Ball Dawgs All-Stars
URL:https://news.csn.edu/event/college-of-southern-nevada-mens-basketball-vs-ball-dawgs-all-stars/
LOCATION:North Las Vegas\, NV\, Coyote Event Center
CATEGORIES:Men's Basketball
END:VEVENT
BEGIN:VEVENT
DTSTART;TZID=America/Los_Angeles:20260303T080000
DTEND;TZID=America/Los_Angeles:20260303T170000
DTSTAMP:20260420T211713
CREATED:20260130T235912Z
LAST-MODIFIED:20260130T235912Z
UID:10009177-1772524800-1772557200@news.csn.edu
SUMMARY:To The Left
DESCRIPTION:Participating Artists:\nAimee Coello\, Camile Lovaz\, Rose Miller\, Niko Navalta\, Jessica Samaniego\, Bella Sanabria\, Montaysia Yuneek and Arianna Zaremehrjardi \nFri.\, Feb. 13 – Sat.\, June 20\, 2026\nPanel Discussion and Artist Reception: Thurs.\, June 11 at 6 p.m.\nThe Debra March Center of Excellence\n2200 Via Inspirada\, Henderson\, NV 89044 \nGallery Hours:\nMonday through Friday 8 a.m. to 5 p.m.\nGallery is closed Saturday\, Sunday\, Nevada state holidays and between CSN academic terms.\nAll CSN art gallery events are free\, family friendly and open to the public. \nFor exhibition information\, please email: artgallery@csn.edu or call 702.651.4146\nFor building access and hours\,\nplease call 702-651-3727 | Website: www.csn.edu/artgallery
URL:https://news.csn.edu/event/to-the-left-13/
LOCATION:Debra March Center of Excellence\, 2200 Via Inspirada\, Henderson\, NV\, 89044\, United States
CATEGORIES:Arts
ATTACH;FMTTYPE=image/jpeg:https://news.csn.edu/wp-content/uploads/2026/01/to-the-left-flyer.jpg
END:VEVENT
BEGIN:VEVENT
DTSTART;TZID=America/Los_Angeles:20260303T081500
DTEND;TZID=America/Los_Angeles:20260303T084500
DTSTAMP:20260420T211713
CREATED:20251125T203333Z
LAST-MODIFIED:20251125T203333Z
UID:10008867-1772525700-1772527500@news.csn.edu
SUMMARY:Biscuits & Business
DESCRIPTION:﻿Biscuits & Business with the Career Services Director \nMeet the Career Services Director to get an insider look at all the resources available to you to ensure you maximize your time here and successfully launch your professional Career. \nQuestions?: Email career.services@csn.edu \ntinyurl.com/Sp26BiscuitsAndBusiness
URL:https://news.csn.edu/event/biscuits-business-7/
CATEGORIES:Community
ATTACH;FMTTYPE=image/jpeg:https://news.csn.edu/wp-content/uploads/2025/11/biscuitsbusiness.jpg
END:VEVENT
BEGIN:VEVENT
DTSTART;TZID=America/Los_Angeles:20260303T090000
DTEND;TZID=America/Los_Angeles:20260303T180000
DTSTAMP:20260420T211713
CREATED:20260212T164259Z
LAST-MODIFIED:20260212T164259Z
UID:10009272-1772528400-1772560800@news.csn.edu
SUMMARY:Transmitting Figures
DESCRIPTION:Sapira Cheuk \nFriday\, February 27 – Saturday\, May 2\, 2026 \nGallery Talk & Artist Reception:\nWednesday\, April 1 • 6 p.m. \nGallery Hours:\nMonday through Friday • 9:00 a.m. to 6:00 p.m.\nSaturday 10:00 a.m. to 4:00 p.m.\nAll CSN art gallery events are tree\, family friendly & open to the public. \nFor more information please call: 702.651.4146\nartgallery@csn.edu • www.csn.edu/artgallery \nDirections: The Fine Arts Gallery is located adjacent to the Nicholas J. Horn Theatre Lobby on the North Las Vegas Campus of the College of Southern Nevada\n3200 E. Cheyenne Ave. • North Las Vegas\, NV 89030
URL:https://news.csn.edu/event/transmitting-figures-4/
LOCATION:CSN Fine Arts Gallery\, 3200 E. Cheyenne Avenue\, North Las Vegas\, 89030\, United States
CATEGORIES:Arts
ATTACH;FMTTYPE=image/jpeg:https://news.csn.edu/wp-content/uploads/2026/02/transmitting-figures.jpg
END:VEVENT
BEGIN:VEVENT
DTSTART;TZID=America/Los_Angeles:20260303T130000
DTEND;TZID=America/Los_Angeles:20260303T140000
DTSTAMP:20260420T211713
CREATED:20251216T011514Z
LAST-MODIFIED:20251216T011514Z
UID:10008931-1772542800-1772546400@news.csn.edu
SUMMARY:CTEAP Info Session - Spring 2026
DESCRIPTION:The Career & Technical Education Assistance Program (CTEAP) provides textbooks\, uniforms\, tools\, assistance and more to students interested in non-traditional occupations in the career and technical education fields. \nTo learn more\, attend an information session by RSVP at tinyurl.com/Sp26CTEAPInfoSession
URL:https://news.csn.edu/event/cteap-info-session-spring-2026/2026-03-03/
LOCATION:CSN North Las Vegas Campus\, 3200 E. Cheyenne Ave\, North Las Vegas\, NV\, 89030\, United States
CATEGORIES:Community,Employees,Student life
ATTACH;FMTTYPE=image/png:https://news.csn.edu/wp-content/uploads/2025/12/7-1.png
END:VEVENT
BEGIN:VEVENT
DTSTART;TZID=America/Los_Angeles:20260304T080000
DTEND;TZID=America/Los_Angeles:20260304T170000
DTSTAMP:20260420T211713
CREATED:20260130T235918Z
LAST-MODIFIED:20260130T235918Z
UID:10009178-1772611200-1772643600@news.csn.edu
SUMMARY:To The Left
DESCRIPTION:Participating Artists:\nAimee Coello\, Camile Lovaz\, Rose Miller\, Niko Navalta\, Jessica Samaniego\, Bella Sanabria\, Montaysia Yuneek and Arianna Zaremehrjardi \nFri.\, Feb. 13 – Sat.\, June 20\, 2026\nPanel Discussion and Artist Reception: Thurs.\, June 11 at 6 p.m.\nThe Debra March Center of Excellence\n2200 Via Inspirada\, Henderson\, NV 89044 \nGallery Hours:\nMonday through Friday 8 a.m. to 5 p.m.\nGallery is closed Saturday\, Sunday\, Nevada state holidays and between CSN academic terms.\nAll CSN art gallery events are free\, family friendly and open to the public. \nFor exhibition information\, please email: artgallery@csn.edu or call 702.651.4146\nFor building access and hours\,\nplease call 702-651-3727 | Website: www.csn.edu/artgallery
URL:https://news.csn.edu/event/to-the-left-14/
LOCATION:Debra March Center of Excellence\, 2200 Via Inspirada\, Henderson\, NV\, 89044\, United States
CATEGORIES:Arts
ATTACH;FMTTYPE=image/jpeg:https://news.csn.edu/wp-content/uploads/2026/01/to-the-left-flyer.jpg
END:VEVENT
BEGIN:VEVENT
DTSTART;TZID=America/Los_Angeles:20260304T090000
DTEND;TZID=America/Los_Angeles:20260304T180000
DTSTAMP:20260420T211713
CREATED:20260212T164305Z
LAST-MODIFIED:20260212T164305Z
UID:10009273-1772614800-1772647200@news.csn.edu
SUMMARY:Transmitting Figures
DESCRIPTION:Sapira Cheuk \nFriday\, February 27 – Saturday\, May 2\, 2026 \nGallery Talk & Artist Reception:\nWednesday\, April 1 • 6 p.m. \nGallery Hours:\nMonday through Friday • 9:00 a.m. to 6:00 p.m.\nSaturday 10:00 a.m. to 4:00 p.m.\nAll CSN art gallery events are tree\, family friendly & open to the public. \nFor more information please call: 702.651.4146\nartgallery@csn.edu • www.csn.edu/artgallery \nDirections: The Fine Arts Gallery is located adjacent to the Nicholas J. Horn Theatre Lobby on the North Las Vegas Campus of the College of Southern Nevada\n3200 E. Cheyenne Ave. • North Las Vegas\, NV 89030
URL:https://news.csn.edu/event/transmitting-figures-5/
LOCATION:CSN Fine Arts Gallery\, 3200 E. Cheyenne Avenue\, North Las Vegas\, 89030\, United States
CATEGORIES:Arts
ATTACH;FMTTYPE=image/jpeg:https://news.csn.edu/wp-content/uploads/2026/02/transmitting-figures.jpg
END:VEVENT
BEGIN:VEVENT
DTSTART;TZID=America/Los_Angeles:20260304T110000
DTEND;TZID=America/Los_Angeles:20260304T130000
DTSTAMP:20260420T211713
CREATED:20251216T013747Z
LAST-MODIFIED:20251216T013747Z
UID:10008941-1772622000-1772629200@news.csn.edu
SUMMARY:TAP Info Session - Spring 2026
DESCRIPTION:The Textbook Assistance Program (TAP) is a free program\, open to all CSN students on a first come\, first served basis. \nTo learn more\, attend an information session by RSVP @ tinyurl.com/Sp26TAPInfoSession
URL:https://news.csn.edu/event/tap-info-session-spring-2026/2026-03-04/
LOCATION:CSN North Las Vegas Student Union\, 3200 E. Cheyenne Avenue\, North Las Vegas\, NV\, 89030\, United States
CATEGORIES:Community,Employees,Student life
ATTACH;FMTTYPE=image/jpeg:https://news.csn.edu/wp-content/uploads/2025/12/6-1.jpg
END:VEVENT
BEGIN:VEVENT
DTSTART;TZID=America/Los_Angeles:20260304T130000
DTEND;TZID=America/Los_Angeles:20260304T140000
DTSTAMP:20260420T211713
CREATED:20260128T231523Z
LAST-MODIFIED:20260324T144535Z
UID:10009099-1772629200-1772632800@news.csn.edu
SUMMARY:Yoga for All Levels
DESCRIPTION:Join us for a relaxing\, all levels yoga class designed to reduce stress\, improve flexibility\, and support overall well-being! The yoga class begins on February 11 and runs through May 13 on Wednesdays at 1PM at the North Las Vegas Campus Bldg. G Rm. 115! Students may join at any time\, bring a yoga mat and a water bottle. Limited mats available\, no experience necessary\, and all abilities are welcomed!
URL:https://news.csn.edu/event/yoga-for-all-levels/2026-03-04/
LOCATION:CSN North Las Vegas Campus G Building\, 3200 East Cheyenne Avenue\, North Las Vegas\, NV\, 89030\, United States
CATEGORIES:Arts,Athletics,Community,Cultural Event,Employees,Sports,Student life
ATTACH;FMTTYPE=image/png:https://news.csn.edu/wp-content/uploads/2026/01/Yoga.png
END:VEVENT
BEGIN:VEVENT
DTSTART;TZID=America/Los_Angeles:20260304T150000
DTEND;TZID=America/Los_Angeles:20260304T160000
DTSTAMP:20260420T211713
CREATED:20250822T165932Z
LAST-MODIFIED:20250822T170007Z
UID:10008343-1772636400-1772640000@news.csn.edu
SUMMARY:Thrive Support Group (CAPS) - Henderson
DESCRIPTION:
URL:https://news.csn.edu/event/thrive-support-group-caps-henderson/2026-03-04/
LOCATION:Henderson Campus\, 700 College Drive\, Henderson\, NV\, 89146\, United States
ATTACH;FMTTYPE=image/png:https://news.csn.edu/wp-content/uploads/2025/08/Fa25-Thrive-Support-Group-HEN.png
END:VEVENT
BEGIN:VEVENT
DTSTART;TZID=America/Los_Angeles:20260304T180000
DTEND;TZID=America/Los_Angeles:20260304T200000
DTSTAMP:20260420T211713
CREATED:20260226T152519Z
LAST-MODIFIED:20260226T152519Z
UID:10009415-1772647200-1772654400@news.csn.edu
SUMMARY:CSN TRAVELING EXHIBITION GALLERY TALK AND ARTIST RECEPTION: Flux1 by Sherry Watkins
DESCRIPTION:CSN ART GALLERIES PRESENTS: Flux1\nCSN’s Traveling Exhibition featuring the work of Sherry Watkins \nThe College of Southern Nevada\, School of Arts & Letters\, and Department of Fine Arts is hosting a traveling exhibition of acrylic paintings by Nevada-based artist and College of Southern Nevada Performing Arts Center Box Office Supervisor\, Sherry Watkins. Flux1\,  opened Tuesday\, July 1\, 2025\, and has been traveling throughout the Las Vegas Valley with showings on the CSN Henderson and Charleston campuses. The exhibit arrives at CSN’s North Las Vegas campus beginning March 1 and will run through June 30\, 2026. \nA special Gallery Talk and Artist Reception with light refreshments will take place on Wednesday\, March 4\, 2026\, at 6 PM in the North Las Vegas Campus\, Tyrone Thompson Student Union Art Gallery. \nThe CSN Student Union Art Galleries are free\, family-friendly\, and open to the public. \nGallery hours vary by campus and semester. Please visit https://www.csn.edu/student-unions for current hours of operation. \nFor more information\, please call (702) 651-4146 http://www.csn.edu/artgallery \n 
URL:https://news.csn.edu/event/csn-traveling-exhibition-gallery-talk-and-artist-reception-flux1-by-sherry-watkins/
LOCATION:Tyrone Thompson Student Union\, 3200 E Cheyenne Ave\, North Las Vegas\, NV\, 89030\, United States
CATEGORIES:Arts,Community,Cultural Event,Employees,Student life
ATTACH;FMTTYPE=image/jpeg:https://news.csn.edu/wp-content/uploads/2026/02/Infinite-Pool.jpg
END:VEVENT
BEGIN:VEVENT
DTSTART;TZID=America/Los_Angeles:20260305T080000
DTEND;TZID=America/Los_Angeles:20260305T170000
DTSTAMP:20260420T211713
CREATED:20260130T235924Z
LAST-MODIFIED:20260130T235924Z
UID:10009179-1772697600-1772730000@news.csn.edu
SUMMARY:To The Left
DESCRIPTION:Participating Artists:\nAimee Coello\, Camile Lovaz\, Rose Miller\, Niko Navalta\, Jessica Samaniego\, Bella Sanabria\, Montaysia Yuneek and Arianna Zaremehrjardi \nFri.\, Feb. 13 – Sat.\, June 20\, 2026\nPanel Discussion and Artist Reception: Thurs.\, June 11 at 6 p.m.\nThe Debra March Center of Excellence\n2200 Via Inspirada\, Henderson\, NV 89044 \nGallery Hours:\nMonday through Friday 8 a.m. to 5 p.m.\nGallery is closed Saturday\, Sunday\, Nevada state holidays and between CSN academic terms.\nAll CSN art gallery events are free\, family friendly and open to the public. \nFor exhibition information\, please email: artgallery@csn.edu or call 702.651.4146\nFor building access and hours\,\nplease call 702-651-3727 | Website: www.csn.edu/artgallery
URL:https://news.csn.edu/event/to-the-left-15/
LOCATION:Debra March Center of Excellence\, 2200 Via Inspirada\, Henderson\, NV\, 89044\, United States
CATEGORIES:Arts
ATTACH;FMTTYPE=image/jpeg:https://news.csn.edu/wp-content/uploads/2026/01/to-the-left-flyer.jpg
END:VEVENT
BEGIN:VEVENT
DTSTART;TZID=America/Los_Angeles:20260305T090000
DTEND;TZID=America/Los_Angeles:20260305T180000
DTSTAMP:20260420T211713
CREATED:20260212T164310Z
LAST-MODIFIED:20260212T164310Z
UID:10009274-1772701200-1772733600@news.csn.edu
SUMMARY:Transmitting Figures
DESCRIPTION:Sapira Cheuk \nFriday\, February 27 – Saturday\, May 2\, 2026 \nGallery Talk & Artist Reception:\nWednesday\, April 1 • 6 p.m. \nGallery Hours:\nMonday through Friday • 9:00 a.m. to 6:00 p.m.\nSaturday 10:00 a.m. to 4:00 p.m.\nAll CSN art gallery events are tree\, family friendly & open to the public. \nFor more information please call: 702.651.4146\nartgallery@csn.edu • www.csn.edu/artgallery \nDirections: The Fine Arts Gallery is located adjacent to the Nicholas J. Horn Theatre Lobby on the North Las Vegas Campus of the College of Southern Nevada\n3200 E. Cheyenne Ave. • North Las Vegas\, NV 89030
URL:https://news.csn.edu/event/transmitting-figures-6/
LOCATION:CSN Fine Arts Gallery\, 3200 E. Cheyenne Avenue\, North Las Vegas\, 89030\, United States
CATEGORIES:Arts
ATTACH;FMTTYPE=image/jpeg:https://news.csn.edu/wp-content/uploads/2026/02/transmitting-figures.jpg
END:VEVENT
BEGIN:VEVENT
DTSTART;TZID=America/Los_Angeles:20260305T110000
DTEND;TZID=America/Los_Angeles:20260305T130000
DTSTAMP:20260420T211713
CREATED:20251216T001618Z
LAST-MODIFIED:20251216T001618Z
UID:10008924-1772708400-1772715600@news.csn.edu
SUMMARY:Henderson Career Fair
DESCRIPTION:Henderson Career Fair – Spring 2026 \nThursday\, March 5\, 2026 from 11am to 1pm \nHenderson Campus – Student Union Ballrooms \nRSVP today! tinyurl.com/Sp26HENCareerFair
URL:https://news.csn.edu/event/henderson-career-fair/
LOCATION:Henderson Student Union\, 700 College Dr.\, Henderson\, NV\, 89002\, United States
CATEGORIES:Community,Employees,Student life
ATTACH;FMTTYPE=image/jpeg:https://news.csn.edu/wp-content/uploads/2025/12/Sp26-Career-Services-Flyers.jpg
END:VEVENT
BEGIN:VEVENT
DTSTART;TZID=America/Los_Angeles:20260305T110000
DTEND;TZID=America/Los_Angeles:20260305T130000
DTSTAMP:20260420T211713
CREATED:20251216T002451Z
LAST-MODIFIED:20251216T002451Z
UID:10008925-1772708400-1772715600@news.csn.edu
SUMMARY:Henderson Career Fair Spring 2026
DESCRIPTION:The College of Southern Nevada Career Services invites registered Handshake employers to participate in our upcoming Henderson Career Fair. \nWe welcome organizations across all business and industry sectors\, to engage directly with our students\, alumni\, and community members. Our goal is to help meet the growing demand for employment\, internships\, and any other opportunities by connecting CSN students with local and national employers.
URL:https://news.csn.edu/event/henderson-career-fair-spring-2026/
LOCATION:Henderson Student Union\, 700 College Dr.\, Henderson\, NV\, 89002\, United States
CATEGORIES:Employees
ATTACH;FMTTYPE=image/png:https://news.csn.edu/wp-content/uploads/2025/12/Employers-Only.png
END:VEVENT
END:VCALENDAR