BEGIN:VCALENDAR
VERSION:2.0
PRODID:-//College of Southern Nevada - ECPv6.15.13//NONSGML v1.0//EN
CALSCALE:GREGORIAN
METHOD:PUBLISH
X-ORIGINAL-URL:https://news.csn.edu
X-WR-CALDESC:Events for College of Southern Nevada
REFRESH-INTERVAL;VALUE=DURATION:PT1H
X-Robots-Tag:noindex
X-PUBLISHED-TTL:PT1H
BEGIN:VTIMEZONE
TZID:UTC
BEGIN:STANDARD
TZOFFSETFROM:+0000
TZOFFSETTO:+0000
TZNAME:UTC
DTSTART:20250101T000000
END:STANDARD
END:VTIMEZONE
BEGIN:VTIMEZONE
TZID:America/Los_Angeles
BEGIN:DAYLIGHT
TZOFFSETFROM:-0800
TZOFFSETTO:-0700
TZNAME:PDT
DTSTART:20250309T100000
END:DAYLIGHT
BEGIN:STANDARD
TZOFFSETFROM:-0700
TZOFFSETTO:-0800
TZNAME:PST
DTSTART:20251102T090000
END:STANDARD
BEGIN:DAYLIGHT
TZOFFSETFROM:-0800
TZOFFSETTO:-0700
TZNAME:PDT
DTSTART:20260308T100000
END:DAYLIGHT
BEGIN:STANDARD
TZOFFSETFROM:-0700
TZOFFSETTO:-0800
TZNAME:PST
DTSTART:20261101T090000
END:STANDARD
BEGIN:DAYLIGHT
TZOFFSETFROM:-0800
TZOFFSETTO:-0700
TZNAME:PDT
DTSTART:20270314T100000
END:DAYLIGHT
BEGIN:STANDARD
TZOFFSETFROM:-0700
TZOFFSETTO:-0800
TZNAME:PST
DTSTART:20271107T090000
END:STANDARD
END:VTIMEZONE
BEGIN:VEVENT
DTSTART;TZID=UTC:20260206T020000
DTEND;TZID=UTC:20260206T050000
DTSTAMP:20260423T205043
CREATED:20251227T121528Z
LAST-MODIFIED:20251227T121528Z
UID:10009020-1770343200-1770354000@news.csn.edu
SUMMARY:College of Southern Nevada Baseball vs Gateway Community College
DESCRIPTION:College of Southern Nevada Baseball vs Gateway Community College
URL:https://news.csn.edu/event/college-of-southern-nevada-baseball-vs-gateway-community-college-2/
LOCATION:Henderson\, NV\, Morse Stadium
CATEGORIES:Baseball
END:VEVENT
BEGIN:VEVENT
DTSTART;TZID=America/Los_Angeles:20260206T080000
DTEND;TZID=America/Los_Angeles:20260206T170000
DTSTAMP:20260423T205043
CREATED:20251013T170614Z
LAST-MODIFIED:20251013T170614Z
UID:10008608-1770364800-1770397200@news.csn.edu
SUMMARY:Beyond the Fence
DESCRIPTION:Fri.\, Oct. 17\, 2025 – Sat.\, Feb. 7\, 2026\nGallery Talk & Artist Reception: Tues.\, Feb. 3\, 2026 at 6-8 p.m.  \nThe Debra March Center of Excellence \n2200 Via Inspirada\, Henderson\, NV 89044
URL:https://news.csn.edu/event/beyond-the-fence-95/
LOCATION:Debra March Center of Excellence\, 2200 Via Inspirada\, Henderson\, NV\, 89044\, United States
CATEGORIES:Arts
ATTACH;FMTTYPE=image/jpeg:https://news.csn.edu/wp-content/uploads/2025/10/beyondthefence.jpg
END:VEVENT
BEGIN:VEVENT
DTSTART;TZID=America/Los_Angeles:20260206T080000
DTEND;TZID=America/Los_Angeles:20260206T170000
DTSTAMP:20260423T205043
CREATED:20260116T224956Z
LAST-MODIFIED:20260116T224956Z
UID:10009068-1770364800-1770397200@news.csn.edu
SUMMARY:Active Assailant Safety Training
DESCRIPTION:Join the University Police Department for an 8-hour\, hands-on Active Assailant Training designed to help participants develop practical response strategies and confidence in high-stress situations. This interactive\, scenario-based course focuses on preparedness\, situational awareness\, and coordinated response techniques. Participants will engage in guided activities and discussions to better understand how to react safely and effectively during critical incidents.
URL:https://news.csn.edu/event/active-assailant-safety-training/
LOCATION:Nevada State University\, 1300 Nevada State Dr\, Henderson\, NV\, 89002\, United States
CATEGORIES:Athletics,Community,Employees,Student life
ATTACH;FMTTYPE=image/png:https://news.csn.edu/wp-content/uploads/2026/01/AAT-FEB-6-2026-FLYER.png
END:VEVENT
BEGIN:VEVENT
DTSTART;TZID=America/Los_Angeles:20260206T080000
DTEND;TZID=America/Los_Angeles:20260206T223000
DTSTAMP:20260423T205043
CREATED:20251118T161549Z
LAST-MODIFIED:20251118T161549Z
UID:10008757-1770364800-1770417000@news.csn.edu
SUMMARY:ART 298: Portfolio Emphasis Fall 2025 Exhibition - “Memento”
DESCRIPTION:Friday\, December 5\, 2025\, through Saturday\, February 28\, 2026\nNorth Las Vegas Campus Artspace Gallery \nCSN’s Artspace Gallery is free\, family-friendly\, and open to the public. Gallery hours are from 8 a.m. to 10:30 p.m. Monday through Friday and 8 a.m. to 5 p.m. Saturday. \nThe Artspace Gallery is upstairs above the main entrance lobby on the North Las Vegas campus\, located at 3200 E. Cheyenne Avenue\, one mile East of I-15 North. \nFor more information\, please call (702) 651-4146 \nhttp://www.csn.edu/artgallery
URL:https://news.csn.edu/event/art-298-portfolio-emphasis-fall-2025-exhibition-memento-55/
LOCATION:North Las Vegas campus\, 3200 E. Cheyenne Avenue\, North Las Vegas\, NV\, 89122\, United States
CATEGORIES:Arts
ATTACH;FMTTYPE=image/jpeg:https://news.csn.edu/wp-content/uploads/2025/11/smlr.jpg
END:VEVENT
BEGIN:VEVENT
DTSTART;TZID=America/Los_Angeles:20260206T090000
DTEND;TZID=America/Los_Angeles:20260206T180000
DTSTAMP:20260423T205043
CREATED:20251120T183802Z
LAST-MODIFIED:20251120T183802Z
UID:10008823-1770368400-1770400800@news.csn.edu
SUMMARY:Christine Knize: Orchidelirium
DESCRIPTION:Friday\, December 12\, 2025\, through Saturday\, February 14\, 2026\nGallery Talk and Artist Reception: Friday\, December 12\, 2025\nNorth Las Vegas Campus • Fine Arts Gallery \nThe College of Southern Nevada\, School of Arts & Letters\, and Department of Fine Arts will host an exhibition of large-scale oil paintings by Florida-based artist Christine Knize. Christine Knize: Orchidelirium opens Friday\, December 12\, 2025\, and runs through Saturday\, February 14\, 2026\, in the Fine Arts Gallery on the North Las Vegas Campus of the College of Southern Nevada. A special Gallery Talk and Artist Reception\, with refreshments\, will take place on Friday\, December 12\, 2025\, at 6:00 pm. \nFor more information\, please call (702) 651-4146 \nhttp://www.csn.edu/artgallery
URL:https://news.csn.edu/event/christine-knize-orchidelirium-47/
LOCATION:North Las Vegas campus\, 3200 E. Cheyenne Avenue\, North Las Vegas\, NV\, 89122\, United States
CATEGORIES:Arts
ATTACH;FMTTYPE=image/jpeg:https://news.csn.edu/wp-content/uploads/2025/11/ck.jpg
END:VEVENT
BEGIN:VEVENT
DTSTART;TZID=America/Los_Angeles:20260206T110000
DTEND;TZID=America/Los_Angeles:20260206T130000
DTSTAMP:20260423T205043
CREATED:20251223T054345Z
LAST-MODIFIED:20251223T054345Z
UID:10008975-1770375600-1770382800@news.csn.edu
SUMMARY:Spring 2026 ASCSN Senate Meetings
DESCRIPTION:ASCSN advocates for the academic and social success of students by promoting inclusivity and connecting them to community resources. Come join us for an informative meeting of promoting the success of CSN Students in campus life\, clubs\, organizations and community involvement!
URL:https://news.csn.edu/event/spring-2026-ascsn-senate-meetings/2026-02-06/
LOCATION:Charleston Campus Student Union Room 130\, 6375 W. Charleston\, Las Vegas\, 89146\, United States
CATEGORIES:Community,Cultural Event,Student life
ATTACH;FMTTYPE=image/png:https://news.csn.edu/wp-content/uploads/2025/12/ASCSN-Sp26-Senate-Meetings.png
END:VEVENT
BEGIN:VEVENT
DTSTART;TZID=UTC:20260206T200000
DTEND;TZID=UTC:20260206T230000
DTSTAMP:20260423T205043
CREATED:20251227T121528Z
LAST-MODIFIED:20251227T121528Z
UID:10009021-1770408000-1770418800@news.csn.edu
SUMMARY:College of Southern Nevada Baseball vs Gateway Community College
DESCRIPTION:College of Southern Nevada Baseball vs Gateway Community College
URL:https://news.csn.edu/event/college-of-southern-nevada-baseball-vs-gateway-community-college-3/
LOCATION:Henderson\, NV\, Morse Stadium
CATEGORIES:Baseball
END:VEVENT
BEGIN:VEVENT
DTSTART;TZID=UTC:20260206T223000
DTEND;TZID=UTC:20260207T013000
DTSTAMP:20260423T205043
CREATED:20251227T121528Z
LAST-MODIFIED:20251227T121528Z
UID:10009022-1770417000-1770427800@news.csn.edu
SUMMARY:College of Southern Nevada Baseball vs Gateway Community College
DESCRIPTION:College of Southern Nevada Baseball vs Gateway Community College
URL:https://news.csn.edu/event/college-of-southern-nevada-baseball-vs-gateway-community-college-4/
LOCATION:Henderson\, NV\, Morse Stadium
CATEGORIES:Baseball
END:VEVENT
BEGIN:VEVENT
DTSTART;TZID=America/Los_Angeles:20260207T080000
DTEND;TZID=America/Los_Angeles:20260207T170000
DTSTAMP:20260423T205043
CREATED:20251013T170618Z
LAST-MODIFIED:20251013T170618Z
UID:10008609-1770451200-1770483600@news.csn.edu
SUMMARY:Beyond the Fence
DESCRIPTION:Fri.\, Oct. 17\, 2025 – Sat.\, Feb. 7\, 2026\nGallery Talk & Artist Reception: Tues.\, Feb. 3\, 2026 at 6-8 p.m.  \nThe Debra March Center of Excellence \n2200 Via Inspirada\, Henderson\, NV 89044
URL:https://news.csn.edu/event/beyond-the-fence-96/
LOCATION:Debra March Center of Excellence\, 2200 Via Inspirada\, Henderson\, NV\, 89044\, United States
CATEGORIES:Arts
ATTACH;FMTTYPE=image/jpeg:https://news.csn.edu/wp-content/uploads/2025/10/beyondthefence.jpg
END:VEVENT
BEGIN:VEVENT
DTSTART;TZID=America/Los_Angeles:20260207T080000
DTEND;TZID=America/Los_Angeles:20260207T170000
DTSTAMP:20260423T205043
CREATED:20251118T161558Z
LAST-MODIFIED:20251118T161558Z
UID:10008758-1770451200-1770483600@news.csn.edu
SUMMARY:ART 298: Portfolio Emphasis Fall 2025 Exhibition - “Memento”
DESCRIPTION:Friday\, December 5\, 2025\, through Saturday\, February 28\, 2026\nNorth Las Vegas Campus Artspace Gallery \nCSN’s Artspace Gallery is free\, family-friendly\, and open to the public. Gallery hours are from 8 a.m. to 10:30 p.m. Monday through Friday and 8 a.m. to 5 p.m. Saturday. \nThe Artspace Gallery is upstairs above the main entrance lobby on the North Las Vegas campus\, located at 3200 E. Cheyenne Avenue\, one mile East of I-15 North. \nFor more information\, please call (702) 651-4146 \nhttp://www.csn.edu/artgallery
URL:https://news.csn.edu/event/art-298-portfolio-emphasis-fall-2025-exhibition-memento-56/
LOCATION:North Las Vegas campus\, 3200 E. Cheyenne Avenue\, North Las Vegas\, NV\, 89122\, United States
CATEGORIES:Arts
ATTACH;FMTTYPE=image/jpeg:https://news.csn.edu/wp-content/uploads/2025/11/smlr.jpg
END:VEVENT
BEGIN:VEVENT
DTSTART;TZID=America/Los_Angeles:20260207T100000
DTEND;TZID=America/Los_Angeles:20260207T160000
DTSTAMP:20260423T205043
CREATED:20251120T183812Z
LAST-MODIFIED:20251120T183812Z
UID:10008825-1770458400-1770480000@news.csn.edu
SUMMARY:Christine Knize: Orchidelirium
DESCRIPTION:Friday\, December 12\, 2025\, through Saturday\, February 14\, 2026\nGallery Talk and Artist Reception: Friday\, December 12\, 2025\nNorth Las Vegas Campus • Fine Arts Gallery \nThe College of Southern Nevada\, School of Arts & Letters\, and Department of Fine Arts will host an exhibition of large-scale oil paintings by Florida-based artist Christine Knize. Christine Knize: Orchidelirium opens Friday\, December 12\, 2025\, and runs through Saturday\, February 14\, 2026\, in the Fine Arts Gallery on the North Las Vegas Campus of the College of Southern Nevada. A special Gallery Talk and Artist Reception\, with refreshments\, will take place on Friday\, December 12\, 2025\, at 6:00 pm. \nFor more information\, please call (702) 651-4146 \nhttp://www.csn.edu/artgallery
URL:https://news.csn.edu/event/christine-knize-orchidelirium-48/
LOCATION:North Las Vegas campus\, 3200 E. Cheyenne Avenue\, North Las Vegas\, NV\, 89122\, United States
CATEGORIES:Arts
ATTACH;FMTTYPE=image/jpeg:https://news.csn.edu/wp-content/uploads/2025/11/ck.jpg
END:VEVENT
BEGIN:VEVENT
DTSTART;TZID=UTC:20260207T220000
DTEND;TZID=UTC:20260208T000000
DTSTAMP:20260423T205043
CREATED:20251127T071902Z
LAST-MODIFIED:20251127T071902Z
UID:10008900-1770501600-1770508800@news.csn.edu
SUMMARY:College of Southern Nevada Women's Basketball vs Eastern Arizona College
DESCRIPTION:College of Southern Nevada Women’s Basketball vs Eastern Arizona College
URL:https://news.csn.edu/event/college-of-southern-nevada-womens-basketball-vs-eastern-arizona-college-3/
LOCATION:North Las Vegas\, NV\, CSN Sports Center
CATEGORIES:Women's Basketball
END:VEVENT
BEGIN:VEVENT
DTSTART;TZID=UTC:20260208T000000
DTEND;TZID=UTC:20260208T020000
DTSTAMP:20260423T205043
CREATED:20251121T201635Z
LAST-MODIFIED:20251121T201635Z
UID:10008847-1770508800-1770516000@news.csn.edu
SUMMARY:College of Southern Nevada Men's Basketball vs Eastern Arizona College
DESCRIPTION:College of Southern Nevada Men’s Basketball vs Eastern Arizona College
URL:https://news.csn.edu/event/college-of-southern-nevada-mens-basketball-vs-eastern-arizona-college-3/
LOCATION:North Las Vegas\, NV\, Coyote Event Center
CATEGORIES:Men's Basketball
END:VEVENT
BEGIN:VEVENT
DTSTART;TZID=America/Los_Angeles:20260208T150000
DTEND;TZID=America/Los_Angeles:20260208T170000
DTSTAMP:20260423T205043
CREATED:20260127T165557Z
LAST-MODIFIED:20260127T165557Z
UID:10009080-1770562800-1770570000@news.csn.edu
SUMMARY:Celebracion Latina featuring CSN's Mariachi Plata
DESCRIPTION:
URL:https://news.csn.edu/event/celebracion-latina-featuring-csns-mariachi-plata/
LOCATION:CSN Performing Arts Center Horn Theatre\, 3200 E. Cheyenne Avenue\, North Las Vegas\, NV\, 89030\, United States
CATEGORIES:Arts,Community,Cultural Event,Employees,Student life
ATTACH;FMTTYPE=image/jpeg:https://news.csn.edu/wp-content/uploads/2026/01/2726-OLV-scaled.jpg
END:VEVENT
BEGIN:VEVENT
DTSTART;TZID=America/Los_Angeles:20260209T080000
DTEND;TZID=America/Los_Angeles:20260209T223000
DTSTAMP:20260423T205043
CREATED:20251118T161648Z
LAST-MODIFIED:20251118T161648Z
UID:10008760-1770624000-1770676200@news.csn.edu
SUMMARY:ART 298: Portfolio Emphasis Fall 2025 Exhibition - “Memento”
DESCRIPTION:Friday\, December 5\, 2025\, through Saturday\, February 28\, 2026\nNorth Las Vegas Campus Artspace Gallery \nCSN’s Artspace Gallery is free\, family-friendly\, and open to the public. Gallery hours are from 8 a.m. to 10:30 p.m. Monday through Friday and 8 a.m. to 5 p.m. Saturday. \nThe Artspace Gallery is upstairs above the main entrance lobby on the North Las Vegas campus\, located at 3200 E. Cheyenne Avenue\, one mile East of I-15 North. \nFor more information\, please call (702) 651-4146 \nhttp://www.csn.edu/artgallery
URL:https://news.csn.edu/event/art-298-portfolio-emphasis-fall-2025-exhibition-memento-57/
LOCATION:North Las Vegas campus\, 3200 E. Cheyenne Avenue\, North Las Vegas\, NV\, 89122\, United States
CATEGORIES:Arts
ATTACH;FMTTYPE=image/jpeg:https://news.csn.edu/wp-content/uploads/2025/11/smlr.jpg
END:VEVENT
BEGIN:VEVENT
DTSTART;TZID=America/Los_Angeles:20260209T090000
DTEND;TZID=America/Los_Angeles:20260209T100000
DTSTAMP:20260423T205043
CREATED:20251013T205024Z
LAST-MODIFIED:20251013T234133Z
UID:10008629-1770627600-1770631200@news.csn.edu
SUMMARY:Mindful Balance group
DESCRIPTION:
URL:https://news.csn.edu/event/mindful-balance-group/2026-02-09/
LOCATION:NV
ATTACH;FMTTYPE=image/png:https://news.csn.edu/wp-content/uploads/2025/10/CAPS-Mindful-Balance-Group-Flyer-1.png
END:VEVENT
BEGIN:VEVENT
DTSTART;TZID=America/Los_Angeles:20260209T090000
DTEND;TZID=America/Los_Angeles:20260209T180000
DTSTAMP:20260423T205043
CREATED:20251120T183859Z
LAST-MODIFIED:20251120T183859Z
UID:10008829-1770627600-1770660000@news.csn.edu
SUMMARY:Christine Knize: Orchidelirium
DESCRIPTION:Friday\, December 12\, 2025\, through Saturday\, February 14\, 2026\nGallery Talk and Artist Reception: Friday\, December 12\, 2025\nNorth Las Vegas Campus • Fine Arts Gallery \nThe College of Southern Nevada\, School of Arts & Letters\, and Department of Fine Arts will host an exhibition of large-scale oil paintings by Florida-based artist Christine Knize. Christine Knize: Orchidelirium opens Friday\, December 12\, 2025\, and runs through Saturday\, February 14\, 2026\, in the Fine Arts Gallery on the North Las Vegas Campus of the College of Southern Nevada. A special Gallery Talk and Artist Reception\, with refreshments\, will take place on Friday\, December 12\, 2025\, at 6:00 pm. \nFor more information\, please call (702) 651-4146 \nhttp://www.csn.edu/artgallery
URL:https://news.csn.edu/event/christine-knize-orchidelirium-49/
LOCATION:North Las Vegas campus\, 3200 E. Cheyenne Avenue\, North Las Vegas\, NV\, 89122\, United States
CATEGORIES:Arts
ATTACH;FMTTYPE=image/jpeg:https://news.csn.edu/wp-content/uploads/2025/11/ck.jpg
END:VEVENT
BEGIN:VEVENT
DTSTART;TZID=America/Los_Angeles:20260210T080000
DTEND;TZID=America/Los_Angeles:20260210T223000
DTSTAMP:20260423T205043
CREATED:20251118T161654Z
LAST-MODIFIED:20251118T161654Z
UID:10008759-1770710400-1770762600@news.csn.edu
SUMMARY:ART 298: Portfolio Emphasis Fall 2025 Exhibition - “Memento”
DESCRIPTION:Friday\, December 5\, 2025\, through Saturday\, February 28\, 2026\nNorth Las Vegas Campus Artspace Gallery \nCSN’s Artspace Gallery is free\, family-friendly\, and open to the public. Gallery hours are from 8 a.m. to 10:30 p.m. Monday through Friday and 8 a.m. to 5 p.m. Saturday. \nThe Artspace Gallery is upstairs above the main entrance lobby on the North Las Vegas campus\, located at 3200 E. Cheyenne Avenue\, one mile East of I-15 North. \nFor more information\, please call (702) 651-4146 \nhttp://www.csn.edu/artgallery
URL:https://news.csn.edu/event/art-298-portfolio-emphasis-fall-2025-exhibition-memento-58/
LOCATION:North Las Vegas campus\, 3200 E. Cheyenne Avenue\, North Las Vegas\, NV\, 89122\, United States
CATEGORIES:Arts
ATTACH;FMTTYPE=image/jpeg:https://news.csn.edu/wp-content/uploads/2025/11/smlr.jpg
END:VEVENT
BEGIN:VEVENT
DTSTART;TZID=America/Los_Angeles:20260210T081500
DTEND;TZID=America/Los_Angeles:20260210T084500
DTSTAMP:20260423T205043
CREATED:20251125T203246Z
LAST-MODIFIED:20251125T203246Z
UID:10008864-1770711300-1770713100@news.csn.edu
SUMMARY:Biscuits & Business
DESCRIPTION:﻿Biscuits & Business with the Career Services Director \nMeet the Career Services Director to get an insider look at all the resources available to you to ensure you maximize your time here and successfully launch your professional Career. \nQuestions?: Email career.services@csn.edu \ntinyurl.com/Sp26BiscuitsAndBusiness
URL:https://news.csn.edu/event/biscuits-business-4/
LOCATION:NV
CATEGORIES:Community
ATTACH;FMTTYPE=image/jpeg:https://news.csn.edu/wp-content/uploads/2025/11/biscuitsbusiness.jpg
END:VEVENT
BEGIN:VEVENT
DTSTART;TZID=America/Los_Angeles:20260210T090000
DTEND;TZID=America/Los_Angeles:20260210T180000
DTSTAMP:20260423T205043
CREATED:20251120T183903Z
LAST-MODIFIED:20251120T183903Z
UID:10008826-1770714000-1770746400@news.csn.edu
SUMMARY:Christine Knize: Orchidelirium
DESCRIPTION:Friday\, December 12\, 2025\, through Saturday\, February 14\, 2026\nGallery Talk and Artist Reception: Friday\, December 12\, 2025\nNorth Las Vegas Campus • Fine Arts Gallery \nThe College of Southern Nevada\, School of Arts & Letters\, and Department of Fine Arts will host an exhibition of large-scale oil paintings by Florida-based artist Christine Knize. Christine Knize: Orchidelirium opens Friday\, December 12\, 2025\, and runs through Saturday\, February 14\, 2026\, in the Fine Arts Gallery on the North Las Vegas Campus of the College of Southern Nevada. A special Gallery Talk and Artist Reception\, with refreshments\, will take place on Friday\, December 12\, 2025\, at 6:00 pm. \nFor more information\, please call (702) 651-4146 \nhttp://www.csn.edu/artgallery
URL:https://news.csn.edu/event/christine-knize-orchidelirium-50/
LOCATION:North Las Vegas campus\, 3200 E. Cheyenne Avenue\, North Las Vegas\, NV\, 89122\, United States
CATEGORIES:Arts
ATTACH;FMTTYPE=image/jpeg:https://news.csn.edu/wp-content/uploads/2025/11/ck.jpg
END:VEVENT
BEGIN:VEVENT
DTSTART;TZID=America/Los_Angeles:20260211T080000
DTEND;TZID=America/Los_Angeles:20260211T223000
DTSTAMP:20260423T205043
CREATED:20251118T161659Z
LAST-MODIFIED:20251118T161659Z
UID:10008761-1770796800-1770849000@news.csn.edu
SUMMARY:ART 298: Portfolio Emphasis Fall 2025 Exhibition - “Memento”
DESCRIPTION:Friday\, December 5\, 2025\, through Saturday\, February 28\, 2026\nNorth Las Vegas Campus Artspace Gallery \nCSN’s Artspace Gallery is free\, family-friendly\, and open to the public. Gallery hours are from 8 a.m. to 10:30 p.m. Monday through Friday and 8 a.m. to 5 p.m. Saturday. \nThe Artspace Gallery is upstairs above the main entrance lobby on the North Las Vegas campus\, located at 3200 E. Cheyenne Avenue\, one mile East of I-15 North. \nFor more information\, please call (702) 651-4146 \nhttp://www.csn.edu/artgallery
URL:https://news.csn.edu/event/art-298-portfolio-emphasis-fall-2025-exhibition-memento-59/
LOCATION:North Las Vegas campus\, 3200 E. Cheyenne Avenue\, North Las Vegas\, NV\, 89122\, United States
CATEGORIES:Arts
ATTACH;FMTTYPE=image/jpeg:https://news.csn.edu/wp-content/uploads/2025/11/smlr.jpg
END:VEVENT
BEGIN:VEVENT
DTSTART;TZID=America/Los_Angeles:20260211T090000
DTEND;TZID=America/Los_Angeles:20260211T103000
DTSTAMP:20260423T205043
CREATED:20260204T021956Z
LAST-MODIFIED:20260204T022104Z
UID:10009257-1770800400-1770805800@news.csn.edu
SUMMARY:Coffee & Commerce - Urban Chamber of Commerce
DESCRIPTION:Start your morning with connection\, conversation\, and community. \nThe Urban Chamber of Commerce is bringing its premier networking event\, Coffee & Commerce\, to the College of Southern Nevada’s Westside Education and Training Center. \nThis is a chance for business leaders\, entrepreneurs\, and community partners to come together\, share ideas\, and build meaningful relationships over coffee. \n🗓 February 11\, 2025⏰ 9:00–10:30 a.m.📍 Westside Education and Training Center1099 C Street\, Las Vegas\, NV 89106 \nHosted by CSN Division of Workforce. Featuring remarks from Stavan Corbett\, Executive Director\, Division of Workforce at CSN. \nSeats are limited. Register today: bit.ly/CC-TBD \n  \n 
URL:https://news.csn.edu/event/coffee-commerce-urban-chamber-of-commerce/
LOCATION:NV
ATTACH;FMTTYPE=image/jpeg:https://news.csn.edu/wp-content/uploads/2026/02/UCC-Feb-2026-Coffee-Commerce-Flyer.jpg
END:VEVENT
BEGIN:VEVENT
DTSTART;TZID=America/Los_Angeles:20260211T090000
DTEND;TZID=America/Los_Angeles:20260211T180000
DTSTAMP:20260423T205043
CREATED:20251120T183907Z
LAST-MODIFIED:20251120T183907Z
UID:10008827-1770800400-1770832800@news.csn.edu
SUMMARY:Christine Knize: Orchidelirium
DESCRIPTION:Friday\, December 12\, 2025\, through Saturday\, February 14\, 2026\nGallery Talk and Artist Reception: Friday\, December 12\, 2025\nNorth Las Vegas Campus • Fine Arts Gallery \nThe College of Southern Nevada\, School of Arts & Letters\, and Department of Fine Arts will host an exhibition of large-scale oil paintings by Florida-based artist Christine Knize. Christine Knize: Orchidelirium opens Friday\, December 12\, 2025\, and runs through Saturday\, February 14\, 2026\, in the Fine Arts Gallery on the North Las Vegas Campus of the College of Southern Nevada. A special Gallery Talk and Artist Reception\, with refreshments\, will take place on Friday\, December 12\, 2025\, at 6:00 pm. \nFor more information\, please call (702) 651-4146 \nhttp://www.csn.edu/artgallery
URL:https://news.csn.edu/event/christine-knize-orchidelirium-51/
LOCATION:North Las Vegas campus\, 3200 E. Cheyenne Avenue\, North Las Vegas\, NV\, 89122\, United States
CATEGORIES:Arts
ATTACH;FMTTYPE=image/jpeg:https://news.csn.edu/wp-content/uploads/2025/11/ck.jpg
END:VEVENT
BEGIN:VEVENT
DTSTART;TZID=America/Los_Angeles:20260211T120000
DTEND;TZID=America/Los_Angeles:20260211T140000
DTSTAMP:20260423T205043
CREATED:20260104T223650Z
LAST-MODIFIED:20260104T223921Z
UID:10009064-1770811200-1770818400@news.csn.edu
SUMMARY:Sankofa Black Writer Series w/ Dr. Monica Riley
DESCRIPTION:Meet and converse with local Black author Dr. Monica Riley\, author of the anthology Joy Is Just Over Yonder: Passionate Stories of Joy Realized on February 11 at The Den in the Charleston Campus Student Union!
URL:https://news.csn.edu/event/sankofa-black-writer-series/
LOCATION:Charleston Student Union\, 6375 W. Charleston Blvd\, Las Vegas\, NV\, 89146\, United States
CATEGORIES:Arts,Community,Cultural Event,Employees,Student life
ATTACH;FMTTYPE=image/jpeg:https://news.csn.edu/wp-content/uploads/2026/01/Sp26-Sankofa-Black-Writer-Series-1.jpg
END:VEVENT
BEGIN:VEVENT
DTSTART;TZID=America/Los_Angeles:20260211T130000
DTEND;TZID=America/Los_Angeles:20260211T140000
DTSTAMP:20260423T205043
CREATED:20260123T002740Z
LAST-MODIFIED:20260123T002740Z
UID:10009071-1770814800-1770818400@news.csn.edu
SUMMARY:CSN Sophomore Survival Series
DESCRIPTION:Still need another 30 more credits before you graduate? Never fear! CSN’s Sophomore Survival Series is here to help YOU with workshops designed to discover the tools you need to finish college strong!  Join us in person for free supplies or online through livestream! Scan the QR code to register for a workshop today! \nStudy Smarter\, Work Harder \n\nFebruary 11: North Las Vegas Campus\, June Whitley Student Lounge @ 1 PM – 2 PM\nFebruary 23: Charleston Campus\, Student Union Ballroom @ 11 AM – 12 PM\n\nThe Resource Roadmap \n\nMarch 10: North Las Vegas Campus\, June Whitley Student Lounge @ 1 PM – 2 PM\nMarch 25: Charleston Campus\, Student Union Ballroom @ 11 AM – 12 PM\n\nThe Finish Line Strategy \n\nApril 6: North Las Vegas Campus\, June Whitley Student Lounge @ 1 PM – 2 PM\nApril 14: Charleston Campus\, Student Union Ballroom @ 11 AM – 12 PM\n\nSpring 2026 Sophomore Special Event \n\nApril 22: North Las Vegas Campus\, Student Union Ballroom  @ 12 PM – 2 PM
URL:https://news.csn.edu/event/csn-sophomore-survival-series/2026-02-11/
LOCATION:June Whitley Student Lounge\, 3200 N. Cheyenne Avenue\, North Las Vegas\, NV\, 89030\, United States
CATEGORIES:Arts,Athletics,Community,Cultural Event,Sports,Student life
ATTACH;FMTTYPE=image/png:https://news.csn.edu/wp-content/uploads/2026/01/Sophomore-Survival-Series-Workshop-Flyer-1.png
END:VEVENT
BEGIN:VEVENT
DTSTART;TZID=America/Los_Angeles:20260211T130000
DTEND;TZID=America/Los_Angeles:20260211T140000
DTSTAMP:20260423T205043
CREATED:20260128T231523Z
LAST-MODIFIED:20260324T144535Z
UID:10009096-1770814800-1770818400@news.csn.edu
SUMMARY:Yoga for All Levels
DESCRIPTION:Join us for a relaxing\, all levels yoga class designed to reduce stress\, improve flexibility\, and support overall well-being! The yoga class begins on February 11 and runs through May 13 on Wednesdays at 1PM at the North Las Vegas Campus Bldg. G Rm. 115! Students may join at any time\, bring a yoga mat and a water bottle. Limited mats available\, no experience necessary\, and all abilities are welcomed!
URL:https://news.csn.edu/event/yoga-for-all-levels/2026-02-11/
LOCATION:CSN North Las Vegas Campus G Building\, 3200 East Cheyenne Avenue\, North Las Vegas\, NV\, 89030\, United States
CATEGORIES:Arts,Athletics,Community,Cultural Event,Employees,Sports,Student life
ATTACH;FMTTYPE=image/png:https://news.csn.edu/wp-content/uploads/2026/01/Yoga.png
END:VEVENT
BEGIN:VEVENT
DTSTART;TZID=America/Los_Angeles:20260211T130000
DTEND;TZID=America/Los_Angeles:20260211T150000
DTSTAMP:20260423T205043
CREATED:20260128T232823Z
LAST-MODIFIED:20260128T232823Z
UID:10009162-1770814800-1770822000@news.csn.edu
SUMMARY:ASCSN Charleston Sp. 26 Welcome Back Event
DESCRIPTION:Welcome back Coyotes to the Spring 2026 Semester here at CSN! Grab a doughnut and come meet your Charleston Campus Senators at the Student Union on February 11 at 1PM!
URL:https://news.csn.edu/event/ascsn-charleston-sp-26-welcome-back-event/
LOCATION:Charleston Student Union\, 6375 W. Charleston Blvd\, Las Vegas\, NV\, 89146\, United States
CATEGORIES:Arts,Athletics,Community,Cultural Event,Sports,Student life
ATTACH;FMTTYPE=image/jpeg:https://news.csn.edu/wp-content/uploads/2026/01/Charleston-Welcome-Back-Spring-2026-flyer-2.jpg
END:VEVENT
BEGIN:VEVENT
DTSTART;TZID=America/Los_Angeles:20260211T130000
DTEND;TZID=America/Los_Angeles:20260211T150000
DTSTAMP:20260423T205043
CREATED:20260128T233840Z
LAST-MODIFIED:20260128T233840Z
UID:10009163-1770814800-1770822000@news.csn.edu
SUMMARY:ASCSN NLV Sp. 26 Welcome Back Event
DESCRIPTION:Welcome back Coyotes to the Spring 2026 Semester! Kick off the new year with “Berry Good Vibes” from your North Las Vegas ASCSN campus senators with smoothies\, games\, music\, and raffles on February 11 at 1PM at the Student Union! Don’t miss out with your fellow Coyotes and let’s make this semester an unforgettable one!
URL:https://news.csn.edu/event/ascsn-nlv-sp-26-welcome-back-event/
LOCATION:CSN North Las Vegas Student Union\, 3200 E. Cheyenne Avenue\, North Las Vegas\, NV\, 89030\, United States
CATEGORIES:Arts,Athletics,Community,Cultural Event,Sports,Student life
ATTACH;FMTTYPE=image/png:https://news.csn.edu/wp-content/uploads/2026/01/Screenshot-2026-01-28-153028.png
END:VEVENT
BEGIN:VEVENT
DTSTART;TZID=America/Los_Angeles:20260211T150000
DTEND;TZID=America/Los_Angeles:20260211T160000
DTSTAMP:20260423T205043
CREATED:20250822T165932Z
LAST-MODIFIED:20250822T170007Z
UID:10008340-1770822000-1770825600@news.csn.edu
SUMMARY:Thrive Support Group (CAPS) - Henderson
DESCRIPTION:
URL:https://news.csn.edu/event/thrive-support-group-caps-henderson/2026-02-11/
LOCATION:Henderson Campus\, 700 College Drive\, Henderson\, NV\, 89146\, United States
ATTACH;FMTTYPE=image/png:https://news.csn.edu/wp-content/uploads/2025/08/Fa25-Thrive-Support-Group-HEN.png
END:VEVENT
BEGIN:VEVENT
DTSTART;TZID=UTC:20260212T003000
DTEND;TZID=UTC:20260212T023000
DTSTAMP:20260423T205043
CREATED:20251127T071902Z
LAST-MODIFIED:20251127T071902Z
UID:10008901-1770856200-1770863400@news.csn.edu
SUMMARY:College of Southern Nevada Women's Basketball at Central Arizona College
DESCRIPTION:College of Southern Nevada Women’s Basketball at Central Arizona College
URL:https://news.csn.edu/event/college-of-southern-nevada-womens-basketball-at-central-arizona-college-3/
LOCATION:Coolidge\, AZ
CATEGORIES:Women's Basketball
END:VEVENT
END:VCALENDAR