BEGIN:VCALENDAR
VERSION:2.0
PRODID:-//College of Southern Nevada - ECPv6.15.13//NONSGML v1.0//EN
CALSCALE:GREGORIAN
METHOD:PUBLISH
X-WR-CALNAME:College of Southern Nevada
X-ORIGINAL-URL:https://news.csn.edu
X-WR-CALDESC:Events for College of Southern Nevada
REFRESH-INTERVAL;VALUE=DURATION:PT1H
X-Robots-Tag:noindex
X-PUBLISHED-TTL:PT1H
BEGIN:VTIMEZONE
TZID:America/Los_Angeles
BEGIN:DAYLIGHT
TZOFFSETFROM:-0800
TZOFFSETTO:-0700
TZNAME:PDT
DTSTART:20240310T100000
END:DAYLIGHT
BEGIN:STANDARD
TZOFFSETFROM:-0700
TZOFFSETTO:-0800
TZNAME:PST
DTSTART:20241103T090000
END:STANDARD
BEGIN:DAYLIGHT
TZOFFSETFROM:-0800
TZOFFSETTO:-0700
TZNAME:PDT
DTSTART:20250309T100000
END:DAYLIGHT
BEGIN:STANDARD
TZOFFSETFROM:-0700
TZOFFSETTO:-0800
TZNAME:PST
DTSTART:20251102T090000
END:STANDARD
BEGIN:DAYLIGHT
TZOFFSETFROM:-0800
TZOFFSETTO:-0700
TZNAME:PDT
DTSTART:20260308T100000
END:DAYLIGHT
BEGIN:STANDARD
TZOFFSETFROM:-0700
TZOFFSETTO:-0800
TZNAME:PST
DTSTART:20261101T090000
END:STANDARD
END:VTIMEZONE
BEGIN:VEVENT
DTSTART;TZID=America/Los_Angeles:20251015T150000
DTEND;TZID=America/Los_Angeles:20251015T160000
DTSTAMP:20260421T184221
CREATED:20250822T165932Z
LAST-MODIFIED:20250822T170007Z
UID:10008323-1760540400-1760544000@news.csn.edu
SUMMARY:Thrive Support Group (CAPS) - Henderson
DESCRIPTION:
URL:https://news.csn.edu/event/thrive-support-group-caps-henderson/2025-10-15/
LOCATION:Henderson Campus\, 700 College Drive\, Henderson\, NV\, 89146\, United States
ATTACH;FMTTYPE=image/png:https://news.csn.edu/wp-content/uploads/2025/08/Fa25-Thrive-Support-Group-HEN.png
END:VEVENT
BEGIN:VEVENT
DTSTART;TZID=America/Los_Angeles:20251016T080000
DTEND;TZID=America/Los_Angeles:20251016T223000
DTSTAMP:20260421T184221
CREATED:20250908T165841Z
LAST-MODIFIED:20250908T165841Z
UID:10008406-1760601600-1760653800@news.csn.edu
SUMMARY:Home is Where
DESCRIPTION:Home is Where by: Brian Higgins \nFri.\, Sept. 26 – Sat.\, Nov. 22\, 2025 \nGallery Talk & Artist Reception:\nTues.\, Sept 30\, 2025 – 6 p.m. \nMonday through Friday 8 a.m. to 10:30 p.m.\nSaturday 8 a.m. to 5 p.m. \nAll CSN art gallery events are free\, family friendly and open to the public. \nFor more information please call: 702.651.4146\nartgallery@csn.edu • www.csn.edu/artgallery \nDirections: The Artspace Gallery is located upstairs above the main entrance lobby of the North Las Vegas Campus of the College of Southern Nevada\n3200 E. Cheyenne Ave. • North Las Vegas\, NV 89030
URL:https://news.csn.edu/event/home-is-where-17/
LOCATION:North Las Vegas campus\, 3200 E. Cheyenne Avenue\, North Las Vegas\, NV\, 89122\, United States
CATEGORIES:Arts
ATTACH;FMTTYPE=image/jpeg:https://news.csn.edu/wp-content/uploads/2025/09/homeiswhere-scaled.jpg
END:VEVENT
BEGIN:VEVENT
DTSTART;TZID=America/Los_Angeles:20251016T090000
DTEND;TZID=America/Los_Angeles:20251016T180000
DTSTAMP:20260421T184221
CREATED:20250919T225840Z
LAST-MODIFIED:20250919T225840Z
UID:10008445-1760605200-1760637600@news.csn.edu
SUMMARY:﻿The Right of Permanence
DESCRIPTION:﻿﻿Daniel Esquivia Zapata \nFri.\, Oct. 3 – Wed.\, Nov. 26\, 2025 \nGallery Talk & Reception: Thurs.\, Oct. 16 • 6 p.m. \nGallery Hours: \nMonday through Friday 9:00 a.m. to 6:00 p.m. • Saturday 10:00 a.m. to 4:00 p.m. \nAll CSN art gallery events are free\, family friendly & open to the public. \nFor more information please call: 702.651.4146\nartgallery@csn.edu • www.csn.edu/artgallery \nDirections: The Fine Arts Gallery is located adjacent to the Nicholas J. Horn Theatre Lobby on the North Las Vegas Campus of the College of Southern Nevada • 3200 E. Cheyenne Ave. • North Las Vegas\, NV 89030
URL:https://news.csn.edu/event/the-right-of-permanence-12/
LOCATION:North Las Vegas campus\, 3200 E. Cheyenne Avenue\, North Las Vegas\, NV\, 89122\, United States
CATEGORIES:Arts
ATTACH;FMTTYPE=image/png:https://news.csn.edu/wp-content/uploads/2025/09/rightperformance.png
END:VEVENT
BEGIN:VEVENT
DTSTART;TZID=America/Los_Angeles:20251017T080000
DTEND;TZID=America/Los_Angeles:20251017T170000
DTSTAMP:20260421T184221
CREATED:20251013T164753Z
LAST-MODIFIED:20251013T164753Z
UID:10008514-1760688000-1760720400@news.csn.edu
SUMMARY:Beyond the Fence
DESCRIPTION:Fri.\, Oct. 17\, 2025 – Sat.\, Feb. 7\, 2026\nGallery Talk & Artist Reception: Tues.\, Feb. 3\, 2026 at 6-8 p.m.  \nThe Debra March Center of Excellence \n2200 Via Inspirada\, Henderson\, NV 89044
URL:https://news.csn.edu/event/beyond-the-fence/
LOCATION:Debra March Center of Excellence\, 2200 Via Inspirada\, Henderson\, NV\, 89044\, United States
CATEGORIES:Arts
ATTACH;FMTTYPE=image/jpeg:https://news.csn.edu/wp-content/uploads/2025/10/beyondthefence.jpg
END:VEVENT
BEGIN:VEVENT
DTSTART;TZID=America/Los_Angeles:20251017T080000
DTEND;TZID=America/Los_Angeles:20251017T223000
DTSTAMP:20260421T184221
CREATED:20250908T165920Z
LAST-MODIFIED:20250908T165920Z
UID:10008407-1760688000-1760740200@news.csn.edu
SUMMARY:Home is Where
DESCRIPTION:Home is Where by: Brian Higgins \nFri.\, Sept. 26 – Sat.\, Nov. 22\, 2025 \nGallery Talk & Artist Reception:\nTues.\, Sept 30\, 2025 – 6 p.m. \nMonday through Friday 8 a.m. to 10:30 p.m.\nSaturday 8 a.m. to 5 p.m. \nAll CSN art gallery events are free\, family friendly and open to the public. \nFor more information please call: 702.651.4146\nartgallery@csn.edu • www.csn.edu/artgallery \nDirections: The Artspace Gallery is located upstairs above the main entrance lobby of the North Las Vegas Campus of the College of Southern Nevada\n3200 E. Cheyenne Ave. • North Las Vegas\, NV 89030
URL:https://news.csn.edu/event/home-is-where-18/
LOCATION:North Las Vegas campus\, 3200 E. Cheyenne Avenue\, North Las Vegas\, NV\, 89122\, United States
CATEGORIES:Arts
ATTACH;FMTTYPE=image/jpeg:https://news.csn.edu/wp-content/uploads/2025/09/homeiswhere-scaled.jpg
END:VEVENT
BEGIN:VEVENT
DTSTART;TZID=America/Los_Angeles:20251017T090000
DTEND;TZID=America/Los_Angeles:20251017T180000
DTSTAMP:20260421T184221
CREATED:20250919T225851Z
LAST-MODIFIED:20250919T225851Z
UID:10008446-1760691600-1760724000@news.csn.edu
SUMMARY:﻿The Right of Permanence
DESCRIPTION:﻿﻿Daniel Esquivia Zapata \nFri.\, Oct. 3 – Wed.\, Nov. 26\, 2025 \nGallery Talk & Reception: Thurs.\, Oct. 16 • 6 p.m. \nGallery Hours: \nMonday through Friday 9:00 a.m. to 6:00 p.m. • Saturday 10:00 a.m. to 4:00 p.m. \nAll CSN art gallery events are free\, family friendly & open to the public. \nFor more information please call: 702.651.4146\nartgallery@csn.edu • www.csn.edu/artgallery \nDirections: The Fine Arts Gallery is located adjacent to the Nicholas J. Horn Theatre Lobby on the North Las Vegas Campus of the College of Southern Nevada • 3200 E. Cheyenne Ave. • North Las Vegas\, NV 89030
URL:https://news.csn.edu/event/the-right-of-permanence-13/
LOCATION:North Las Vegas campus\, 3200 E. Cheyenne Avenue\, North Las Vegas\, NV\, 89122\, United States
CATEGORIES:Arts
ATTACH;FMTTYPE=image/png:https://news.csn.edu/wp-content/uploads/2025/09/rightperformance.png
END:VEVENT
BEGIN:VEVENT
DTSTART;TZID=America/Los_Angeles:20251017T110000
DTEND;TZID=America/Los_Angeles:20251017T110000
DTSTAMP:20260421T184221
CREATED:20250821T181854Z
LAST-MODIFIED:20250821T181854Z
UID:10008173-1760698800-1760698800@news.csn.edu
SUMMARY:ASCSN Senate Meetings -Charleston
DESCRIPTION:
URL:https://news.csn.edu/event/ascsn-senate-meetings-charleston/2025-10-17/
LOCATION:Charleston Campus Student Union Room 130\, 6375 W. Charleston\, Las Vegas\, 89146\, United States
ATTACH;FMTTYPE=image/png:https://news.csn.edu/wp-content/uploads/2025/08/ASCSN-Fall25-Senate-Meetings.png
END:VEVENT
BEGIN:VEVENT
DTSTART;TZID=America/Los_Angeles:20251017T150000
DTEND;TZID=America/Los_Angeles:20251017T190000
DTSTAMP:20260421T184221
CREATED:20250913T002141Z
LAST-MODIFIED:20260305T192703Z
UID:10008414-1760713200-1760727600@news.csn.edu
SUMMARY:Open House
DESCRIPTION:
URL:https://news.csn.edu/event/open-house/
LOCATION:CSN North Las Vegas Student Union\, 3200 E. Cheyenne Avenue\, North Las Vegas\, NV\, 89030\, United States
CATEGORIES:Community
ATTACH;FMTTYPE=image/jpeg:https://news.csn.edu/wp-content/uploads/2025/09/CSN_OpenHouse_Flyer_v2-scaled.jpg
END:VEVENT
BEGIN:VEVENT
DTSTART;TZID=America/Los_Angeles:20251018T080000
DTEND;TZID=America/Los_Angeles:20251018T170000
DTSTAMP:20260421T184221
CREATED:20250908T165951Z
LAST-MODIFIED:20250908T165951Z
UID:10008408-1760774400-1760806800@news.csn.edu
SUMMARY:Home is Where
DESCRIPTION:Home is Where by: Brian Higgins \nFri.\, Sept. 26 – Sat.\, Nov. 22\, 2025 \nGallery Talk & Artist Reception:\nTues.\, Sept 30\, 2025 – 6 p.m. \nMonday through Friday 8 a.m. to 10:30 p.m.\nSaturday 8 a.m. to 5 p.m. \nAll CSN art gallery events are free\, family friendly and open to the public. \nFor more information please call: 702.651.4146\nartgallery@csn.edu • www.csn.edu/artgallery \nDirections: The Artspace Gallery is located upstairs above the main entrance lobby of the North Las Vegas Campus of the College of Southern Nevada\n3200 E. Cheyenne Ave. • North Las Vegas\, NV 89030
URL:https://news.csn.edu/event/home-is-where-19/
LOCATION:North Las Vegas campus\, 3200 E. Cheyenne Avenue\, North Las Vegas\, NV\, 89122\, United States
CATEGORIES:Arts
ATTACH;FMTTYPE=image/jpeg:https://news.csn.edu/wp-content/uploads/2025/09/homeiswhere-scaled.jpg
END:VEVENT
BEGIN:VEVENT
DTSTART;TZID=America/Los_Angeles:20251018T080000
DTEND;TZID=America/Los_Angeles:20251018T170000
DTSTAMP:20260421T184221
CREATED:20251013T165017Z
LAST-MODIFIED:20251013T165017Z
UID:10008515-1760774400-1760806800@news.csn.edu
SUMMARY:Beyond the Fence
DESCRIPTION:Fri.\, Oct. 17\, 2025 – Sat.\, Feb. 7\, 2026\nGallery Talk & Artist Reception: Tues.\, Feb. 3\, 2026 at 6-8 p.m.  \nThe Debra March Center of Excellence \n2200 Via Inspirada\, Henderson\, NV 89044
URL:https://news.csn.edu/event/beyond-the-fence-2/
LOCATION:Debra March Center of Excellence\, 2200 Via Inspirada\, Henderson\, NV\, 89044\, United States
CATEGORIES:Arts
ATTACH;FMTTYPE=image/jpeg:https://news.csn.edu/wp-content/uploads/2025/10/beyondthefence.jpg
END:VEVENT
BEGIN:VEVENT
DTSTART;TZID=America/Los_Angeles:20251018T100000
DTEND;TZID=America/Los_Angeles:20251018T160000
DTSTAMP:20260421T184221
CREATED:20250919T225904Z
LAST-MODIFIED:20250919T225904Z
UID:10008447-1760781600-1760803200@news.csn.edu
SUMMARY:﻿The Right of Permanence
DESCRIPTION:﻿﻿Daniel Esquivia Zapata \nFri.\, Oct. 3 – Wed.\, Nov. 26\, 2025 \nGallery Talk & Reception: Thurs.\, Oct. 16 • 6 p.m. \nGallery Hours: \nMonday through Friday 9:00 a.m. to 6:00 p.m. • Saturday 10:00 a.m. to 4:00 p.m. \nAll CSN art gallery events are free\, family friendly & open to the public. \nFor more information please call: 702.651.4146\nartgallery@csn.edu • www.csn.edu/artgallery \nDirections: The Fine Arts Gallery is located adjacent to the Nicholas J. Horn Theatre Lobby on the North Las Vegas Campus of the College of Southern Nevada • 3200 E. Cheyenne Ave. • North Las Vegas\, NV 89030
URL:https://news.csn.edu/event/the-right-of-permanence-14/
LOCATION:North Las Vegas campus\, 3200 E. Cheyenne Avenue\, North Las Vegas\, NV\, 89122\, United States
CATEGORIES:Arts
ATTACH;FMTTYPE=image/png:https://news.csn.edu/wp-content/uploads/2025/09/rightperformance.png
END:VEVENT
BEGIN:VEVENT
DTSTART;TZID=America/Los_Angeles:20251020T080000
DTEND;TZID=America/Los_Angeles:20251020T170000
DTSTAMP:20260421T184221
CREATED:20251013T165029Z
LAST-MODIFIED:20251013T165029Z
UID:10008516-1760947200-1760979600@news.csn.edu
SUMMARY:Beyond the Fence
DESCRIPTION:Fri.\, Oct. 17\, 2025 – Sat.\, Feb. 7\, 2026\nGallery Talk & Artist Reception: Tues.\, Feb. 3\, 2026 at 6-8 p.m.  \nThe Debra March Center of Excellence \n2200 Via Inspirada\, Henderson\, NV 89044
URL:https://news.csn.edu/event/beyond-the-fence-3/
LOCATION:Debra March Center of Excellence\, 2200 Via Inspirada\, Henderson\, NV\, 89044\, United States
CATEGORIES:Arts
ATTACH;FMTTYPE=image/jpeg:https://news.csn.edu/wp-content/uploads/2025/10/beyondthefence.jpg
END:VEVENT
BEGIN:VEVENT
DTSTART;TZID=America/Los_Angeles:20251020T080000
DTEND;TZID=America/Los_Angeles:20251020T223000
DTSTAMP:20260421T184221
CREATED:20250908T170039Z
LAST-MODIFIED:20250908T170039Z
UID:10008409-1760947200-1760999400@news.csn.edu
SUMMARY:Home is Where
DESCRIPTION:Home is Where by: Brian Higgins \nFri.\, Sept. 26 – Sat.\, Nov. 22\, 2025 \nGallery Talk & Artist Reception:\nTues.\, Sept 30\, 2025 – 6 p.m. \nMonday through Friday 8 a.m. to 10:30 p.m.\nSaturday 8 a.m. to 5 p.m. \nAll CSN art gallery events are free\, family friendly and open to the public. \nFor more information please call: 702.651.4146\nartgallery@csn.edu • www.csn.edu/artgallery \nDirections: The Artspace Gallery is located upstairs above the main entrance lobby of the North Las Vegas Campus of the College of Southern Nevada\n3200 E. Cheyenne Ave. • North Las Vegas\, NV 89030
URL:https://news.csn.edu/event/home-is-where-20/
LOCATION:North Las Vegas campus\, 3200 E. Cheyenne Avenue\, North Las Vegas\, NV\, 89122\, United States
CATEGORIES:Arts
ATTACH;FMTTYPE=image/jpeg:https://news.csn.edu/wp-content/uploads/2025/09/homeiswhere-scaled.jpg
END:VEVENT
BEGIN:VEVENT
DTSTART;TZID=America/Los_Angeles:20251020T090000
DTEND;TZID=America/Los_Angeles:20251020T180000
DTSTAMP:20260421T184221
CREATED:20250919T225920Z
LAST-MODIFIED:20250919T225920Z
UID:10008448-1760950800-1760983200@news.csn.edu
SUMMARY:﻿The Right of Permanence
DESCRIPTION:﻿﻿Daniel Esquivia Zapata \nFri.\, Oct. 3 – Wed.\, Nov. 26\, 2025 \nGallery Talk & Reception: Thurs.\, Oct. 16 • 6 p.m. \nGallery Hours: \nMonday through Friday 9:00 a.m. to 6:00 p.m. • Saturday 10:00 a.m. to 4:00 p.m. \nAll CSN art gallery events are free\, family friendly & open to the public. \nFor more information please call: 702.651.4146\nartgallery@csn.edu • www.csn.edu/artgallery \nDirections: The Fine Arts Gallery is located adjacent to the Nicholas J. Horn Theatre Lobby on the North Las Vegas Campus of the College of Southern Nevada • 3200 E. Cheyenne Ave. • North Las Vegas\, NV 89030
URL:https://news.csn.edu/event/the-right-of-permanence-15/
LOCATION:North Las Vegas campus\, 3200 E. Cheyenne Avenue\, North Las Vegas\, NV\, 89122\, United States
CATEGORIES:Arts
ATTACH;FMTTYPE=image/png:https://news.csn.edu/wp-content/uploads/2025/09/rightperformance.png
END:VEVENT
BEGIN:VEVENT
DTSTART;TZID=America/Los_Angeles:20251020T160000
DTEND;TZID=America/Los_Angeles:20251020T180000
DTSTAMP:20260421T184221
CREATED:20250915T180028Z
LAST-MODIFIED:20250915T180028Z
UID:10008417-1760976000-1760983200@news.csn.edu
SUMMARY:We Found Love in a Hopeless Place: Queer Histories of Surviving & Thriving
DESCRIPTION:
URL:https://news.csn.edu/event/we-found-love-in-a-hopeless-place-queer-histories-of-surviving-thriving/
LOCATION:Charleston Campus Building B\, 6375 W Charleston Blvd\, Las Vegas\, NV\, 89146\, United States
CATEGORIES:Student life
ATTACH;FMTTYPE=image/jpeg:https://news.csn.edu/wp-content/uploads/2025/09/WeFoundLove-POSTER.jpg
END:VEVENT
BEGIN:VEVENT
DTSTART;TZID=America/Los_Angeles:20251020T160000
DTEND;TZID=America/Los_Angeles:20251020T180000
DTSTAMP:20260421T184221
CREATED:20250919T003650Z
LAST-MODIFIED:20250919T003721Z
UID:10008428-1760976000-1760983200@news.csn.edu
SUMMARY:We Found Love in a Hopeless Place
DESCRIPTION:
URL:https://news.csn.edu/event/we-found-love-in-a-hopeless-place/
LOCATION:Charleston Campus Building B\, 6375 W Charleston Blvd\, Las Vegas\, NV\, 89146\, United States
CATEGORIES:Community,Cultural Event,Student life
END:VEVENT
BEGIN:VEVENT
DTSTART;TZID=America/Los_Angeles:20251021T080000
DTEND;TZID=America/Los_Angeles:20251021T170000
DTSTAMP:20260421T184221
CREATED:20251013T165037Z
LAST-MODIFIED:20251013T165037Z
UID:10008517-1761033600-1761066000@news.csn.edu
SUMMARY:Beyond the Fence
DESCRIPTION:Fri.\, Oct. 17\, 2025 – Sat.\, Feb. 7\, 2026\nGallery Talk & Artist Reception: Tues.\, Feb. 3\, 2026 at 6-8 p.m.  \nThe Debra March Center of Excellence \n2200 Via Inspirada\, Henderson\, NV 89044
URL:https://news.csn.edu/event/beyond-the-fence-4/
LOCATION:Debra March Center of Excellence\, 2200 Via Inspirada\, Henderson\, NV\, 89044\, United States
CATEGORIES:Arts
ATTACH;FMTTYPE=image/jpeg:https://news.csn.edu/wp-content/uploads/2025/10/beyondthefence.jpg
END:VEVENT
BEGIN:VEVENT
DTSTART;TZID=America/Los_Angeles:20251021T080000
DTEND;TZID=America/Los_Angeles:20251021T223000
DTSTAMP:20260421T184221
CREATED:20250908T170104Z
LAST-MODIFIED:20250908T170104Z
UID:10008410-1761033600-1761085800@news.csn.edu
SUMMARY:Home is Where
DESCRIPTION:Home is Where by: Brian Higgins \nFri.\, Sept. 26 – Sat.\, Nov. 22\, 2025 \nGallery Talk & Artist Reception:\nTues.\, Sept 30\, 2025 – 6 p.m. \nMonday through Friday 8 a.m. to 10:30 p.m.\nSaturday 8 a.m. to 5 p.m. \nAll CSN art gallery events are free\, family friendly and open to the public. \nFor more information please call: 702.651.4146\nartgallery@csn.edu • www.csn.edu/artgallery \nDirections: The Artspace Gallery is located upstairs above the main entrance lobby of the North Las Vegas Campus of the College of Southern Nevada\n3200 E. Cheyenne Ave. • North Las Vegas\, NV 89030
URL:https://news.csn.edu/event/home-is-where-21/
LOCATION:North Las Vegas campus\, 3200 E. Cheyenne Avenue\, North Las Vegas\, NV\, 89122\, United States
CATEGORIES:Arts
ATTACH;FMTTYPE=image/jpeg:https://news.csn.edu/wp-content/uploads/2025/09/homeiswhere-scaled.jpg
END:VEVENT
BEGIN:VEVENT
DTSTART;TZID=America/Los_Angeles:20251021T090000
DTEND;TZID=America/Los_Angeles:20251021T180000
DTSTAMP:20260421T184221
CREATED:20250919T225928Z
LAST-MODIFIED:20250919T225928Z
UID:10008449-1761037200-1761069600@news.csn.edu
SUMMARY:﻿The Right of Permanence
DESCRIPTION:﻿﻿Daniel Esquivia Zapata \nFri.\, Oct. 3 – Wed.\, Nov. 26\, 2025 \nGallery Talk & Reception: Thurs.\, Oct. 16 • 6 p.m. \nGallery Hours: \nMonday through Friday 9:00 a.m. to 6:00 p.m. • Saturday 10:00 a.m. to 4:00 p.m. \nAll CSN art gallery events are free\, family friendly & open to the public. \nFor more information please call: 702.651.4146\nartgallery@csn.edu • www.csn.edu/artgallery \nDirections: The Fine Arts Gallery is located adjacent to the Nicholas J. Horn Theatre Lobby on the North Las Vegas Campus of the College of Southern Nevada • 3200 E. Cheyenne Ave. • North Las Vegas\, NV 89030
URL:https://news.csn.edu/event/the-right-of-permanence-16/
LOCATION:North Las Vegas campus\, 3200 E. Cheyenne Avenue\, North Las Vegas\, NV\, 89122\, United States
CATEGORIES:Arts
ATTACH;FMTTYPE=image/png:https://news.csn.edu/wp-content/uploads/2025/09/rightperformance.png
END:VEVENT
BEGIN:VEVENT
DTSTART;TZID=America/Los_Angeles:20251022T080000
DTEND;TZID=America/Los_Angeles:20251022T170000
DTSTAMP:20260421T184221
CREATED:20251013T165046Z
LAST-MODIFIED:20251013T165046Z
UID:10008518-1761120000-1761152400@news.csn.edu
SUMMARY:Beyond the Fence
DESCRIPTION:Fri.\, Oct. 17\, 2025 – Sat.\, Feb. 7\, 2026\nGallery Talk & Artist Reception: Tues.\, Feb. 3\, 2026 at 6-8 p.m.  \nThe Debra March Center of Excellence \n2200 Via Inspirada\, Henderson\, NV 89044
URL:https://news.csn.edu/event/beyond-the-fence-5/
LOCATION:Debra March Center of Excellence\, 2200 Via Inspirada\, Henderson\, NV\, 89044\, United States
CATEGORIES:Arts
ATTACH;FMTTYPE=image/jpeg:https://news.csn.edu/wp-content/uploads/2025/10/beyondthefence.jpg
END:VEVENT
BEGIN:VEVENT
DTSTART;TZID=America/Los_Angeles:20251022T080000
DTEND;TZID=America/Los_Angeles:20251022T223000
DTSTAMP:20260421T184221
CREATED:20250908T170132Z
LAST-MODIFIED:20250908T170132Z
UID:10008411-1761120000-1761172200@news.csn.edu
SUMMARY:Home is Where
DESCRIPTION:Home is Where by: Brian Higgins \nFri.\, Sept. 26 – Sat.\, Nov. 22\, 2025 \nGallery Talk & Artist Reception:\nTues.\, Sept 30\, 2025 – 6 p.m. \nMonday through Friday 8 a.m. to 10:30 p.m.\nSaturday 8 a.m. to 5 p.m. \nAll CSN art gallery events are free\, family friendly and open to the public. \nFor more information please call: 702.651.4146\nartgallery@csn.edu • www.csn.edu/artgallery \nDirections: The Artspace Gallery is located upstairs above the main entrance lobby of the North Las Vegas Campus of the College of Southern Nevada\n3200 E. Cheyenne Ave. • North Las Vegas\, NV 89030
URL:https://news.csn.edu/event/home-is-where-22/
LOCATION:North Las Vegas campus\, 3200 E. Cheyenne Avenue\, North Las Vegas\, NV\, 89122\, United States
CATEGORIES:Arts
ATTACH;FMTTYPE=image/jpeg:https://news.csn.edu/wp-content/uploads/2025/09/homeiswhere-scaled.jpg
END:VEVENT
BEGIN:VEVENT
DTSTART;TZID=America/Los_Angeles:20251022T090000
DTEND;TZID=America/Los_Angeles:20251022T180000
DTSTAMP:20260421T184221
CREATED:20250919T225936Z
LAST-MODIFIED:20250919T225936Z
UID:10008450-1761123600-1761156000@news.csn.edu
SUMMARY:﻿The Right of Permanence
DESCRIPTION:﻿﻿Daniel Esquivia Zapata \nFri.\, Oct. 3 – Wed.\, Nov. 26\, 2025 \nGallery Talk & Reception: Thurs.\, Oct. 16 • 6 p.m. \nGallery Hours: \nMonday through Friday 9:00 a.m. to 6:00 p.m. • Saturday 10:00 a.m. to 4:00 p.m. \nAll CSN art gallery events are free\, family friendly & open to the public. \nFor more information please call: 702.651.4146\nartgallery@csn.edu • www.csn.edu/artgallery \nDirections: The Fine Arts Gallery is located adjacent to the Nicholas J. Horn Theatre Lobby on the North Las Vegas Campus of the College of Southern Nevada • 3200 E. Cheyenne Ave. • North Las Vegas\, NV 89030
URL:https://news.csn.edu/event/the-right-of-permanence-17/
LOCATION:North Las Vegas campus\, 3200 E. Cheyenne Avenue\, North Las Vegas\, NV\, 89122\, United States
CATEGORIES:Arts
ATTACH;FMTTYPE=image/png:https://news.csn.edu/wp-content/uploads/2025/09/rightperformance.png
END:VEVENT
BEGIN:VEVENT
DTSTART;TZID=America/Los_Angeles:20251023T080000
DTEND;TZID=America/Los_Angeles:20251023T170000
DTSTAMP:20260421T184221
CREATED:20251013T165108Z
LAST-MODIFIED:20251013T165108Z
UID:10008519-1761206400-1761238800@news.csn.edu
SUMMARY:Beyond the Fence
DESCRIPTION:Fri.\, Oct. 17\, 2025 – Sat.\, Feb. 7\, 2026\nGallery Talk & Artist Reception: Tues.\, Feb. 3\, 2026 at 6-8 p.m.  \nThe Debra March Center of Excellence \n2200 Via Inspirada\, Henderson\, NV 89044
URL:https://news.csn.edu/event/beyond-the-fence-6/
LOCATION:Debra March Center of Excellence\, 2200 Via Inspirada\, Henderson\, NV\, 89044\, United States
CATEGORIES:Arts
ATTACH;FMTTYPE=image/jpeg:https://news.csn.edu/wp-content/uploads/2025/10/beyondthefence.jpg
END:VEVENT
BEGIN:VEVENT
DTSTART;TZID=America/Los_Angeles:20251023T090000
DTEND;TZID=America/Los_Angeles:20251023T180000
DTSTAMP:20260421T184221
CREATED:20250919T225947Z
LAST-MODIFIED:20250919T225947Z
UID:10008451-1761210000-1761242400@news.csn.edu
SUMMARY:﻿The Right of Permanence
DESCRIPTION:﻿﻿Daniel Esquivia Zapata \nFri.\, Oct. 3 – Wed.\, Nov. 26\, 2025 \nGallery Talk & Reception: Thurs.\, Oct. 16 • 6 p.m. \nGallery Hours: \nMonday through Friday 9:00 a.m. to 6:00 p.m. • Saturday 10:00 a.m. to 4:00 p.m. \nAll CSN art gallery events are free\, family friendly & open to the public. \nFor more information please call: 702.651.4146\nartgallery@csn.edu • www.csn.edu/artgallery \nDirections: The Fine Arts Gallery is located adjacent to the Nicholas J. Horn Theatre Lobby on the North Las Vegas Campus of the College of Southern Nevada • 3200 E. Cheyenne Ave. • North Las Vegas\, NV 89030
URL:https://news.csn.edu/event/the-right-of-permanence-18/
LOCATION:North Las Vegas campus\, 3200 E. Cheyenne Avenue\, North Las Vegas\, NV\, 89122\, United States
CATEGORIES:Arts
ATTACH;FMTTYPE=image/png:https://news.csn.edu/wp-content/uploads/2025/09/rightperformance.png
END:VEVENT
BEGIN:VEVENT
DTSTART;TZID=America/Los_Angeles:20251024T080000
DTEND;TZID=America/Los_Angeles:20251024T170000
DTSTAMP:20260421T184221
CREATED:20251013T165122Z
LAST-MODIFIED:20251013T165122Z
UID:10008520-1761292800-1761325200@news.csn.edu
SUMMARY:Beyond the Fence
DESCRIPTION:Fri.\, Oct. 17\, 2025 – Sat.\, Feb. 7\, 2026\nGallery Talk & Artist Reception: Tues.\, Feb. 3\, 2026 at 6-8 p.m.  \nThe Debra March Center of Excellence \n2200 Via Inspirada\, Henderson\, NV 89044
URL:https://news.csn.edu/event/beyond-the-fence-7/
LOCATION:Debra March Center of Excellence\, 2200 Via Inspirada\, Henderson\, NV\, 89044\, United States
CATEGORIES:Arts
ATTACH;FMTTYPE=image/jpeg:https://news.csn.edu/wp-content/uploads/2025/10/beyondthefence.jpg
END:VEVENT
BEGIN:VEVENT
DTSTART;TZID=America/Los_Angeles:20251024T090000
DTEND;TZID=America/Los_Angeles:20251024T120000
DTSTAMP:20260421T184221
CREATED:20251002T224352Z
LAST-MODIFIED:20251002T224352Z
UID:10008504-1761296400-1761307200@news.csn.edu
SUMMARY:Construction Career Day 
DESCRIPTION:
URL:https://news.csn.edu/event/construction-career-day/
LOCATION:CSN North Las Vegas Campus\, 3200 E. Cheyenne Ave\, North Las Vegas\, NV\, 89030\, United States
ATTACH;FMTTYPE=image/png:https://news.csn.edu/wp-content/uploads/2025/10/Construction-Career-Day-Flyer-February-2025-v2-1.png
END:VEVENT
BEGIN:VEVENT
DTSTART;TZID=America/Los_Angeles:20251024T090000
DTEND;TZID=America/Los_Angeles:20251024T180000
DTSTAMP:20260421T184221
CREATED:20250919T225958Z
LAST-MODIFIED:20250919T225958Z
UID:10008452-1761296400-1761328800@news.csn.edu
SUMMARY:﻿The Right of Permanence
DESCRIPTION:﻿﻿Daniel Esquivia Zapata \nFri.\, Oct. 3 – Wed.\, Nov. 26\, 2025 \nGallery Talk & Reception: Thurs.\, Oct. 16 • 6 p.m. \nGallery Hours: \nMonday through Friday 9:00 a.m. to 6:00 p.m. • Saturday 10:00 a.m. to 4:00 p.m. \nAll CSN art gallery events are free\, family friendly & open to the public. \nFor more information please call: 702.651.4146\nartgallery@csn.edu • www.csn.edu/artgallery \nDirections: The Fine Arts Gallery is located adjacent to the Nicholas J. Horn Theatre Lobby on the North Las Vegas Campus of the College of Southern Nevada • 3200 E. Cheyenne Ave. • North Las Vegas\, NV 89030
URL:https://news.csn.edu/event/the-right-of-permanence-19/
LOCATION:North Las Vegas campus\, 3200 E. Cheyenne Avenue\, North Las Vegas\, NV\, 89122\, United States
CATEGORIES:Arts
ATTACH;FMTTYPE=image/png:https://news.csn.edu/wp-content/uploads/2025/09/rightperformance.png
END:VEVENT
BEGIN:VEVENT
DTSTART;TZID=America/Los_Angeles:20251024T110000
DTEND;TZID=America/Los_Angeles:20251024T120000
DTSTAMP:20260421T184221
CREATED:20251013T221258Z
LAST-MODIFIED:20251013T221258Z
UID:10008676-1761303600-1761307200@news.csn.edu
SUMMARY:Brothers on Campus
DESCRIPTION:
URL:https://news.csn.edu/event/brothers-on-campus/
LOCATION:CSN North Las Vegas Campus\, 3200 E. Cheyenne Ave\, North Las Vegas\, NV\, 89030\, United States
ATTACH;FMTTYPE=image/png:https://news.csn.edu/wp-content/uploads/2025/10/Brothers-on-Campus-Real-Talk-Flyer.png
END:VEVENT
BEGIN:VEVENT
DTSTART;TZID=America/Los_Angeles:20251024T150000
DTEND;TZID=America/Los_Angeles:20251024T160000
DTSTAMP:20260421T184221
CREATED:20251013T211903Z
LAST-MODIFIED:20251013T211903Z
UID:10008675-1761318000-1761321600@news.csn.edu
SUMMARY:Trunk or Treat at NLV campus
DESCRIPTION:
URL:https://news.csn.edu/event/trunk-or-treat-at-nlv-campus/
LOCATION:CSN North Las Vegas Campus\, 3200 E. Cheyenne Ave\, North Las Vegas\, NV\, 89030\, United States
ATTACH;FMTTYPE=image/png:https://news.csn.edu/wp-content/uploads/2025/10/Fa25-Trunk-or-Treat-Flyer.png
END:VEVENT
BEGIN:VEVENT
DTSTART;TZID=America/Los_Angeles:20251024T160000
DTEND;TZID=America/Los_Angeles:20251024T190000
DTSTAMP:20260421T184221
CREATED:20250916T193130Z
LAST-MODIFIED:20250916T193130Z
UID:10008420-1761321600-1761332400@news.csn.edu
SUMMARY:Faculty & Staff Kickball Tournament
DESCRIPTION:
URL:https://news.csn.edu/event/faculty-staff-kickball-tournament/
LOCATION:North Las Vegas\, NV\, Cheyenne Sports Complex
CATEGORIES:Community,Employees
ATTACH;FMTTYPE=image/png:https://news.csn.edu/wp-content/uploads/2025/09/Screenshot-2025-09-16-at-12.31.02-PM.png
END:VEVENT
END:VCALENDAR