BEGIN:VCALENDAR
VERSION:2.0
PRODID:-//College of Southern Nevada - ECPv6.15.13//NONSGML v1.0//EN
CALSCALE:GREGORIAN
METHOD:PUBLISH
X-WR-CALNAME:College of Southern Nevada
X-ORIGINAL-URL:https://news.csn.edu
X-WR-CALDESC:Events for College of Southern Nevada
REFRESH-INTERVAL;VALUE=DURATION:PT1H
X-Robots-Tag:noindex
X-PUBLISHED-TTL:PT1H
BEGIN:VTIMEZONE
TZID:America/Los_Angeles
BEGIN:DAYLIGHT
TZOFFSETFROM:-0800
TZOFFSETTO:-0700
TZNAME:PDT
DTSTART:20240310T100000
END:DAYLIGHT
BEGIN:STANDARD
TZOFFSETFROM:-0700
TZOFFSETTO:-0800
TZNAME:PST
DTSTART:20241103T090000
END:STANDARD
BEGIN:DAYLIGHT
TZOFFSETFROM:-0800
TZOFFSETTO:-0700
TZNAME:PDT
DTSTART:20250309T100000
END:DAYLIGHT
BEGIN:STANDARD
TZOFFSETFROM:-0700
TZOFFSETTO:-0800
TZNAME:PST
DTSTART:20251102T090000
END:STANDARD
BEGIN:DAYLIGHT
TZOFFSETFROM:-0800
TZOFFSETTO:-0700
TZNAME:PDT
DTSTART:20260308T100000
END:DAYLIGHT
BEGIN:STANDARD
TZOFFSETFROM:-0700
TZOFFSETTO:-0800
TZNAME:PST
DTSTART:20261101T090000
END:STANDARD
END:VTIMEZONE
BEGIN:VEVENT
DTSTART;TZID=America/Los_Angeles:20251025T080000
DTEND;TZID=America/Los_Angeles:20251025T170000
DTSTAMP:20260422T095049
CREATED:20251013T165130Z
LAST-MODIFIED:20251013T165130Z
UID:10008521-1761379200-1761411600@news.csn.edu
SUMMARY:Beyond the Fence
DESCRIPTION:Fri.\, Oct. 17\, 2025 – Sat.\, Feb. 7\, 2026\nGallery Talk & Artist Reception: Tues.\, Feb. 3\, 2026 at 6-8 p.m.  \nThe Debra March Center of Excellence \n2200 Via Inspirada\, Henderson\, NV 89044
URL:https://news.csn.edu/event/beyond-the-fence-8/
LOCATION:Debra March Center of Excellence\, 2200 Via Inspirada\, Henderson\, NV\, 89044\, United States
CATEGORIES:Arts
ATTACH;FMTTYPE=image/jpeg:https://news.csn.edu/wp-content/uploads/2025/10/beyondthefence.jpg
END:VEVENT
BEGIN:VEVENT
DTSTART;TZID=America/Los_Angeles:20251025T100000
DTEND;TZID=America/Los_Angeles:20251025T160000
DTSTAMP:20260422T095049
CREATED:20250919T230012Z
LAST-MODIFIED:20250919T230012Z
UID:10008453-1761386400-1761408000@news.csn.edu
SUMMARY:﻿The Right of Permanence
DESCRIPTION:﻿﻿Daniel Esquivia Zapata \nFri.\, Oct. 3 – Wed.\, Nov. 26\, 2025 \nGallery Talk & Reception: Thurs.\, Oct. 16 • 6 p.m. \nGallery Hours: \nMonday through Friday 9:00 a.m. to 6:00 p.m. • Saturday 10:00 a.m. to 4:00 p.m. \nAll CSN art gallery events are free\, family friendly & open to the public. \nFor more information please call: 702.651.4146\nartgallery@csn.edu • www.csn.edu/artgallery \nDirections: The Fine Arts Gallery is located adjacent to the Nicholas J. Horn Theatre Lobby on the North Las Vegas Campus of the College of Southern Nevada • 3200 E. Cheyenne Ave. • North Las Vegas\, NV 89030
URL:https://news.csn.edu/event/the-right-of-permanence-20/
LOCATION:North Las Vegas campus\, 3200 E. Cheyenne Avenue\, North Las Vegas\, NV\, 89122\, United States
CATEGORIES:Arts
ATTACH;FMTTYPE=image/png:https://news.csn.edu/wp-content/uploads/2025/09/rightperformance.png
END:VEVENT
BEGIN:VEVENT
DTSTART;TZID=America/Los_Angeles:20251025T190000
DTEND;TZID=America/Los_Angeles:20251025T210000
DTSTAMP:20260422T095049
CREATED:20250922T162016Z
LAST-MODIFIED:20250922T162016Z
UID:10008482-1761418800-1761426000@news.csn.edu
SUMMARY:CSN CHAMBER CHORALE SHOWCASE PRESENTS "SCHOOL DAZE"
DESCRIPTION:The Music Program at the College of Southern Nevada presents their annual Chamber Chorale Showcase entitled “School Daze\,” under the direction of Dr. Mark Wherry\, on Saturday\, October 25th at 7 P.M. in the Jay Morrison Recital Hall at the North Las Vegas campus. \nThe evening will feature a variety of songs relating to the students’ journey through academia including Grease Lightning from the musical Grease\, Cruisin for a Bruisin\, from the movie Teen Beach and an original composition written by Dr. Mark Wherry entitled\, College. \nGeneral admission for this musical fun-filled event is $10 with all proceeds going to the Choir Club. For more information\, or to purchase tickets please visit us online at:  www.csn.edu/pac. \nCSN’s Performing Arts Center\, provides quality artistic\, cultural\, educational\, and entertainment opportunities for the college and the community. It is located at 3200 East Cheyenne Avenue in North Las Vegas.
URL:https://news.csn.edu/event/csn-chamber-chorale-showcase-presents-school-daze/
LOCATION:CSN Jay Morrison Recital Hall\, 3200 E. Cheyenne Avenue\, North Las Vegas\, NV\, 89030\, United States
CATEGORIES:Arts,Community,Cultural Event,Employees,Student life
ATTACH;FMTTYPE=image/jpeg:https://news.csn.edu/wp-content/uploads/2025/09/F25-Chamber-Chorale-SM-LR-scaled.jpg
END:VEVENT
BEGIN:VEVENT
DTSTART;TZID=America/Los_Angeles:20251026T140000
DTEND;TZID=America/Los_Angeles:20251026T160000
DTSTAMP:20260422T095049
CREATED:20250917T181341Z
LAST-MODIFIED:20250917T181341Z
UID:10008427-1761487200-1761494400@news.csn.edu
SUMMARY:CSN Faculty Chamber Music Recital
DESCRIPTION:
URL:https://news.csn.edu/event/csn-faculty-chamber-music-recital/
LOCATION:CSN Jay Morrison Recital Hall\, 3200 E. Cheyenne Avenue\, North Las Vegas\, NV\, 89030\, United States
CATEGORIES:Arts,Community,Cultural Event,Employees,Student life
ATTACH;FMTTYPE=image/jpeg:https://news.csn.edu/wp-content/uploads/2025/09/F25-FCM-ad-scaled.jpg
END:VEVENT
BEGIN:VEVENT
DTSTART;VALUE=DATE:20251027
DTEND;VALUE=DATE:20251028
DTSTAMP:20260422T095049
CREATED:20251021T213945Z
LAST-MODIFIED:20251021T213945Z
UID:10008680-1761523200-1761609599@news.csn.edu
SUMMARY:Halloween Spirit Week
DESCRIPTION:
URL:https://news.csn.edu/event/halloween-spirit-week/2025-10-27/
LOCATION:NV
CATEGORIES:Student life
ATTACH;FMTTYPE=image/png:https://news.csn.edu/wp-content/uploads/2025/10/Fa.-25-Halloween-Spirit-Week-Flyer.png
END:VEVENT
BEGIN:VEVENT
DTSTART;TZID=America/Los_Angeles:20251027T080000
DTEND;TZID=America/Los_Angeles:20251027T170000
DTSTAMP:20260422T095049
CREATED:20251013T165140Z
LAST-MODIFIED:20251013T165140Z
UID:10008522-1761552000-1761584400@news.csn.edu
SUMMARY:Beyond the Fence
DESCRIPTION:Fri.\, Oct. 17\, 2025 – Sat.\, Feb. 7\, 2026\nGallery Talk & Artist Reception: Tues.\, Feb. 3\, 2026 at 6-8 p.m.  \nThe Debra March Center of Excellence \n2200 Via Inspirada\, Henderson\, NV 89044
URL:https://news.csn.edu/event/beyond-the-fence-9/
LOCATION:Debra March Center of Excellence\, 2200 Via Inspirada\, Henderson\, NV\, 89044\, United States
CATEGORIES:Arts
ATTACH;FMTTYPE=image/jpeg:https://news.csn.edu/wp-content/uploads/2025/10/beyondthefence.jpg
END:VEVENT
BEGIN:VEVENT
DTSTART;TZID=America/Los_Angeles:20251027T090000
DTEND;TZID=America/Los_Angeles:20251027T100000
DTSTAMP:20260422T095049
CREATED:20251013T205024Z
LAST-MODIFIED:20251013T234133Z
UID:10008614-1761555600-1761559200@news.csn.edu
SUMMARY:Mindful Balance group
DESCRIPTION:
URL:https://news.csn.edu/event/mindful-balance-group/2025-10-27/
LOCATION:NV
ATTACH;FMTTYPE=image/png:https://news.csn.edu/wp-content/uploads/2025/10/CAPS-Mindful-Balance-Group-Flyer-1.png
END:VEVENT
BEGIN:VEVENT
DTSTART;TZID=America/Los_Angeles:20251027T090000
DTEND;TZID=America/Los_Angeles:20251027T180000
DTSTAMP:20260422T095049
CREATED:20250919T230022Z
LAST-MODIFIED:20250919T230022Z
UID:10008454-1761555600-1761588000@news.csn.edu
SUMMARY:﻿The Right of Permanence
DESCRIPTION:﻿﻿Daniel Esquivia Zapata \nFri.\, Oct. 3 – Wed.\, Nov. 26\, 2025 \nGallery Talk & Reception: Thurs.\, Oct. 16 • 6 p.m. \nGallery Hours: \nMonday through Friday 9:00 a.m. to 6:00 p.m. • Saturday 10:00 a.m. to 4:00 p.m. \nAll CSN art gallery events are free\, family friendly & open to the public. \nFor more information please call: 702.651.4146\nartgallery@csn.edu • www.csn.edu/artgallery \nDirections: The Fine Arts Gallery is located adjacent to the Nicholas J. Horn Theatre Lobby on the North Las Vegas Campus of the College of Southern Nevada • 3200 E. Cheyenne Ave. • North Las Vegas\, NV 89030
URL:https://news.csn.edu/event/the-right-of-permanence-21/
LOCATION:North Las Vegas campus\, 3200 E. Cheyenne Avenue\, North Las Vegas\, NV\, 89122\, United States
CATEGORIES:Arts
ATTACH;FMTTYPE=image/png:https://news.csn.edu/wp-content/uploads/2025/09/rightperformance.png
END:VEVENT
BEGIN:VEVENT
DTSTART;TZID=America/Los_Angeles:20251028T080000
DTEND;TZID=America/Los_Angeles:20251028T170000
DTSTAMP:20260422T095049
CREATED:20251013T165148Z
LAST-MODIFIED:20251013T165148Z
UID:10008523-1761638400-1761670800@news.csn.edu
SUMMARY:Beyond the Fence
DESCRIPTION:Fri.\, Oct. 17\, 2025 – Sat.\, Feb. 7\, 2026\nGallery Talk & Artist Reception: Tues.\, Feb. 3\, 2026 at 6-8 p.m.  \nThe Debra March Center of Excellence \n2200 Via Inspirada\, Henderson\, NV 89044
URL:https://news.csn.edu/event/beyond-the-fence-10/
LOCATION:Debra March Center of Excellence\, 2200 Via Inspirada\, Henderson\, NV\, 89044\, United States
CATEGORIES:Arts
ATTACH;FMTTYPE=image/jpeg:https://news.csn.edu/wp-content/uploads/2025/10/beyondthefence.jpg
END:VEVENT
BEGIN:VEVENT
DTSTART;TZID=America/Los_Angeles:20251028T090000
DTEND;TZID=America/Los_Angeles:20251028T180000
DTSTAMP:20260422T095049
CREATED:20250919T230029Z
LAST-MODIFIED:20250919T230029Z
UID:10008455-1761642000-1761674400@news.csn.edu
SUMMARY:﻿The Right of Permanence
DESCRIPTION:﻿﻿Daniel Esquivia Zapata \nFri.\, Oct. 3 – Wed.\, Nov. 26\, 2025 \nGallery Talk & Reception: Thurs.\, Oct. 16 • 6 p.m. \nGallery Hours: \nMonday through Friday 9:00 a.m. to 6:00 p.m. • Saturday 10:00 a.m. to 4:00 p.m. \nAll CSN art gallery events are free\, family friendly & open to the public. \nFor more information please call: 702.651.4146\nartgallery@csn.edu • www.csn.edu/artgallery \nDirections: The Fine Arts Gallery is located adjacent to the Nicholas J. Horn Theatre Lobby on the North Las Vegas Campus of the College of Southern Nevada • 3200 E. Cheyenne Ave. • North Las Vegas\, NV 89030
URL:https://news.csn.edu/event/the-right-of-permanence-22/
LOCATION:North Las Vegas campus\, 3200 E. Cheyenne Avenue\, North Las Vegas\, NV\, 89122\, United States
CATEGORIES:Arts
ATTACH;FMTTYPE=image/png:https://news.csn.edu/wp-content/uploads/2025/09/rightperformance.png
END:VEVENT
BEGIN:VEVENT
DTSTART;TZID=America/Los_Angeles:20251028T150000
DTEND;TZID=America/Los_Angeles:20251028T160000
DTSTAMP:20260422T095049
CREATED:20251020T225143Z
LAST-MODIFIED:20251020T225143Z
UID:10008679-1761663600-1761667200@news.csn.edu
SUMMARY:A History of Halloween
DESCRIPTION:
URL:https://news.csn.edu/event/a-history-of-halloween/
LOCATION:CSN North Las Vegas Campus\, 3200 E. Cheyenne Ave\, North Las Vegas\, NV\, 89030\, United States
CATEGORIES:Student life
ATTACH;FMTTYPE=image/png:https://news.csn.edu/wp-content/uploads/2025/10/A-History-of-Halloween-Presentation-Flyer.png
END:VEVENT
BEGIN:VEVENT
DTSTART;TZID=America/Los_Angeles:20251028T160000
DTEND;TZID=America/Los_Angeles:20251028T163000
DTSTAMP:20260422T095049
CREATED:20251028T214917Z
LAST-MODIFIED:20251028T214917Z
UID:10008695-1761667200-1761669000@news.csn.edu
SUMMARY:Career And Technical Education Town Hall
DESCRIPTION:https://docs.google.com/forms/d/e/1FAIpQLSfXwHbWU7AcvOpoadL0ljg-4OBWTr9PpMgWNuFDc_kuNx5MdQ/viewform \nChoose One Option: \n📅 Date/Time: Oct 28th – Check-In at 4pm – Town Hall begins at 4:30pm \n📍 Location: Southwest Career and Technical Academy (Coyote Ballroom) \n  \n📅 Date/Time: Oct 29th – Check-In at 4pm – Town Hall begins at 4:30pm \n📍 Location: CSN North Las Vegas Campus (Student Union Room 130)
URL:https://news.csn.edu/event/career-and-technical-education-town-hall/2025-10-28/
LOCATION:NV
CATEGORIES:Community
END:VEVENT
BEGIN:VEVENT
DTSTART;TZID=America/Los_Angeles:20251028T180000
DTEND;TZID=America/Los_Angeles:20251028T200000
DTSTAMP:20260422T095049
CREATED:20251013T183923Z
LAST-MODIFIED:20251013T183923Z
UID:10008611-1761674400-1761681600@news.csn.edu
SUMMARY:Trunk or Treat plus Movie
DESCRIPTION:
URL:https://news.csn.edu/event/trunk-or-treat-plus-movie/
LOCATION:Charleston Student Union\, 6375 W. Charleston Blvd\, Las Vegas\, NV\, 89146\, United States
ATTACH;FMTTYPE=image/png:https://news.csn.edu/wp-content/uploads/2025/10/Trunk-or-Treat-Flyer-Fa.-25.png
END:VEVENT
BEGIN:VEVENT
DTSTART;TZID=America/Los_Angeles:20251029T080000
DTEND;TZID=America/Los_Angeles:20251029T170000
DTSTAMP:20260422T095049
CREATED:20251013T165158Z
LAST-MODIFIED:20251013T165200Z
UID:10008524-1761724800-1761757200@news.csn.edu
SUMMARY:Beyond the Fence
DESCRIPTION:Fri.\, Oct. 17\, 2025 – Sat.\, Feb. 7\, 2026\nGallery Talk & Artist Reception: Tues.\, Feb. 3\, 2026 at 6-8 p.m.  \nThe Debra March Center of Excellence \n2200 Via Inspirada\, Henderson\, NV 89044
URL:https://news.csn.edu/event/beyond-the-fence-11/
LOCATION:Debra March Center of Excellence\, 2200 Via Inspirada\, Henderson\, NV\, 89044\, United States
CATEGORIES:Arts
ATTACH;FMTTYPE=image/jpeg:https://news.csn.edu/wp-content/uploads/2025/10/beyondthefence.jpg
END:VEVENT
BEGIN:VEVENT
DTSTART;TZID=America/Los_Angeles:20251029T090000
DTEND;TZID=America/Los_Angeles:20251029T180000
DTSTAMP:20260422T095049
CREATED:20250919T230038Z
LAST-MODIFIED:20250919T230038Z
UID:10008456-1761728400-1761760800@news.csn.edu
SUMMARY:﻿The Right of Permanence
DESCRIPTION:﻿﻿Daniel Esquivia Zapata \nFri.\, Oct. 3 – Wed.\, Nov. 26\, 2025 \nGallery Talk & Reception: Thurs.\, Oct. 16 • 6 p.m. \nGallery Hours: \nMonday through Friday 9:00 a.m. to 6:00 p.m. • Saturday 10:00 a.m. to 4:00 p.m. \nAll CSN art gallery events are free\, family friendly & open to the public. \nFor more information please call: 702.651.4146\nartgallery@csn.edu • www.csn.edu/artgallery \nDirections: The Fine Arts Gallery is located adjacent to the Nicholas J. Horn Theatre Lobby on the North Las Vegas Campus of the College of Southern Nevada • 3200 E. Cheyenne Ave. • North Las Vegas\, NV 89030
URL:https://news.csn.edu/event/the-right-of-permanence-23/
LOCATION:North Las Vegas campus\, 3200 E. Cheyenne Avenue\, North Las Vegas\, NV\, 89122\, United States
CATEGORIES:Arts
ATTACH;FMTTYPE=image/png:https://news.csn.edu/wp-content/uploads/2025/09/rightperformance.png
END:VEVENT
BEGIN:VEVENT
DTSTART;TZID=America/Los_Angeles:20251029T100000
DTEND;TZID=America/Los_Angeles:20251029T130000
DTSTAMP:20260422T095049
CREATED:20250929T210644Z
LAST-MODIFIED:20250929T211524Z
UID:10008499-1761732000-1761742800@news.csn.edu
SUMMARY:Communication & Journalism Internship Fair
DESCRIPTION:
URL:https://news.csn.edu/event/communication-journalism-internship-fair/
LOCATION:Charleston Campus Building B\, 6375 W Charleston Blvd\, Las Vegas\, NV\, 89146\, United States
ATTACH;FMTTYPE=image/jpeg:https://news.csn.edu/wp-content/uploads/2025/09/Internship-Fair-FLYER-BLUE-Updated-2025-11x17-Poster-04-1-scaled.jpg
END:VEVENT
BEGIN:VEVENT
DTSTART;TZID=America/Los_Angeles:20251029T110000
DTEND;TZID=America/Los_Angeles:20251029T150000
DTSTAMP:20260422T095049
CREATED:20250815T145950Z
LAST-MODIFIED:20250815T145950Z
UID:10008147-1761735600-1761750000@news.csn.edu
SUMMARY:Halloween Movie Night- NLV
DESCRIPTION:
URL:https://news.csn.edu/event/halloween-movie-night-nlv/
LOCATION:CSN North Las Vegas Student Union\, 3200 E. Cheyenne Avenue\, North Las Vegas\, NV\, 89030\, United States
ATTACH;FMTTYPE=image/png:https://news.csn.edu/wp-content/uploads/2025/08/Halloween-Movie-Night-NLV.png
END:VEVENT
BEGIN:VEVENT
DTSTART;TZID=America/Los_Angeles:20251029T143000
DTEND;TZID=America/Los_Angeles:20251029T153000
DTSTAMP:20260422T095049
CREATED:20251013T232455Z
LAST-MODIFIED:20251013T232455Z
UID:10008677-1761748200-1761751800@news.csn.edu
SUMMARY:Conversations with Psychology
DESCRIPTION:
URL:https://news.csn.edu/event/conversations-with-psychology/
LOCATION:https://nam11.safelinks.protection.outlook.com/ap/t-59584e83/?url=https%3A%2F%2Fteams.microsoft.com%2Fl%2Fmeetup-join%2F19%253ameeting_NzU1NTkzZWQtZTBiNC00Y2YzLTkzYzUtNmEzNWIwOWJjOTU5%2540thread.v2%2F0%3Fcontext%3D%257b%2522Tid%2522%253a%2522df35d574-9fba-48ce-a073-737868d77a48%2522%252c%2522Oid%2522%253a%2522d79ae682-33fb-4717-a11b-be5be82246f5%2522%257d&data=05%7C02%7CSarah.Tartaglia%40CSN.EDU%7C22302ceeef1e4c2b58e408ddee4756f4%7Cdf35d5749fba48cea073737868d77a48%7C0%7C0%7C638928712394131765%7CUnknown%7CTWFpbGZsb3d8eyJFbXB0eU1hcGkiOnRydWUsIlYiOiIwLjAuMDAwMCIsIlAiOiJXaW4zMiIsIkFOIjoiTWFpbCIsIldUIjoyfQ%3D%3D%7C0%7C%7C%7C&sdata=8qg81GBJEPS8H7lQKkwfwom7Dxu92IE6qWYSUNYVA%2FI%3D&reserved=0
ATTACH;FMTTYPE=image/png:https://news.csn.edu/wp-content/uploads/2025/10/ADHD-Conversations-w-Psychologist-3.png
END:VEVENT
BEGIN:VEVENT
DTSTART;TZID=America/Los_Angeles:20251029T150000
DTEND;TZID=America/Los_Angeles:20251029T160000
DTSTAMP:20260422T095049
CREATED:20250822T165932Z
LAST-MODIFIED:20250822T170007Z
UID:10008325-1761750000-1761753600@news.csn.edu
SUMMARY:Thrive Support Group (CAPS) - Henderson
DESCRIPTION:
URL:https://news.csn.edu/event/thrive-support-group-caps-henderson/2025-10-29/
LOCATION:Henderson Campus\, 700 College Drive\, Henderson\, NV\, 89146\, United States
ATTACH;FMTTYPE=image/png:https://news.csn.edu/wp-content/uploads/2025/08/Fa25-Thrive-Support-Group-HEN.png
END:VEVENT
BEGIN:VEVENT
DTSTART;TZID=America/Los_Angeles:20251030T080000
DTEND;TZID=America/Los_Angeles:20251030T170000
DTSTAMP:20260422T095049
CREATED:20251013T165214Z
LAST-MODIFIED:20251013T165214Z
UID:10008525-1761811200-1761843600@news.csn.edu
SUMMARY:Beyond the Fence
DESCRIPTION:Fri.\, Oct. 17\, 2025 – Sat.\, Feb. 7\, 2026\nGallery Talk & Artist Reception: Tues.\, Feb. 3\, 2026 at 6-8 p.m.  \nThe Debra March Center of Excellence \n2200 Via Inspirada\, Henderson\, NV 89044
URL:https://news.csn.edu/event/beyond-the-fence-12/
LOCATION:Debra March Center of Excellence\, 2200 Via Inspirada\, Henderson\, NV\, 89044\, United States
CATEGORIES:Arts
ATTACH;FMTTYPE=image/jpeg:https://news.csn.edu/wp-content/uploads/2025/10/beyondthefence.jpg
END:VEVENT
BEGIN:VEVENT
DTSTART;TZID=America/Los_Angeles:20251030T090000
DTEND;TZID=America/Los_Angeles:20251030T180000
DTSTAMP:20260422T095049
CREATED:20250919T230046Z
LAST-MODIFIED:20250919T230046Z
UID:10008457-1761814800-1761847200@news.csn.edu
SUMMARY:﻿The Right of Permanence
DESCRIPTION:﻿﻿Daniel Esquivia Zapata \nFri.\, Oct. 3 – Wed.\, Nov. 26\, 2025 \nGallery Talk & Reception: Thurs.\, Oct. 16 • 6 p.m. \nGallery Hours: \nMonday through Friday 9:00 a.m. to 6:00 p.m. • Saturday 10:00 a.m. to 4:00 p.m. \nAll CSN art gallery events are free\, family friendly & open to the public. \nFor more information please call: 702.651.4146\nartgallery@csn.edu • www.csn.edu/artgallery \nDirections: The Fine Arts Gallery is located adjacent to the Nicholas J. Horn Theatre Lobby on the North Las Vegas Campus of the College of Southern Nevada • 3200 E. Cheyenne Ave. • North Las Vegas\, NV 89030
URL:https://news.csn.edu/event/the-right-of-permanence-24/
LOCATION:North Las Vegas campus\, 3200 E. Cheyenne Avenue\, North Las Vegas\, NV\, 89122\, United States
CATEGORIES:Arts
ATTACH;FMTTYPE=image/png:https://news.csn.edu/wp-content/uploads/2025/09/rightperformance.png
END:VEVENT
BEGIN:VEVENT
DTSTART;TZID=America/Los_Angeles:20251030T110000
DTEND;TZID=America/Los_Angeles:20251030T140000
DTSTAMP:20260422T095049
CREATED:20251001T193539Z
LAST-MODIFIED:20251023T194929Z
UID:10008503-1761822000-1761832800@news.csn.edu
SUMMARY:Dia De Los Muertos - Celebration of Life Event
DESCRIPTION:AT ALL CAMPUSES in the Student Union room 121
URL:https://news.csn.edu/event/dia-de-los-muertos-celebration-of-life-event/
LOCATION:NV
ATTACH;FMTTYPE=image/png:https://news.csn.edu/wp-content/uploads/2025/10/CSN-Dia-de-Los-Muertos-Celebration-of-Life-Event.png
END:VEVENT
BEGIN:VEVENT
DTSTART;TZID=America/Los_Angeles:20251031T080000
DTEND;TZID=America/Los_Angeles:20251031T170000
DTSTAMP:20260422T095049
CREATED:20251013T165222Z
LAST-MODIFIED:20251013T165222Z
UID:10008526-1761897600-1761930000@news.csn.edu
SUMMARY:Beyond the Fence
DESCRIPTION:Fri.\, Oct. 17\, 2025 – Sat.\, Feb. 7\, 2026\nGallery Talk & Artist Reception: Tues.\, Feb. 3\, 2026 at 6-8 p.m.  \nThe Debra March Center of Excellence \n2200 Via Inspirada\, Henderson\, NV 89044
URL:https://news.csn.edu/event/beyond-the-fence-13/
LOCATION:Debra March Center of Excellence\, 2200 Via Inspirada\, Henderson\, NV\, 89044\, United States
CATEGORIES:Arts
ATTACH;FMTTYPE=image/jpeg:https://news.csn.edu/wp-content/uploads/2025/10/beyondthefence.jpg
END:VEVENT
BEGIN:VEVENT
DTSTART;TZID=America/Los_Angeles:20251031T090000
DTEND;TZID=America/Los_Angeles:20251031T180000
DTSTAMP:20260422T095049
CREATED:20250919T230055Z
LAST-MODIFIED:20250919T230055Z
UID:10008458-1761901200-1761933600@news.csn.edu
SUMMARY:﻿The Right of Permanence
DESCRIPTION:﻿﻿Daniel Esquivia Zapata \nFri.\, Oct. 3 – Wed.\, Nov. 26\, 2025 \nGallery Talk & Reception: Thurs.\, Oct. 16 • 6 p.m. \nGallery Hours: \nMonday through Friday 9:00 a.m. to 6:00 p.m. • Saturday 10:00 a.m. to 4:00 p.m. \nAll CSN art gallery events are free\, family friendly & open to the public. \nFor more information please call: 702.651.4146\nartgallery@csn.edu • www.csn.edu/artgallery \nDirections: The Fine Arts Gallery is located adjacent to the Nicholas J. Horn Theatre Lobby on the North Las Vegas Campus of the College of Southern Nevada • 3200 E. Cheyenne Ave. • North Las Vegas\, NV 89030
URL:https://news.csn.edu/event/the-right-of-permanence-25/
LOCATION:North Las Vegas campus\, 3200 E. Cheyenne Avenue\, North Las Vegas\, NV\, 89122\, United States
CATEGORIES:Arts
ATTACH;FMTTYPE=image/png:https://news.csn.edu/wp-content/uploads/2025/09/rightperformance.png
END:VEVENT
BEGIN:VEVENT
DTSTART;TZID=America/Los_Angeles:20251101T080000
DTEND;TZID=America/Los_Angeles:20251101T170000
DTSTAMP:20260422T095049
CREATED:20251013T165231Z
LAST-MODIFIED:20251013T165231Z
UID:10008527-1761984000-1762016400@news.csn.edu
SUMMARY:Beyond the Fence
DESCRIPTION:Fri.\, Oct. 17\, 2025 – Sat.\, Feb. 7\, 2026\nGallery Talk & Artist Reception: Tues.\, Feb. 3\, 2026 at 6-8 p.m.  \nThe Debra March Center of Excellence \n2200 Via Inspirada\, Henderson\, NV 89044
URL:https://news.csn.edu/event/beyond-the-fence-14/
LOCATION:Debra March Center of Excellence\, 2200 Via Inspirada\, Henderson\, NV\, 89044\, United States
CATEGORIES:Arts
ATTACH;FMTTYPE=image/jpeg:https://news.csn.edu/wp-content/uploads/2025/10/beyondthefence.jpg
END:VEVENT
BEGIN:VEVENT
DTSTART;TZID=America/Los_Angeles:20251101T100000
DTEND;TZID=America/Los_Angeles:20251101T160000
DTSTAMP:20260422T095049
CREATED:20250919T230113Z
LAST-MODIFIED:20250919T230113Z
UID:10008459-1761991200-1762012800@news.csn.edu
SUMMARY:﻿The Right of Permanence
DESCRIPTION:﻿﻿Daniel Esquivia Zapata \nFri.\, Oct. 3 – Wed.\, Nov. 26\, 2025 \nGallery Talk & Reception: Thurs.\, Oct. 16 • 6 p.m. \nGallery Hours: \nMonday through Friday 9:00 a.m. to 6:00 p.m. • Saturday 10:00 a.m. to 4:00 p.m. \nAll CSN art gallery events are free\, family friendly & open to the public. \nFor more information please call: 702.651.4146\nartgallery@csn.edu • www.csn.edu/artgallery \nDirections: The Fine Arts Gallery is located adjacent to the Nicholas J. Horn Theatre Lobby on the North Las Vegas Campus of the College of Southern Nevada • 3200 E. Cheyenne Ave. • North Las Vegas\, NV 89030
URL:https://news.csn.edu/event/the-right-of-permanence-26/
LOCATION:North Las Vegas campus\, 3200 E. Cheyenne Avenue\, North Las Vegas\, NV\, 89122\, United States
CATEGORIES:Arts
ATTACH;FMTTYPE=image/png:https://news.csn.edu/wp-content/uploads/2025/09/rightperformance.png
END:VEVENT
BEGIN:VEVENT
DTSTART;TZID=America/Los_Angeles:20251101T120000
DTEND;TZID=America/Los_Angeles:20251101T140000
DTSTAMP:20260422T095049
CREATED:20251010T200642Z
LAST-MODIFIED:20251010T200658Z
UID:10008506-1761998400-1762005600@news.csn.edu
SUMMARY:Rhythms of Unity
DESCRIPTION:
URL:https://news.csn.edu/event/rhythms-of-unity/
LOCATION:CSN North Las Vegas Campus G Building\, 3200 East Cheyenne Avenue\, North Las Vegas\, NV\, 89030\, United States
ATTACH;FMTTYPE=image/png:https://news.csn.edu/wp-content/uploads/2025/10/Rhythms-of-Unity.png
END:VEVENT
BEGIN:VEVENT
DTSTART;TZID=America/Los_Angeles:20251103T080000
DTEND;TZID=America/Los_Angeles:20251103T170000
DTSTAMP:20260422T095049
CREATED:20251013T165247Z
LAST-MODIFIED:20251013T165247Z
UID:10008528-1762156800-1762189200@news.csn.edu
SUMMARY:Beyond the Fence
DESCRIPTION:Fri.\, Oct. 17\, 2025 – Sat.\, Feb. 7\, 2026\nGallery Talk & Artist Reception: Tues.\, Feb. 3\, 2026 at 6-8 p.m.  \nThe Debra March Center of Excellence \n2200 Via Inspirada\, Henderson\, NV 89044
URL:https://news.csn.edu/event/beyond-the-fence-15/
LOCATION:Debra March Center of Excellence\, 2200 Via Inspirada\, Henderson\, NV\, 89044\, United States
CATEGORIES:Arts
ATTACH;FMTTYPE=image/jpeg:https://news.csn.edu/wp-content/uploads/2025/10/beyondthefence.jpg
END:VEVENT
BEGIN:VEVENT
DTSTART;TZID=America/Los_Angeles:20251103T090000
DTEND;TZID=America/Los_Angeles:20251103T180000
DTSTAMP:20260422T095049
CREATED:20250919T230122Z
LAST-MODIFIED:20250919T230122Z
UID:10008460-1762160400-1762192800@news.csn.edu
SUMMARY:﻿The Right of Permanence
DESCRIPTION:﻿﻿Daniel Esquivia Zapata \nFri.\, Oct. 3 – Wed.\, Nov. 26\, 2025 \nGallery Talk & Reception: Thurs.\, Oct. 16 • 6 p.m. \nGallery Hours: \nMonday through Friday 9:00 a.m. to 6:00 p.m. • Saturday 10:00 a.m. to 4:00 p.m. \nAll CSN art gallery events are free\, family friendly & open to the public. \nFor more information please call: 702.651.4146\nartgallery@csn.edu • www.csn.edu/artgallery \nDirections: The Fine Arts Gallery is located adjacent to the Nicholas J. Horn Theatre Lobby on the North Las Vegas Campus of the College of Southern Nevada • 3200 E. Cheyenne Ave. • North Las Vegas\, NV 89030
URL:https://news.csn.edu/event/the-right-of-permanence-27/
LOCATION:North Las Vegas campus\, 3200 E. Cheyenne Avenue\, North Las Vegas\, NV\, 89122\, United States
CATEGORIES:Arts
ATTACH;FMTTYPE=image/png:https://news.csn.edu/wp-content/uploads/2025/09/rightperformance.png
END:VEVENT
BEGIN:VEVENT
DTSTART;TZID=America/Los_Angeles:20251103T180000
DTEND;TZID=America/Los_Angeles:20251103T190000
DTSTAMP:20260422T095049
CREATED:20251021T223500Z
LAST-MODIFIED:20251021T223500Z
UID:10008691-1762192800-1762196400@news.csn.edu
SUMMARY:Jack Kent Cooke Scholarships
DESCRIPTION:
URL:https://news.csn.edu/event/jack-kent-cooke-scholarships/
LOCATION:Virtual
CATEGORIES:Student life
ATTACH;FMTTYPE=image/png:https://news.csn.edu/wp-content/uploads/2025/10/Meraki-Youth-x-JKC-Workshops-scaled.png
END:VEVENT
END:VCALENDAR