BEGIN:VCALENDAR
VERSION:2.0
PRODID:-//College of Southern Nevada - ECPv6.15.13//NONSGML v1.0//EN
CALSCALE:GREGORIAN
METHOD:PUBLISH
X-WR-CALNAME:College of Southern Nevada
X-ORIGINAL-URL:https://news.csn.edu
X-WR-CALDESC:Events for College of Southern Nevada
REFRESH-INTERVAL;VALUE=DURATION:PT1H
X-Robots-Tag:noindex
X-PUBLISHED-TTL:PT1H
BEGIN:VTIMEZONE
TZID:UTC
BEGIN:STANDARD
TZOFFSETFROM:+0000
TZOFFSETTO:+0000
TZNAME:UTC
DTSTART:20250101T000000
END:STANDARD
END:VTIMEZONE
BEGIN:VTIMEZONE
TZID:America/Los_Angeles
BEGIN:DAYLIGHT
TZOFFSETFROM:-0800
TZOFFSETTO:-0700
TZNAME:PDT
DTSTART:20250309T100000
END:DAYLIGHT
BEGIN:STANDARD
TZOFFSETFROM:-0700
TZOFFSETTO:-0800
TZNAME:PST
DTSTART:20251102T090000
END:STANDARD
BEGIN:DAYLIGHT
TZOFFSETFROM:-0800
TZOFFSETTO:-0700
TZNAME:PDT
DTSTART:20260308T100000
END:DAYLIGHT
BEGIN:STANDARD
TZOFFSETFROM:-0700
TZOFFSETTO:-0800
TZNAME:PST
DTSTART:20261101T090000
END:STANDARD
BEGIN:DAYLIGHT
TZOFFSETFROM:-0800
TZOFFSETTO:-0700
TZNAME:PDT
DTSTART:20270314T100000
END:DAYLIGHT
BEGIN:STANDARD
TZOFFSETFROM:-0700
TZOFFSETTO:-0800
TZNAME:PST
DTSTART:20271107T090000
END:STANDARD
END:VTIMEZONE
BEGIN:VEVENT
DTSTART;TZID=UTC:20260213T200000
DTEND;TZID=UTC:20260213T230000
DTSTAMP:20260423T124445
CREATED:20251227T121529Z
LAST-MODIFIED:20251227T121529Z
UID:10009024-1771012800-1771023600@news.csn.edu
SUMMARY:College of Southern Nevada Baseball vs South Mountain Community College
DESCRIPTION:College of Southern Nevada Baseball vs South Mountain Community College
URL:https://news.csn.edu/event/college-of-southern-nevada-baseball-vs-south-mountain-community-college-7/
LOCATION:Henderson\, NV\, Morse Stadium
CATEGORIES:Baseball
END:VEVENT
BEGIN:VEVENT
DTSTART;TZID=UTC:20260213T223000
DTEND;TZID=UTC:20260214T013000
DTSTAMP:20260423T124445
CREATED:20251227T121529Z
LAST-MODIFIED:20251227T121529Z
UID:10009025-1771021800-1771032600@news.csn.edu
SUMMARY:College of Southern Nevada Baseball vs South Mountain Community College
DESCRIPTION:College of Southern Nevada Baseball vs South Mountain Community College
URL:https://news.csn.edu/event/college-of-southern-nevada-baseball-vs-south-mountain-community-college-8/
LOCATION:Henderson\, NV\, Morse Stadium
CATEGORIES:Baseball
END:VEVENT
BEGIN:VEVENT
DTSTART;TZID=UTC:20260214T013000
DTEND;TZID=UTC:20260214T033000
DTSTAMP:20260423T124445
CREATED:20251127T071902Z
LAST-MODIFIED:20251127T071902Z
UID:10008902-1771032600-1771039800@news.csn.edu
SUMMARY:College of Southern Nevada Women's Basketball vs Cochise College
DESCRIPTION:College of Southern Nevada Women’s Basketball vs Cochise College
URL:https://news.csn.edu/event/college-of-southern-nevada-womens-basketball-vs-cochise-college-3/
LOCATION:North Las Vegas\, NV\, CSN Sports Center
CATEGORIES:Women's Basketball
END:VEVENT
BEGIN:VEVENT
DTSTART;TZID=UTC:20260214T033000
DTEND;TZID=UTC:20260214T053000
DTSTAMP:20260423T124445
CREATED:20251121T201635Z
LAST-MODIFIED:20251121T201635Z
UID:10008849-1771039800-1771047000@news.csn.edu
SUMMARY:College of Southern Nevada Men's Basketball vs Cochise College
DESCRIPTION:College of Southern Nevada Men’s Basketball vs Cochise College
URL:https://news.csn.edu/event/college-of-southern-nevada-mens-basketball-vs-cochise-college-3/
LOCATION:North Las Vegas\, NV\, Coyote Event Center
CATEGORIES:Men's Basketball
END:VEVENT
BEGIN:VEVENT
DTSTART;TZID=America/Los_Angeles:20260214T080000
DTEND;TZID=America/Los_Angeles:20260214T170000
DTSTAMP:20260423T124445
CREATED:20251118T161718Z
LAST-MODIFIED:20251118T161718Z
UID:10008764-1771056000-1771088400@news.csn.edu
SUMMARY:ART 298: Portfolio Emphasis Fall 2025 Exhibition - “Memento”
DESCRIPTION:Friday\, December 5\, 2025\, through Saturday\, February 28\, 2026\nNorth Las Vegas Campus Artspace Gallery \nCSN’s Artspace Gallery is free\, family-friendly\, and open to the public. Gallery hours are from 8 a.m. to 10:30 p.m. Monday through Friday and 8 a.m. to 5 p.m. Saturday. \nThe Artspace Gallery is upstairs above the main entrance lobby on the North Las Vegas campus\, located at 3200 E. Cheyenne Avenue\, one mile East of I-15 North. \nFor more information\, please call (702) 651-4146 \nhttp://www.csn.edu/artgallery
URL:https://news.csn.edu/event/art-298-portfolio-emphasis-fall-2025-exhibition-memento-62/
LOCATION:North Las Vegas campus\, 3200 E. Cheyenne Avenue\, North Las Vegas\, NV\, 89122\, United States
CATEGORIES:Arts
ATTACH;FMTTYPE=image/jpeg:https://news.csn.edu/wp-content/uploads/2025/11/smlr.jpg
END:VEVENT
BEGIN:VEVENT
DTSTART;TZID=America/Los_Angeles:20260214T100000
DTEND;TZID=America/Los_Angeles:20260214T160000
DTSTAMP:20260423T124445
CREATED:20251120T183929Z
LAST-MODIFIED:20251120T183929Z
UID:10008831-1771063200-1771084800@news.csn.edu
SUMMARY:Christine Knize: Orchidelirium
DESCRIPTION:Friday\, December 12\, 2025\, through Saturday\, February 14\, 2026\nGallery Talk and Artist Reception: Friday\, December 12\, 2025\nNorth Las Vegas Campus • Fine Arts Gallery \nThe College of Southern Nevada\, School of Arts & Letters\, and Department of Fine Arts will host an exhibition of large-scale oil paintings by Florida-based artist Christine Knize. Christine Knize: Orchidelirium opens Friday\, December 12\, 2025\, and runs through Saturday\, February 14\, 2026\, in the Fine Arts Gallery on the North Las Vegas Campus of the College of Southern Nevada. A special Gallery Talk and Artist Reception\, with refreshments\, will take place on Friday\, December 12\, 2025\, at 6:00 pm. \nFor more information\, please call (702) 651-4146 \nhttp://www.csn.edu/artgallery
URL:https://news.csn.edu/event/christine-knize-orchidelirium-54/
LOCATION:North Las Vegas campus\, 3200 E. Cheyenne Avenue\, North Las Vegas\, NV\, 89122\, United States
CATEGORIES:Arts
ATTACH;FMTTYPE=image/jpeg:https://news.csn.edu/wp-content/uploads/2025/11/ck.jpg
END:VEVENT
BEGIN:VEVENT
DTSTART;TZID=UTC:20260214T200000
DTEND;TZID=UTC:20260214T220000
DTSTAMP:20260423T124445
CREATED:20251220T061804Z
LAST-MODIFIED:20251220T061804Z
UID:10008959-1771099200-1771106400@news.csn.edu
SUMMARY:College of Southern Nevada Softball at Scottsdale Community College
DESCRIPTION:College of Southern Nevada Softball at Scottsdale Community College
URL:https://news.csn.edu/event/college-of-southern-nevada-softball-at-scottsdale-community-college-4/
LOCATION:Scottsdale\, AZ
END:VEVENT
BEGIN:VEVENT
DTSTART;TZID=UTC:20260214T220000
DTEND;TZID=UTC:20260215T000000
DTSTAMP:20260423T124445
CREATED:20251220T061804Z
LAST-MODIFIED:20251220T061804Z
UID:10008958-1771106400-1771113600@news.csn.edu
SUMMARY:College of Southern Nevada Softball at Scottsdale Community College
DESCRIPTION:College of Southern Nevada Softball at Scottsdale Community College
URL:https://news.csn.edu/event/college-of-southern-nevada-softball-at-scottsdale-community-college-3/
LOCATION:Scottsdale\, AZ
END:VEVENT
BEGIN:VEVENT
DTSTART;TZID=America/Los_Angeles:20260216T080000
DTEND;TZID=America/Los_Angeles:20260216T170000
DTSTAMP:20260423T124445
CREATED:20260130T235720Z
LAST-MODIFIED:20260130T235720Z
UID:10009166-1771228800-1771261200@news.csn.edu
SUMMARY:To The Left
DESCRIPTION:Participating Artists:\nAimee Coello\, Camile Lovaz\, Rose Miller\, Niko Navalta\, Jessica Samaniego\, Bella Sanabria\, Montaysia Yuneek and Arianna Zaremehrjardi \nFri.\, Feb. 13 – Sat.\, June 20\, 2026\nPanel Discussion and Artist Reception: Thurs.\, June 11 at 6 p.m.\nThe Debra March Center of Excellence\n2200 Via Inspirada\, Henderson\, NV 89044 \nGallery Hours:\nMonday through Friday 8 a.m. to 5 p.m.\nGallery is closed Saturday\, Sunday\, Nevada state holidays and between CSN academic terms.\nAll CSN art gallery events are free\, family friendly and open to the public. \nFor exhibition information\, please email: artgallery@csn.edu or call 702.651.4146\nFor building access and hours\,\nplease call 702-651-3727 | Website: www.csn.edu/artgallery
URL:https://news.csn.edu/event/to-the-left-2/
LOCATION:Debra March Center of Excellence\, 2200 Via Inspirada\, Henderson\, NV\, 89044\, United States
CATEGORIES:Arts
ATTACH;FMTTYPE=image/jpeg:https://news.csn.edu/wp-content/uploads/2026/01/to-the-left-flyer.jpg
END:VEVENT
BEGIN:VEVENT
DTSTART;TZID=America/Los_Angeles:20260216T080000
DTEND;TZID=America/Los_Angeles:20260216T223000
DTSTAMP:20260423T124445
CREATED:20251118T161804Z
LAST-MODIFIED:20251118T161804Z
UID:10008765-1771228800-1771281000@news.csn.edu
SUMMARY:ART 298: Portfolio Emphasis Fall 2025 Exhibition - “Memento”
DESCRIPTION:Friday\, December 5\, 2025\, through Saturday\, February 28\, 2026\nNorth Las Vegas Campus Artspace Gallery \nCSN’s Artspace Gallery is free\, family-friendly\, and open to the public. Gallery hours are from 8 a.m. to 10:30 p.m. Monday through Friday and 8 a.m. to 5 p.m. Saturday. \nThe Artspace Gallery is upstairs above the main entrance lobby on the North Las Vegas campus\, located at 3200 E. Cheyenne Avenue\, one mile East of I-15 North. \nFor more information\, please call (702) 651-4146 \nhttp://www.csn.edu/artgallery
URL:https://news.csn.edu/event/art-298-portfolio-emphasis-fall-2025-exhibition-memento-63/
LOCATION:North Las Vegas campus\, 3200 E. Cheyenne Avenue\, North Las Vegas\, NV\, 89122\, United States
CATEGORIES:Arts
ATTACH;FMTTYPE=image/jpeg:https://news.csn.edu/wp-content/uploads/2025/11/smlr.jpg
END:VEVENT
BEGIN:VEVENT
DTSTART;TZID=America/Los_Angeles:20260216T090000
DTEND;TZID=America/Los_Angeles:20260216T100000
DTSTAMP:20260423T124445
CREATED:20251013T205024Z
LAST-MODIFIED:20251013T234133Z
UID:10008630-1771232400-1771236000@news.csn.edu
SUMMARY:Mindful Balance group
DESCRIPTION:
URL:https://news.csn.edu/event/mindful-balance-group/2026-02-16/
LOCATION:NV
ATTACH;FMTTYPE=image/png:https://news.csn.edu/wp-content/uploads/2025/10/CAPS-Mindful-Balance-Group-Flyer-1.png
END:VEVENT
BEGIN:VEVENT
DTSTART;TZID=UTC:20260216T210000
DTEND;TZID=UTC:20260216T230000
DTSTAMP:20260423T124445
CREATED:20251220T061805Z
LAST-MODIFIED:20251220T061805Z
UID:10008960-1771275600-1771282800@news.csn.edu
SUMMARY:College of Southern Nevada Softball at College of Southern Idaho
DESCRIPTION:College of Southern Nevada Softball at College of Southern Idaho
URL:https://news.csn.edu/event/college-of-southern-nevada-softball-at-college-of-southern-idaho-5/
LOCATION:Twin Falls\, ID
END:VEVENT
BEGIN:VEVENT
DTSTART;TZID=UTC:20260216T210000
DTEND;TZID=UTC:20260216T230000
DTSTAMP:20260423T124445
CREATED:20251220T061805Z
LAST-MODIFIED:20251220T061805Z
UID:10008961-1771275600-1771282800@news.csn.edu
SUMMARY:College of Southern Nevada Softball vs Utah State University Eastern
DESCRIPTION:College of Southern Nevada Softball vs Utah State University Eastern
URL:https://news.csn.edu/event/college-of-southern-nevada-softball-vs-utah-state-university-eastern-5/
LOCATION:Henderson\, NV\, Lady Coyote Softball Field
END:VEVENT
BEGIN:VEVENT
DTSTART;TZID=America/Los_Angeles:20260217T080000
DTEND;TZID=America/Los_Angeles:20260217T170000
DTSTAMP:20260423T124445
CREATED:20260130T235729Z
LAST-MODIFIED:20260130T235729Z
UID:10009167-1771315200-1771347600@news.csn.edu
SUMMARY:To The Left
DESCRIPTION:Participating Artists:\nAimee Coello\, Camile Lovaz\, Rose Miller\, Niko Navalta\, Jessica Samaniego\, Bella Sanabria\, Montaysia Yuneek and Arianna Zaremehrjardi \nFri.\, Feb. 13 – Sat.\, June 20\, 2026\nPanel Discussion and Artist Reception: Thurs.\, June 11 at 6 p.m.\nThe Debra March Center of Excellence\n2200 Via Inspirada\, Henderson\, NV 89044 \nGallery Hours:\nMonday through Friday 8 a.m. to 5 p.m.\nGallery is closed Saturday\, Sunday\, Nevada state holidays and between CSN academic terms.\nAll CSN art gallery events are free\, family friendly and open to the public. \nFor exhibition information\, please email: artgallery@csn.edu or call 702.651.4146\nFor building access and hours\,\nplease call 702-651-3727 | Website: www.csn.edu/artgallery
URL:https://news.csn.edu/event/to-the-left-3/
LOCATION:Debra March Center of Excellence\, 2200 Via Inspirada\, Henderson\, NV\, 89044\, United States
CATEGORIES:Arts
ATTACH;FMTTYPE=image/jpeg:https://news.csn.edu/wp-content/uploads/2026/01/to-the-left-flyer.jpg
END:VEVENT
BEGIN:VEVENT
DTSTART;TZID=America/Los_Angeles:20260217T080000
DTEND;TZID=America/Los_Angeles:20260217T223000
DTSTAMP:20260423T124445
CREATED:20251118T161808Z
LAST-MODIFIED:20251118T161808Z
UID:10008767-1771315200-1771367400@news.csn.edu
SUMMARY:ART 298: Portfolio Emphasis Fall 2025 Exhibition - “Memento”
DESCRIPTION:Friday\, December 5\, 2025\, through Saturday\, February 28\, 2026\nNorth Las Vegas Campus Artspace Gallery \nCSN’s Artspace Gallery is free\, family-friendly\, and open to the public. Gallery hours are from 8 a.m. to 10:30 p.m. Monday through Friday and 8 a.m. to 5 p.m. Saturday. \nThe Artspace Gallery is upstairs above the main entrance lobby on the North Las Vegas campus\, located at 3200 E. Cheyenne Avenue\, one mile East of I-15 North. \nFor more information\, please call (702) 651-4146 \nhttp://www.csn.edu/artgallery
URL:https://news.csn.edu/event/art-298-portfolio-emphasis-fall-2025-exhibition-memento-64/
LOCATION:North Las Vegas campus\, 3200 E. Cheyenne Avenue\, North Las Vegas\, NV\, 89122\, United States
CATEGORIES:Arts
ATTACH;FMTTYPE=image/jpeg:https://news.csn.edu/wp-content/uploads/2025/11/smlr.jpg
END:VEVENT
BEGIN:VEVENT
DTSTART;TZID=America/Los_Angeles:20260217T081500
DTEND;TZID=America/Los_Angeles:20260217T084500
DTSTAMP:20260423T124446
CREATED:20251125T203255Z
LAST-MODIFIED:20251125T203255Z
UID:10008865-1771316100-1771317900@news.csn.edu
SUMMARY:Biscuits & Business
DESCRIPTION:﻿Biscuits & Business with the Career Services Director \nMeet the Career Services Director to get an insider look at all the resources available to you to ensure you maximize your time here and successfully launch your professional Career. \nQuestions?: Email career.services@csn.edu \ntinyurl.com/Sp26BiscuitsAndBusiness
URL:https://news.csn.edu/event/biscuits-business-5/
LOCATION:NV
CATEGORIES:Community
ATTACH;FMTTYPE=image/jpeg:https://news.csn.edu/wp-content/uploads/2025/11/biscuitsbusiness.jpg
END:VEVENT
BEGIN:VEVENT
DTSTART;TZID=America/Los_Angeles:20260217T110000
DTEND;TZID=America/Los_Angeles:20260217T130000
DTSTAMP:20260423T124446
CREATED:20251216T012920Z
LAST-MODIFIED:20251216T012920Z
UID:10008936-1771326000-1771333200@news.csn.edu
SUMMARY:Mastering the Fair - Pre-Career Fair Event
DESCRIPTION:Come join us at our Spring 2026 Mastering the Fair: Pre-Career Fair Events! \nTuesday\, February 17\, 2026 from 11am – 1pm \nHenderson Campus – C Building Lobby \nWednesday\, February 18\, 2026 from 11am – 1pm \nNorth Las Vegas Campus – June Whitley Lounge \nMonday\, January 19\, 2026 from 11am – 1pm \nCharleston Campus – Student Union Lobby
URL:https://news.csn.edu/event/mastering-the-fair-pre-career-fair-event/2026-02-17/
LOCATION:Henderson Campus Building C\, 700 College Dr\, Henderson\, Nevada\, 89002\, United States
CATEGORIES:Community,Employees,Student life
ATTACH;FMTTYPE=image/jpeg:https://news.csn.edu/wp-content/uploads/2025/12/3-1.jpg
END:VEVENT
BEGIN:VEVENT
DTSTART;TZID=America/Los_Angeles:20260218T080000
DTEND;TZID=America/Los_Angeles:20260218T170000
DTSTAMP:20260423T124446
CREATED:20260130T235737Z
LAST-MODIFIED:20260130T235737Z
UID:10009168-1771401600-1771434000@news.csn.edu
SUMMARY:To The Left
DESCRIPTION:Participating Artists:\nAimee Coello\, Camile Lovaz\, Rose Miller\, Niko Navalta\, Jessica Samaniego\, Bella Sanabria\, Montaysia Yuneek and Arianna Zaremehrjardi \nFri.\, Feb. 13 – Sat.\, June 20\, 2026\nPanel Discussion and Artist Reception: Thurs.\, June 11 at 6 p.m.\nThe Debra March Center of Excellence\n2200 Via Inspirada\, Henderson\, NV 89044 \nGallery Hours:\nMonday through Friday 8 a.m. to 5 p.m.\nGallery is closed Saturday\, Sunday\, Nevada state holidays and between CSN academic terms.\nAll CSN art gallery events are free\, family friendly and open to the public. \nFor exhibition information\, please email: artgallery@csn.edu or call 702.651.4146\nFor building access and hours\,\nplease call 702-651-3727 | Website: www.csn.edu/artgallery
URL:https://news.csn.edu/event/to-the-left-4/
LOCATION:Debra March Center of Excellence\, 2200 Via Inspirada\, Henderson\, NV\, 89044\, United States
CATEGORIES:Arts
ATTACH;FMTTYPE=image/jpeg:https://news.csn.edu/wp-content/uploads/2026/01/to-the-left-flyer.jpg
END:VEVENT
BEGIN:VEVENT
DTSTART;TZID=America/Los_Angeles:20260218T080000
DTEND;TZID=America/Los_Angeles:20260218T223000
DTSTAMP:20260423T124446
CREATED:20251118T161812Z
LAST-MODIFIED:20251118T161812Z
UID:10008766-1771401600-1771453800@news.csn.edu
SUMMARY:ART 298: Portfolio Emphasis Fall 2025 Exhibition - “Memento”
DESCRIPTION:Friday\, December 5\, 2025\, through Saturday\, February 28\, 2026\nNorth Las Vegas Campus Artspace Gallery \nCSN’s Artspace Gallery is free\, family-friendly\, and open to the public. Gallery hours are from 8 a.m. to 10:30 p.m. Monday through Friday and 8 a.m. to 5 p.m. Saturday. \nThe Artspace Gallery is upstairs above the main entrance lobby on the North Las Vegas campus\, located at 3200 E. Cheyenne Avenue\, one mile East of I-15 North. \nFor more information\, please call (702) 651-4146 \nhttp://www.csn.edu/artgallery
URL:https://news.csn.edu/event/art-298-portfolio-emphasis-fall-2025-exhibition-memento-65/
LOCATION:North Las Vegas campus\, 3200 E. Cheyenne Avenue\, North Las Vegas\, NV\, 89122\, United States
CATEGORIES:Arts
ATTACH;FMTTYPE=image/jpeg:https://news.csn.edu/wp-content/uploads/2025/11/smlr.jpg
END:VEVENT
BEGIN:VEVENT
DTSTART;TZID=America/Los_Angeles:20260218T120000
DTEND;TZID=America/Los_Angeles:20260218T140000
DTSTAMP:20260423T124446
CREATED:20260104T224601Z
LAST-MODIFIED:20260104T224601Z
UID:10009065-1771416000-1771423200@news.csn.edu
SUMMARY:Sankofa Black Writer Series w/ The F.E.W Collective
DESCRIPTION:Meet and greet with local Black authors The F.E.W Collective\, authors of Bars and Beats on February 18 at The Den in the North Las Vegas Campus Student Union!
URL:https://news.csn.edu/event/sankofa-black-writer-series-w-the-f-e-w-collective/
LOCATION:CSN North Las Vegas Student Union\, 3200 E. Cheyenne Avenue\, North Las Vegas\, NV\, 89030\, United States
CATEGORIES:Arts,Community,Cultural Event,Employees,Student life
ATTACH;FMTTYPE=image/jpeg:https://news.csn.edu/wp-content/uploads/2026/01/Sp26-Sankofa-Black-Writer-Series-1.jpg
END:VEVENT
BEGIN:VEVENT
DTSTART;TZID=America/Los_Angeles:20260218T130000
DTEND;TZID=America/Los_Angeles:20260218T140000
DTSTAMP:20260423T124446
CREATED:20260128T231523Z
LAST-MODIFIED:20260324T144535Z
UID:10009097-1771419600-1771423200@news.csn.edu
SUMMARY:Yoga for All Levels
DESCRIPTION:Join us for a relaxing\, all levels yoga class designed to reduce stress\, improve flexibility\, and support overall well-being! The yoga class begins on February 11 and runs through May 13 on Wednesdays at 1PM at the North Las Vegas Campus Bldg. G Rm. 115! Students may join at any time\, bring a yoga mat and a water bottle. Limited mats available\, no experience necessary\, and all abilities are welcomed!
URL:https://news.csn.edu/event/yoga-for-all-levels/2026-02-18/
LOCATION:CSN North Las Vegas Campus G Building\, 3200 East Cheyenne Avenue\, North Las Vegas\, NV\, 89030\, United States
CATEGORIES:Arts,Athletics,Community,Cultural Event,Employees,Sports,Student life
ATTACH;FMTTYPE=image/png:https://news.csn.edu/wp-content/uploads/2026/01/Yoga.png
END:VEVENT
BEGIN:VEVENT
DTSTART;TZID=America/Los_Angeles:20260218T150000
DTEND;TZID=America/Los_Angeles:20260218T160000
DTSTAMP:20260423T124446
CREATED:20250822T165932Z
LAST-MODIFIED:20250822T170007Z
UID:10008341-1771426800-1771430400@news.csn.edu
SUMMARY:Thrive Support Group (CAPS) - Henderson
DESCRIPTION:
URL:https://news.csn.edu/event/thrive-support-group-caps-henderson/2026-02-18/
LOCATION:Henderson Campus\, 700 College Drive\, Henderson\, NV\, 89146\, United States
ATTACH;FMTTYPE=image/png:https://news.csn.edu/wp-content/uploads/2025/08/Fa25-Thrive-Support-Group-HEN.png
END:VEVENT
BEGIN:VEVENT
DTSTART;TZID=UTC:20260219T013000
DTEND;TZID=UTC:20260219T033000
DTSTAMP:20260423T124446
CREATED:20251127T071902Z
LAST-MODIFIED:20251127T071902Z
UID:10008903-1771464600-1771471800@news.csn.edu
SUMMARY:College of Southern Nevada Women's Basketball vs Yavapai College
DESCRIPTION:College of Southern Nevada Women’s Basketball vs Yavapai College
URL:https://news.csn.edu/event/college-of-southern-nevada-womens-basketball-vs-yavapai-college-3/
LOCATION:North Las Vegas\, NV\, CSN Sports Center
CATEGORIES:Women's Basketball
END:VEVENT
BEGIN:VEVENT
DTSTART;TZID=UTC:20260219T033000
DTEND;TZID=UTC:20260219T053000
DTSTAMP:20260423T124446
CREATED:20251121T201635Z
LAST-MODIFIED:20251121T201635Z
UID:10008850-1771471800-1771479000@news.csn.edu
SUMMARY:College of Southern Nevada Men's Basketball vs Yavapai College
DESCRIPTION:College of Southern Nevada Men’s Basketball vs Yavapai College
URL:https://news.csn.edu/event/college-of-southern-nevada-mens-basketball-vs-yavapai-college-3/
LOCATION:North Las Vegas\, NV\, Coyote Event Center
CATEGORIES:Men's Basketball
END:VEVENT
BEGIN:VEVENT
DTSTART;TZID=America/Los_Angeles:20260219T080000
DTEND;TZID=America/Los_Angeles:20260219T170000
DTSTAMP:20260423T124446
CREATED:20260130T235744Z
LAST-MODIFIED:20260130T235744Z
UID:10009169-1771488000-1771520400@news.csn.edu
SUMMARY:To The Left
DESCRIPTION:Participating Artists:\nAimee Coello\, Camile Lovaz\, Rose Miller\, Niko Navalta\, Jessica Samaniego\, Bella Sanabria\, Montaysia Yuneek and Arianna Zaremehrjardi \nFri.\, Feb. 13 – Sat.\, June 20\, 2026\nPanel Discussion and Artist Reception: Thurs.\, June 11 at 6 p.m.\nThe Debra March Center of Excellence\n2200 Via Inspirada\, Henderson\, NV 89044 \nGallery Hours:\nMonday through Friday 8 a.m. to 5 p.m.\nGallery is closed Saturday\, Sunday\, Nevada state holidays and between CSN academic terms.\nAll CSN art gallery events are free\, family friendly and open to the public. \nFor exhibition information\, please email: artgallery@csn.edu or call 702.651.4146\nFor building access and hours\,\nplease call 702-651-3727 | Website: www.csn.edu/artgallery
URL:https://news.csn.edu/event/to-the-left-5/
LOCATION:Debra March Center of Excellence\, 2200 Via Inspirada\, Henderson\, NV\, 89044\, United States
CATEGORIES:Arts
ATTACH;FMTTYPE=image/jpeg:https://news.csn.edu/wp-content/uploads/2026/01/to-the-left-flyer.jpg
END:VEVENT
BEGIN:VEVENT
DTSTART;TZID=America/Los_Angeles:20260219T080000
DTEND;TZID=America/Los_Angeles:20260219T223000
DTSTAMP:20260423T124446
CREATED:20251118T161816Z
LAST-MODIFIED:20251118T161816Z
UID:10008769-1771488000-1771540200@news.csn.edu
SUMMARY:ART 298: Portfolio Emphasis Fall 2025 Exhibition - “Memento”
DESCRIPTION:Friday\, December 5\, 2025\, through Saturday\, February 28\, 2026\nNorth Las Vegas Campus Artspace Gallery \nCSN’s Artspace Gallery is free\, family-friendly\, and open to the public. Gallery hours are from 8 a.m. to 10:30 p.m. Monday through Friday and 8 a.m. to 5 p.m. Saturday. \nThe Artspace Gallery is upstairs above the main entrance lobby on the North Las Vegas campus\, located at 3200 E. Cheyenne Avenue\, one mile East of I-15 North. \nFor more information\, please call (702) 651-4146 \nhttp://www.csn.edu/artgallery
URL:https://news.csn.edu/event/art-298-portfolio-emphasis-fall-2025-exhibition-memento-66/
LOCATION:North Las Vegas campus\, 3200 E. Cheyenne Avenue\, North Las Vegas\, NV\, 89122\, United States
CATEGORIES:Arts
ATTACH;FMTTYPE=image/jpeg:https://news.csn.edu/wp-content/uploads/2025/11/smlr.jpg
END:VEVENT
BEGIN:VEVENT
DTSTART;TZID=UTC:20260220T020000
DTEND;TZID=UTC:20260220T050000
DTSTAMP:20260423T124446
CREATED:20251227T121529Z
LAST-MODIFIED:20251227T121529Z
UID:10009026-1771552800-1771563600@news.csn.edu
SUMMARY:College of Southern Nevada Baseball vs Colorado Northwestern Community College
DESCRIPTION:College of Southern Nevada Baseball vs Colorado Northwestern Community College
URL:https://news.csn.edu/event/college-of-southern-nevada-baseball-vs-colorado-northwestern-community-college-5/
LOCATION:Henderson\, NV\, Morse Stadium
CATEGORIES:Baseball
END:VEVENT
BEGIN:VEVENT
DTSTART;TZID=America/Los_Angeles:20260220T080000
DTEND;TZID=America/Los_Angeles:20260220T170000
DTSTAMP:20260423T124446
CREATED:20260130T235757Z
LAST-MODIFIED:20260130T235757Z
UID:10009170-1771574400-1771606800@news.csn.edu
SUMMARY:To The Left
DESCRIPTION:Participating Artists:\nAimee Coello\, Camile Lovaz\, Rose Miller\, Niko Navalta\, Jessica Samaniego\, Bella Sanabria\, Montaysia Yuneek and Arianna Zaremehrjardi \nFri.\, Feb. 13 – Sat.\, June 20\, 2026\nPanel Discussion and Artist Reception: Thurs.\, June 11 at 6 p.m.\nThe Debra March Center of Excellence\n2200 Via Inspirada\, Henderson\, NV 89044 \nGallery Hours:\nMonday through Friday 8 a.m. to 5 p.m.\nGallery is closed Saturday\, Sunday\, Nevada state holidays and between CSN academic terms.\nAll CSN art gallery events are free\, family friendly and open to the public. \nFor exhibition information\, please email: artgallery@csn.edu or call 702.651.4146\nFor building access and hours\,\nplease call 702-651-3727 | Website: www.csn.edu/artgallery
URL:https://news.csn.edu/event/to-the-left-6/
LOCATION:Debra March Center of Excellence\, 2200 Via Inspirada\, Henderson\, NV\, 89044\, United States
CATEGORIES:Arts
ATTACH;FMTTYPE=image/jpeg:https://news.csn.edu/wp-content/uploads/2026/01/to-the-left-flyer.jpg
END:VEVENT
BEGIN:VEVENT
DTSTART;TZID=America/Los_Angeles:20260220T080000
DTEND;TZID=America/Los_Angeles:20260220T223000
DTSTAMP:20260423T124446
CREATED:20251118T161820Z
LAST-MODIFIED:20251118T161820Z
UID:10008768-1771574400-1771626600@news.csn.edu
SUMMARY:ART 298: Portfolio Emphasis Fall 2025 Exhibition - “Memento”
DESCRIPTION:Friday\, December 5\, 2025\, through Saturday\, February 28\, 2026\nNorth Las Vegas Campus Artspace Gallery \nCSN’s Artspace Gallery is free\, family-friendly\, and open to the public. Gallery hours are from 8 a.m. to 10:30 p.m. Monday through Friday and 8 a.m. to 5 p.m. Saturday. \nThe Artspace Gallery is upstairs above the main entrance lobby on the North Las Vegas campus\, located at 3200 E. Cheyenne Avenue\, one mile East of I-15 North. \nFor more information\, please call (702) 651-4146 \nhttp://www.csn.edu/artgallery
URL:https://news.csn.edu/event/art-298-portfolio-emphasis-fall-2025-exhibition-memento-67/
LOCATION:North Las Vegas campus\, 3200 E. Cheyenne Avenue\, North Las Vegas\, NV\, 89122\, United States
CATEGORIES:Arts
ATTACH;FMTTYPE=image/jpeg:https://news.csn.edu/wp-content/uploads/2025/11/smlr.jpg
END:VEVENT
BEGIN:VEVENT
DTSTART;TZID=America/Los_Angeles:20260220T083000
DTEND;TZID=America/Los_Angeles:20260220T140000
DTSTAMP:20260423T124446
CREATED:20260122T231542Z
LAST-MODIFIED:20260122T231542Z
UID:10009070-1771576200-1771596000@news.csn.edu
SUMMARY:Open Education Resources (OER) Professional Development Day
DESCRIPTION:CSN’s inaugural Open Education Resources (OER) Professional Development Day was created exclusively for our faculty community! This event is an opportunity for professors and staff alike to understand the transformative power of OER and low/zero-cost textbooks in shaping student success!
URL:https://news.csn.edu/event/open-education-resources-oer-professional-development-day/
LOCATION:Charleston Student Union\, 6375 W. Charleston Blvd\, Las Vegas\, NV\, 89146\, United States
CATEGORIES:Community,Cultural Event,Employees
ATTACH;FMTTYPE=image/png:https://news.csn.edu/wp-content/uploads/2026/01/Opening-Doors-OER-Conference-Flyer-Sp26-1.png
END:VEVENT
END:VCALENDAR