BEGIN:VCALENDAR
VERSION:2.0
PRODID:-//College of Southern Nevada - ECPv6.15.13//NONSGML v1.0//EN
CALSCALE:GREGORIAN
METHOD:PUBLISH
X-WR-CALNAME:College of Southern Nevada
X-ORIGINAL-URL:https://news.csn.edu
X-WR-CALDESC:Events for College of Southern Nevada
REFRESH-INTERVAL;VALUE=DURATION:PT1H
X-Robots-Tag:noindex
X-PUBLISHED-TTL:PT1H
BEGIN:VTIMEZONE
TZID:America/Los_Angeles
BEGIN:DAYLIGHT
TZOFFSETFROM:-0800
TZOFFSETTO:-0700
TZNAME:PDT
DTSTART:20250309T100000
END:DAYLIGHT
BEGIN:STANDARD
TZOFFSETFROM:-0700
TZOFFSETTO:-0800
TZNAME:PST
DTSTART:20251102T090000
END:STANDARD
BEGIN:DAYLIGHT
TZOFFSETFROM:-0800
TZOFFSETTO:-0700
TZNAME:PDT
DTSTART:20260308T100000
END:DAYLIGHT
BEGIN:STANDARD
TZOFFSETFROM:-0700
TZOFFSETTO:-0800
TZNAME:PST
DTSTART:20261101T090000
END:STANDARD
BEGIN:DAYLIGHT
TZOFFSETFROM:-0800
TZOFFSETTO:-0700
TZNAME:PDT
DTSTART:20270314T100000
END:DAYLIGHT
BEGIN:STANDARD
TZOFFSETFROM:-0700
TZOFFSETTO:-0800
TZNAME:PST
DTSTART:20271107T090000
END:STANDARD
END:VTIMEZONE
BEGIN:VTIMEZONE
TZID:UTC
BEGIN:STANDARD
TZOFFSETFROM:+0000
TZOFFSETTO:+0000
TZNAME:UTC
DTSTART:20250101T000000
END:STANDARD
END:VTIMEZONE
BEGIN:VEVENT
DTSTART;TZID=America/Los_Angeles:20260402T090000
DTEND;TZID=America/Los_Angeles:20260402T180000
DTSTAMP:20260421T055247
CREATED:20260212T170954Z
LAST-MODIFIED:20260212T170954Z
UID:10009305-1775120400-1775152800@news.csn.edu
SUMMARY:Transmitting Figures
DESCRIPTION:Sapira Cheuk \nFriday\, February 27 – Saturday\, May 2\, 2026 \nGallery Talk & Artist Reception:\nWednesday\, April 1 • 6 p.m. \nGallery Hours:\nMonday through Friday • 9:00 a.m. to 6:00 p.m.\nSaturday 10:00 a.m. to 4:00 p.m.\nAll CSN art gallery events are tree\, family friendly & open to the public. \nFor more information please call: 702.651.4146\nartgallery@csn.edu • www.csn.edu/artgallery \nDirections: The Fine Arts Gallery is located adjacent to the Nicholas J. Horn Theatre Lobby on the North Las Vegas Campus of the College of Southern Nevada\n3200 E. Cheyenne Ave. • North Las Vegas\, NV 89030
URL:https://news.csn.edu/event/transmitting-figures-30/
LOCATION:CSN Fine Arts Gallery\, 3200 E. Cheyenne Avenue\, North Las Vegas\, 89030\, United States
CATEGORIES:Arts
ATTACH;FMTTYPE=image/jpeg:https://news.csn.edu/wp-content/uploads/2026/02/transmitting-figures.jpg
END:VEVENT
BEGIN:VEVENT
DTSTART;TZID=America/Los_Angeles:20260402T140000
DTEND;TZID=America/Los_Angeles:20260402T153000
DTSTAMP:20260421T055247
CREATED:20260213T185925Z
LAST-MODIFIED:20260213T185925Z
UID:10009376-1775138400-1775143800@news.csn.edu
SUMMARY:Morocco:  Travels to an Ancient and Alluring Land
DESCRIPTION:Postcards from Abroad Lecture Series presents Morrocco: Travels to an Ancient and Alluring Land\, hosted by Professor Emeritus Allan Tucka! Take a look at postcards from Morrocco and learn about the history of the Kingdom in Africa. All are welcome to join! \nApril 2nd\, 2026 \n2PM – 3:30 PM \nWest Charleston Campus Building E \nRoom 250
URL:https://news.csn.edu/event/morocco-travels-to-an-ancient-and-alluring-land/
LOCATION:Charleston Campus\, 6375 W Charleston Blvd\, Las Vegas\, NV\, 89146\, United States
CATEGORIES:Arts,Community,Cultural Event,Employees,Student life
ATTACH;FMTTYPE=image/jpeg:https://news.csn.edu/wp-content/uploads/2026/02/Postcards-Allan-Tucka-Cuba-1.jpg
END:VEVENT
BEGIN:VEVENT
DTSTART;TZID=America/Los_Angeles:20260403T080000
DTEND;TZID=America/Los_Angeles:20260403T170000
DTSTAMP:20260421T055247
CREATED:20260131T000221Z
LAST-MODIFIED:20260131T000221Z
UID:10009200-1775203200-1775235600@news.csn.edu
SUMMARY:To The Left
DESCRIPTION:Participating Artists:\nAimee Coello\, Camile Lovaz\, Rose Miller\, Niko Navalta\, Jessica Samaniego\, Bella Sanabria\, Montaysia Yuneek and Arianna Zaremehrjardi \nFri.\, Feb. 13 – Sat.\, June 20\, 2026\nPanel Discussion and Artist Reception: Thurs.\, June 11 at 6 p.m.\nThe Debra March Center of Excellence\n2200 Via Inspirada\, Henderson\, NV 89044 \nGallery Hours:\nMonday through Friday 8 a.m. to 5 p.m.\nGallery is closed Saturday\, Sunday\, Nevada state holidays and between CSN academic terms.\nAll CSN art gallery events are free\, family friendly and open to the public. \nFor exhibition information\, please email: artgallery@csn.edu or call 702.651.4146\nFor building access and hours\,\nplease call 702-651-3727 | Website: www.csn.edu/artgallery
URL:https://news.csn.edu/event/to-the-left-36/
LOCATION:Debra March Center of Excellence\, 2200 Via Inspirada\, Henderson\, NV\, 89044\, United States
CATEGORIES:Arts
ATTACH;FMTTYPE=image/jpeg:https://news.csn.edu/wp-content/uploads/2026/01/to-the-left-flyer.jpg
END:VEVENT
BEGIN:VEVENT
DTSTART;TZID=America/Los_Angeles:20260403T080000
DTEND;TZID=America/Los_Angeles:20260403T223000
DTSTAMP:20260421T055247
CREATED:20260212T194411Z
LAST-MODIFIED:20260212T194411Z
UID:10009356-1775203200-1775255400@news.csn.edu
SUMMARY:Abstracting the View
DESCRIPTION:Shawn Michelle Smith \nFriday\, March 13 – Saturday\, April 25\, 2026 \nThe Artspace Gallery \nArtspace Gallery Hours:\nMON – FRI 8 AM – 10:30 PM\nSATURDAY 8 AM – 5 PM
URL:https://news.csn.edu/event/abstracting-the-view-19/
LOCATION:CSN Artspace Gallery\, 3200 E. Cheyenne Avenue\, North Las Vegas\, 89030\, United States
CATEGORIES:Arts
ATTACH;FMTTYPE=image/jpeg:https://news.csn.edu/wp-content/uploads/2026/02/abstractingtheview.jpg
END:VEVENT
BEGIN:VEVENT
DTSTART;TZID=America/Los_Angeles:20260403T090000
DTEND;TZID=America/Los_Angeles:20260403T180000
DTSTAMP:20260421T055247
CREATED:20260212T170959Z
LAST-MODIFIED:20260212T170959Z
UID:10009306-1775206800-1775239200@news.csn.edu
SUMMARY:Transmitting Figures
DESCRIPTION:Sapira Cheuk \nFriday\, February 27 – Saturday\, May 2\, 2026 \nGallery Talk & Artist Reception:\nWednesday\, April 1 • 6 p.m. \nGallery Hours:\nMonday through Friday • 9:00 a.m. to 6:00 p.m.\nSaturday 10:00 a.m. to 4:00 p.m.\nAll CSN art gallery events are tree\, family friendly & open to the public. \nFor more information please call: 702.651.4146\nartgallery@csn.edu • www.csn.edu/artgallery \nDirections: The Fine Arts Gallery is located adjacent to the Nicholas J. Horn Theatre Lobby on the North Las Vegas Campus of the College of Southern Nevada\n3200 E. Cheyenne Ave. • North Las Vegas\, NV 89030
URL:https://news.csn.edu/event/transmitting-figures-31/
LOCATION:CSN Fine Arts Gallery\, 3200 E. Cheyenne Avenue\, North Las Vegas\, 89030\, United States
CATEGORIES:Arts
ATTACH;FMTTYPE=image/jpeg:https://news.csn.edu/wp-content/uploads/2026/02/transmitting-figures.jpg
END:VEVENT
BEGIN:VEVENT
DTSTART;TZID=America/Los_Angeles:20260403T100000
DTEND;TZID=America/Los_Angeles:20260403T120000
DTSTAMP:20260421T055247
CREATED:20260310T201730Z
LAST-MODIFIED:20260310T201730Z
UID:10009421-1775210400-1775217600@news.csn.edu
SUMMARY:Media Training Workshop
DESCRIPTION:Date: 4/3/2026 \nTime: 10:00 AM – 12:00 PM (PDT) \nMedia Workshop & Training Topics Will Include: \n\nUnderstanding the media landscape\nOn camera & performance coaching\nRelaxation techniques for public speaking\nMock interviews & real-time feedback\nOn-air styling & wardrobe tips\n\nRegistration Deadline: 4/3/2026 9:00 AM (PDT) \nApply Today At https://nvgrow.org/event/media-training-4/
URL:https://news.csn.edu/event/media-training-workshop/
LOCATION:CSN North Las Vegas Campus\, 3200 E. Cheyenne Ave\, North Las Vegas\, NV\, 89030\, United States
CATEGORIES:Community,Cultural Event,Employees,Student life
ATTACH;FMTTYPE=image/png:https://news.csn.edu/wp-content/uploads/2026/03/Patranya-Media-Flyer-IG-768x960-1.png
END:VEVENT
BEGIN:VEVENT
DTSTART;TZID=UTC:20260403T210000
DTEND;TZID=UTC:20260404T000000
DTSTAMP:20260421T055247
CREATED:20251227T121530Z
LAST-MODIFIED:20251227T121530Z
UID:10009045-1775250000-1775260800@news.csn.edu
SUMMARY:College of Southern Nevada Baseball vs Yavapai College
DESCRIPTION:College of Southern Nevada Baseball vs Yavapai College
URL:https://news.csn.edu/event/college-of-southern-nevada-baseball-vs-yavapai-college-2/
LOCATION:Henderson\, NV\, Morse Stadium
CATEGORIES:Baseball
END:VEVENT
BEGIN:VEVENT
DTSTART;TZID=UTC:20260403T230000
DTEND;TZID=UTC:20260404T230000
DTSTAMP:20260421T055247
CREATED:20260214T151739Z
LAST-MODIFIED:20260214T151739Z
UID:10009386-1775257200-1775343600@news.csn.edu
SUMMARY:College of Southern Nevada Women's Cross Country and Distance Track  UNLV Rebel Elite
DESCRIPTION:College of Southern Nevada Women’s Cross Country and Distance Track  UNLV Rebel Elite
URL:https://news.csn.edu/event/college-of-southern-nevada-womens-cross-country-and-distance-track-unlv-rebel-elite/
LOCATION:Las Vegas\, NV
CATEGORIES:Women's Cross Country
END:VEVENT
BEGIN:VEVENT
DTSTART;TZID=UTC:20260403T230000
DTEND;TZID=UTC:20260404T230000
DTSTAMP:20260421T055247
CREATED:20260215T051736Z
LAST-MODIFIED:20260215T051736Z
UID:10009394-1775257200-1775343600@news.csn.edu
SUMMARY:College of Southern Nevada Men's Cross Country and Distance Track  UNLV Rebel Elite
DESCRIPTION:College of Southern Nevada Men’s Cross Country and Distance Track  UNLV Rebel Elite
URL:https://news.csn.edu/event/college-of-southern-nevada-mens-cross-country-and-distance-track-unlv-rebel-elite/
LOCATION:Las Vegas\, NV
CATEGORIES:Men's Cross Country
END:VEVENT
BEGIN:VEVENT
DTSTART;TZID=UTC:20260403T233000
DTEND;TZID=UTC:20260404T023000
DTSTAMP:20260421T055247
CREATED:20251227T121530Z
LAST-MODIFIED:20251227T121530Z
UID:10009046-1775259000-1775269800@news.csn.edu
SUMMARY:College of Southern Nevada Baseball vs Yavapai College
DESCRIPTION:College of Southern Nevada Baseball vs Yavapai College
URL:https://news.csn.edu/event/college-of-southern-nevada-baseball-vs-yavapai-college-3/
LOCATION:Henderson\, NV\, Morse Stadium
CATEGORIES:Baseball
END:VEVENT
BEGIN:VEVENT
DTSTART;TZID=America/Los_Angeles:20260404T080000
DTEND;TZID=America/Los_Angeles:20260404T170000
DTSTAMP:20260421T055247
CREATED:20260212T194416Z
LAST-MODIFIED:20260212T194416Z
UID:10009357-1775289600-1775322000@news.csn.edu
SUMMARY:Abstracting the View
DESCRIPTION:Shawn Michelle Smith \nFriday\, March 13 – Saturday\, April 25\, 2026 \nThe Artspace Gallery \nArtspace Gallery Hours:\nMON – FRI 8 AM – 10:30 PM\nSATURDAY 8 AM – 5 PM
URL:https://news.csn.edu/event/abstracting-the-view-20/
LOCATION:CSN Artspace Gallery\, 3200 E. Cheyenne Avenue\, North Las Vegas\, 89030\, United States
CATEGORIES:Arts
ATTACH;FMTTYPE=image/jpeg:https://news.csn.edu/wp-content/uploads/2026/02/abstractingtheview.jpg
END:VEVENT
BEGIN:VEVENT
DTSTART;TZID=America/Los_Angeles:20260404T100000
DTEND;TZID=America/Los_Angeles:20260404T160000
DTSTAMP:20260421T055247
CREATED:20260212T171009Z
LAST-MODIFIED:20260212T171009Z
UID:10009307-1775296800-1775318400@news.csn.edu
SUMMARY:Transmitting Figures
DESCRIPTION:Sapira Cheuk \nFriday\, February 27 – Saturday\, May 2\, 2026 \nGallery Talk & Artist Reception:\nWednesday\, April 1 • 6 p.m. \nGallery Hours:\nMonday through Friday • 9:00 a.m. to 6:00 p.m.\nSaturday 10:00 a.m. to 4:00 p.m.\nAll CSN art gallery events are tree\, family friendly & open to the public. \nFor more information please call: 702.651.4146\nartgallery@csn.edu • www.csn.edu/artgallery \nDirections: The Fine Arts Gallery is located adjacent to the Nicholas J. Horn Theatre Lobby on the North Las Vegas Campus of the College of Southern Nevada\n3200 E. Cheyenne Ave. • North Las Vegas\, NV 89030
URL:https://news.csn.edu/event/transmitting-figures-32/
LOCATION:CSN Fine Arts Gallery\, 3200 E. Cheyenne Avenue\, North Las Vegas\, 89030\, United States
CATEGORIES:Arts
ATTACH;FMTTYPE=image/jpeg:https://news.csn.edu/wp-content/uploads/2026/02/transmitting-figures.jpg
END:VEVENT
BEGIN:VEVENT
DTSTART;TZID=UTC:20260404T190000
DTEND;TZID=UTC:20260404T220000
DTSTAMP:20260421T055247
CREATED:20251227T121530Z
LAST-MODIFIED:20251227T121530Z
UID:10009047-1775329200-1775340000@news.csn.edu
SUMMARY:College of Southern Nevada Baseball vs Yavapai College
DESCRIPTION:College of Southern Nevada Baseball vs Yavapai College
URL:https://news.csn.edu/event/college-of-southern-nevada-baseball-vs-yavapai-college-4/
LOCATION:Henderson\, NV\, Morse Stadium
CATEGORIES:Baseball
END:VEVENT
BEGIN:VEVENT
DTSTART;TZID=America/Los_Angeles:20260406T080000
DTEND;TZID=America/Los_Angeles:20260406T170000
DTSTAMP:20260421T055247
CREATED:20260131T000244Z
LAST-MODIFIED:20260131T000244Z
UID:10009201-1775462400-1775494800@news.csn.edu
SUMMARY:To The Left
DESCRIPTION:Participating Artists:\nAimee Coello\, Camile Lovaz\, Rose Miller\, Niko Navalta\, Jessica Samaniego\, Bella Sanabria\, Montaysia Yuneek and Arianna Zaremehrjardi \nFri.\, Feb. 13 – Sat.\, June 20\, 2026\nPanel Discussion and Artist Reception: Thurs.\, June 11 at 6 p.m.\nThe Debra March Center of Excellence\n2200 Via Inspirada\, Henderson\, NV 89044 \nGallery Hours:\nMonday through Friday 8 a.m. to 5 p.m.\nGallery is closed Saturday\, Sunday\, Nevada state holidays and between CSN academic terms.\nAll CSN art gallery events are free\, family friendly and open to the public. \nFor exhibition information\, please email: artgallery@csn.edu or call 702.651.4146\nFor building access and hours\,\nplease call 702-651-3727 | Website: www.csn.edu/artgallery
URL:https://news.csn.edu/event/to-the-left-37/
LOCATION:Debra March Center of Excellence\, 2200 Via Inspirada\, Henderson\, NV\, 89044\, United States
CATEGORIES:Arts
ATTACH;FMTTYPE=image/jpeg:https://news.csn.edu/wp-content/uploads/2026/01/to-the-left-flyer.jpg
END:VEVENT
BEGIN:VEVENT
DTSTART;TZID=America/Los_Angeles:20260406T080000
DTEND;TZID=America/Los_Angeles:20260406T223000
DTSTAMP:20260421T055247
CREATED:20260212T194429Z
LAST-MODIFIED:20260212T194429Z
UID:10009358-1775462400-1775514600@news.csn.edu
SUMMARY:Abstracting the View
DESCRIPTION:Shawn Michelle Smith \nFriday\, March 13 – Saturday\, April 25\, 2026 \nThe Artspace Gallery \nArtspace Gallery Hours:\nMON – FRI 8 AM – 10:30 PM\nSATURDAY 8 AM – 5 PM
URL:https://news.csn.edu/event/abstracting-the-view-21/
LOCATION:CSN Artspace Gallery\, 3200 E. Cheyenne Avenue\, North Las Vegas\, 89030\, United States
CATEGORIES:Arts
ATTACH;FMTTYPE=image/jpeg:https://news.csn.edu/wp-content/uploads/2026/02/abstractingtheview.jpg
END:VEVENT
BEGIN:VEVENT
DTSTART;TZID=America/Los_Angeles:20260406T090000
DTEND;TZID=America/Los_Angeles:20260406T100000
DTSTAMP:20260421T055247
CREATED:20251013T205024Z
LAST-MODIFIED:20251013T234133Z
UID:10008637-1775466000-1775469600@news.csn.edu
SUMMARY:Mindful Balance group
DESCRIPTION:
URL:https://news.csn.edu/event/mindful-balance-group/2026-04-06/
LOCATION:NV
ATTACH;FMTTYPE=image/png:https://news.csn.edu/wp-content/uploads/2025/10/CAPS-Mindful-Balance-Group-Flyer-1.png
END:VEVENT
BEGIN:VEVENT
DTSTART;TZID=America/Los_Angeles:20260406T090000
DTEND;TZID=America/Los_Angeles:20260406T180000
DTSTAMP:20260421T055247
CREATED:20260212T171046Z
LAST-MODIFIED:20260212T171116Z
UID:10009313-1775466000-1775498400@news.csn.edu
SUMMARY:Transmitting Figures
DESCRIPTION:Sapira Cheuk \nFriday\, February 27 – Saturday\, May 2\, 2026 \nGallery Talk & Artist Reception:\nWednesday\, April 1 • 6 p.m. \nGallery Hours:\nMonday through Friday • 9:00 a.m. to 6:00 p.m.\nSaturday 10:00 a.m. to 4:00 p.m.\nAll CSN art gallery events are tree\, family friendly & open to the public. \nFor more information please call: 702.651.4146\nartgallery@csn.edu • www.csn.edu/artgallery \nDirections: The Fine Arts Gallery is located adjacent to the Nicholas J. Horn Theatre Lobby on the North Las Vegas Campus of the College of Southern Nevada\n3200 E. Cheyenne Ave. • North Las Vegas\, NV 89030
URL:https://news.csn.edu/event/transmitting-figures-33/
LOCATION:CSN Fine Arts Gallery\, 3200 E. Cheyenne Avenue\, North Las Vegas\, 89030\, United States
CATEGORIES:Arts
ATTACH;FMTTYPE=image/jpeg:https://news.csn.edu/wp-content/uploads/2026/02/transmitting-figures.jpg
END:VEVENT
BEGIN:VEVENT
DTSTART;TZID=America/Los_Angeles:20260406T130000
DTEND;TZID=America/Los_Angeles:20260406T140000
DTSTAMP:20260421T055247
CREATED:20260123T002740Z
LAST-MODIFIED:20260123T002740Z
UID:10009075-1775480400-1775484000@news.csn.edu
SUMMARY:CSN Sophomore Survival Series
DESCRIPTION:Still need another 30 more credits before you graduate? Never fear! CSN’s Sophomore Survival Series is here to help YOU with workshops designed to discover the tools you need to finish college strong!  Join us in person for free supplies or online through livestream! Scan the QR code to register for a workshop today! \nStudy Smarter\, Work Harder \n\nFebruary 11: North Las Vegas Campus\, June Whitley Student Lounge @ 1 PM – 2 PM\nFebruary 23: Charleston Campus\, Student Union Ballroom @ 11 AM – 12 PM\n\nThe Resource Roadmap \n\nMarch 10: North Las Vegas Campus\, June Whitley Student Lounge @ 1 PM – 2 PM\nMarch 25: Charleston Campus\, Student Union Ballroom @ 11 AM – 12 PM\n\nThe Finish Line Strategy \n\nApril 6: North Las Vegas Campus\, June Whitley Student Lounge @ 1 PM – 2 PM\nApril 14: Charleston Campus\, Student Union Ballroom @ 11 AM – 12 PM\n\nSpring 2026 Sophomore Special Event \n\nApril 22: North Las Vegas Campus\, Student Union Ballroom  @ 12 PM – 2 PM
URL:https://news.csn.edu/event/csn-sophomore-survival-series/2026-04-06/
LOCATION:June Whitley Student Lounge\, 3200 N. Cheyenne Avenue\, North Las Vegas\, NV\, 89030\, United States
CATEGORIES:Arts,Athletics,Community,Cultural Event,Sports,Student life
ATTACH;FMTTYPE=image/png:https://news.csn.edu/wp-content/uploads/2026/01/Sophomore-Survival-Series-Workshop-Flyer-1.png
END:VEVENT
BEGIN:VEVENT
DTSTART;TZID=America/Los_Angeles:20260407T080000
DTEND;TZID=America/Los_Angeles:20260407T170000
DTSTAMP:20260421T055247
CREATED:20260131T000250Z
LAST-MODIFIED:20260131T000250Z
UID:10009202-1775548800-1775581200@news.csn.edu
SUMMARY:To The Left
DESCRIPTION:Participating Artists:\nAimee Coello\, Camile Lovaz\, Rose Miller\, Niko Navalta\, Jessica Samaniego\, Bella Sanabria\, Montaysia Yuneek and Arianna Zaremehrjardi \nFri.\, Feb. 13 – Sat.\, June 20\, 2026\nPanel Discussion and Artist Reception: Thurs.\, June 11 at 6 p.m.\nThe Debra March Center of Excellence\n2200 Via Inspirada\, Henderson\, NV 89044 \nGallery Hours:\nMonday through Friday 8 a.m. to 5 p.m.\nGallery is closed Saturday\, Sunday\, Nevada state holidays and between CSN academic terms.\nAll CSN art gallery events are free\, family friendly and open to the public. \nFor exhibition information\, please email: artgallery@csn.edu or call 702.651.4146\nFor building access and hours\,\nplease call 702-651-3727 | Website: www.csn.edu/artgallery
URL:https://news.csn.edu/event/to-the-left-38/
LOCATION:Debra March Center of Excellence\, 2200 Via Inspirada\, Henderson\, NV\, 89044\, United States
CATEGORIES:Arts
ATTACH;FMTTYPE=image/jpeg:https://news.csn.edu/wp-content/uploads/2026/01/to-the-left-flyer.jpg
END:VEVENT
BEGIN:VEVENT
DTSTART;TZID=America/Los_Angeles:20260407T080000
DTEND;TZID=America/Los_Angeles:20260407T223000
DTSTAMP:20260421T055247
CREATED:20260212T194434Z
LAST-MODIFIED:20260212T194434Z
UID:10009359-1775548800-1775601000@news.csn.edu
SUMMARY:Abstracting the View
DESCRIPTION:Shawn Michelle Smith \nFriday\, March 13 – Saturday\, April 25\, 2026 \nThe Artspace Gallery \nArtspace Gallery Hours:\nMON – FRI 8 AM – 10:30 PM\nSATURDAY 8 AM – 5 PM
URL:https://news.csn.edu/event/abstracting-the-view-22/
LOCATION:CSN Artspace Gallery\, 3200 E. Cheyenne Avenue\, North Las Vegas\, 89030\, United States
CATEGORIES:Arts
ATTACH;FMTTYPE=image/jpeg:https://news.csn.edu/wp-content/uploads/2026/02/abstractingtheview.jpg
END:VEVENT
BEGIN:VEVENT
DTSTART;TZID=America/Los_Angeles:20260407T081500
DTEND;TZID=America/Los_Angeles:20260407T084500
DTSTAMP:20260421T055247
CREATED:20251125T203433Z
LAST-MODIFIED:20251125T203433Z
UID:10008872-1775549700-1775551500@news.csn.edu
SUMMARY:Biscuits & Business
DESCRIPTION:﻿Biscuits & Business with the Career Services Director \nMeet the Career Services Director to get an insider look at all the resources available to you to ensure you maximize your time here and successfully launch your professional Career. \nQuestions?: Email career.services@csn.edu \ntinyurl.com/Sp26BiscuitsAndBusiness
URL:https://news.csn.edu/event/biscuits-business-12/
LOCATION:NV
CATEGORIES:Community
ATTACH;FMTTYPE=image/jpeg:https://news.csn.edu/wp-content/uploads/2025/11/biscuitsbusiness.jpg
END:VEVENT
BEGIN:VEVENT
DTSTART;TZID=America/Los_Angeles:20260407T090000
DTEND;TZID=America/Los_Angeles:20260407T180000
DTSTAMP:20260421T055247
CREATED:20260212T171053Z
LAST-MODIFIED:20260212T171124Z
UID:10009314-1775552400-1775584800@news.csn.edu
SUMMARY:Transmitting Figures
DESCRIPTION:Sapira Cheuk \nFriday\, February 27 – Saturday\, May 2\, 2026 \nGallery Talk & Artist Reception:\nWednesday\, April 1 • 6 p.m. \nGallery Hours:\nMonday through Friday • 9:00 a.m. to 6:00 p.m.\nSaturday 10:00 a.m. to 4:00 p.m.\nAll CSN art gallery events are tree\, family friendly & open to the public. \nFor more information please call: 702.651.4146\nartgallery@csn.edu • www.csn.edu/artgallery \nDirections: The Fine Arts Gallery is located adjacent to the Nicholas J. Horn Theatre Lobby on the North Las Vegas Campus of the College of Southern Nevada\n3200 E. Cheyenne Ave. • North Las Vegas\, NV 89030
URL:https://news.csn.edu/event/transmitting-figures-34/
LOCATION:CSN Fine Arts Gallery\, 3200 E. Cheyenne Avenue\, North Las Vegas\, 89030\, United States
CATEGORIES:Arts
ATTACH;FMTTYPE=image/jpeg:https://news.csn.edu/wp-content/uploads/2026/02/transmitting-figures.jpg
END:VEVENT
BEGIN:VEVENT
DTSTART;TZID=America/Los_Angeles:20260408T080000
DTEND;TZID=America/Los_Angeles:20260408T170000
DTSTAMP:20260421T055247
CREATED:20260131T000256Z
LAST-MODIFIED:20260131T000256Z
UID:10009203-1775635200-1775667600@news.csn.edu
SUMMARY:To The Left
DESCRIPTION:Participating Artists:\nAimee Coello\, Camile Lovaz\, Rose Miller\, Niko Navalta\, Jessica Samaniego\, Bella Sanabria\, Montaysia Yuneek and Arianna Zaremehrjardi \nFri.\, Feb. 13 – Sat.\, June 20\, 2026\nPanel Discussion and Artist Reception: Thurs.\, June 11 at 6 p.m.\nThe Debra March Center of Excellence\n2200 Via Inspirada\, Henderson\, NV 89044 \nGallery Hours:\nMonday through Friday 8 a.m. to 5 p.m.\nGallery is closed Saturday\, Sunday\, Nevada state holidays and between CSN academic terms.\nAll CSN art gallery events are free\, family friendly and open to the public. \nFor exhibition information\, please email: artgallery@csn.edu or call 702.651.4146\nFor building access and hours\,\nplease call 702-651-3727 | Website: www.csn.edu/artgallery
URL:https://news.csn.edu/event/to-the-left-39/
LOCATION:Debra March Center of Excellence\, 2200 Via Inspirada\, Henderson\, NV\, 89044\, United States
CATEGORIES:Arts
ATTACH;FMTTYPE=image/jpeg:https://news.csn.edu/wp-content/uploads/2026/01/to-the-left-flyer.jpg
END:VEVENT
BEGIN:VEVENT
DTSTART;TZID=America/Los_Angeles:20260408T080000
DTEND;TZID=America/Los_Angeles:20260408T223000
DTSTAMP:20260421T055247
CREATED:20260212T194438Z
LAST-MODIFIED:20260212T194438Z
UID:10009360-1775635200-1775687400@news.csn.edu
SUMMARY:Abstracting the View
DESCRIPTION:Shawn Michelle Smith \nFriday\, March 13 – Saturday\, April 25\, 2026 \nThe Artspace Gallery \nArtspace Gallery Hours:\nMON – FRI 8 AM – 10:30 PM\nSATURDAY 8 AM – 5 PM
URL:https://news.csn.edu/event/abstracting-the-view-23/
LOCATION:CSN Artspace Gallery\, 3200 E. Cheyenne Avenue\, North Las Vegas\, 89030\, United States
CATEGORIES:Arts
ATTACH;FMTTYPE=image/jpeg:https://news.csn.edu/wp-content/uploads/2026/02/abstractingtheview.jpg
END:VEVENT
BEGIN:VEVENT
DTSTART;TZID=America/Los_Angeles:20260408T090000
DTEND;TZID=America/Los_Angeles:20260408T180000
DTSTAMP:20260421T055247
CREATED:20260212T171130Z
LAST-MODIFIED:20260212T171130Z
UID:10009315-1775638800-1775671200@news.csn.edu
SUMMARY:Transmitting Figures
DESCRIPTION:Sapira Cheuk \nFriday\, February 27 – Saturday\, May 2\, 2026 \nGallery Talk & Artist Reception:\nWednesday\, April 1 • 6 p.m. \nGallery Hours:\nMonday through Friday • 9:00 a.m. to 6:00 p.m.\nSaturday 10:00 a.m. to 4:00 p.m.\nAll CSN art gallery events are tree\, family friendly & open to the public. \nFor more information please call: 702.651.4146\nartgallery@csn.edu • www.csn.edu/artgallery \nDirections: The Fine Arts Gallery is located adjacent to the Nicholas J. Horn Theatre Lobby on the North Las Vegas Campus of the College of Southern Nevada\n3200 E. Cheyenne Ave. • North Las Vegas\, NV 89030
URL:https://news.csn.edu/event/transmitting-figures-35/
LOCATION:CSN Fine Arts Gallery\, 3200 E. Cheyenne Avenue\, North Las Vegas\, 89030\, United States
CATEGORIES:Arts
ATTACH;FMTTYPE=image/jpeg:https://news.csn.edu/wp-content/uploads/2026/02/transmitting-figures.jpg
END:VEVENT
BEGIN:VEVENT
DTSTART;TZID=America/Los_Angeles:20260408T110000
DTEND;TZID=America/Los_Angeles:20260408T120000
DTSTAMP:20260421T055247
CREATED:20251125T211720Z
LAST-MODIFIED:20251125T211720Z
UID:10008882-1775646000-1775649600@news.csn.edu
SUMMARY:From Draft to Done Resume & Cover Letter Workshop
DESCRIPTION:Questions?: Email career.services@csn.edu \nRSVP: https://forms.office.com/pages/responsepage.aspx?id=dNU137qfzkigc3N4aNd6SN55au-Weh1CoRsGU8A5fBhUNjAwMzlYVElaSVA0SURDMkJCOEVHSFhWRS4u&route=shorturl \n 
URL:https://news.csn.edu/event/from-draft-to-done-resume-cover-letter-workshop/2026-04-08/
LOCATION:NV
CATEGORIES:Community
ATTACH;FMTTYPE=image/jpeg:https://news.csn.edu/wp-content/uploads/2025/11/Sp26-From-Draft-to-Done-Resume-Workshop-scaled.jpg
END:VEVENT
BEGIN:VEVENT
DTSTART;TZID=America/Los_Angeles:20260409T080000
DTEND;TZID=America/Los_Angeles:20260409T170000
DTSTAMP:20260421T055247
CREATED:20260131T000303Z
LAST-MODIFIED:20260131T000303Z
UID:10009204-1775721600-1775754000@news.csn.edu
SUMMARY:To The Left
DESCRIPTION:Participating Artists:\nAimee Coello\, Camile Lovaz\, Rose Miller\, Niko Navalta\, Jessica Samaniego\, Bella Sanabria\, Montaysia Yuneek and Arianna Zaremehrjardi \nFri.\, Feb. 13 – Sat.\, June 20\, 2026\nPanel Discussion and Artist Reception: Thurs.\, June 11 at 6 p.m.\nThe Debra March Center of Excellence\n2200 Via Inspirada\, Henderson\, NV 89044 \nGallery Hours:\nMonday through Friday 8 a.m. to 5 p.m.\nGallery is closed Saturday\, Sunday\, Nevada state holidays and between CSN academic terms.\nAll CSN art gallery events are free\, family friendly and open to the public. \nFor exhibition information\, please email: artgallery@csn.edu or call 702.651.4146\nFor building access and hours\,\nplease call 702-651-3727 | Website: www.csn.edu/artgallery
URL:https://news.csn.edu/event/to-the-left-40/
LOCATION:Debra March Center of Excellence\, 2200 Via Inspirada\, Henderson\, NV\, 89044\, United States
CATEGORIES:Arts
ATTACH;FMTTYPE=image/jpeg:https://news.csn.edu/wp-content/uploads/2026/01/to-the-left-flyer.jpg
END:VEVENT
BEGIN:VEVENT
DTSTART;TZID=America/Los_Angeles:20260409T080000
DTEND;TZID=America/Los_Angeles:20260409T223000
DTSTAMP:20260421T055247
CREATED:20260212T194442Z
LAST-MODIFIED:20260212T194442Z
UID:10009361-1775721600-1775773800@news.csn.edu
SUMMARY:Abstracting the View
DESCRIPTION:Shawn Michelle Smith \nFriday\, March 13 – Saturday\, April 25\, 2026 \nThe Artspace Gallery \nArtspace Gallery Hours:\nMON – FRI 8 AM – 10:30 PM\nSATURDAY 8 AM – 5 PM
URL:https://news.csn.edu/event/abstracting-the-view-24/
LOCATION:CSN Artspace Gallery\, 3200 E. Cheyenne Avenue\, North Las Vegas\, 89030\, United States
CATEGORIES:Arts
ATTACH;FMTTYPE=image/jpeg:https://news.csn.edu/wp-content/uploads/2026/02/abstractingtheview.jpg
END:VEVENT
BEGIN:VEVENT
DTSTART;TZID=America/Los_Angeles:20260409T090000
DTEND;TZID=America/Los_Angeles:20260409T180000
DTSTAMP:20260421T055247
CREATED:20260212T171135Z
LAST-MODIFIED:20260212T171135Z
UID:10009316-1775725200-1775757600@news.csn.edu
SUMMARY:Transmitting Figures
DESCRIPTION:Sapira Cheuk \nFriday\, February 27 – Saturday\, May 2\, 2026 \nGallery Talk & Artist Reception:\nWednesday\, April 1 • 6 p.m. \nGallery Hours:\nMonday through Friday • 9:00 a.m. to 6:00 p.m.\nSaturday 10:00 a.m. to 4:00 p.m.\nAll CSN art gallery events are tree\, family friendly & open to the public. \nFor more information please call: 702.651.4146\nartgallery@csn.edu • www.csn.edu/artgallery \nDirections: The Fine Arts Gallery is located adjacent to the Nicholas J. Horn Theatre Lobby on the North Las Vegas Campus of the College of Southern Nevada\n3200 E. Cheyenne Ave. • North Las Vegas\, NV 89030
URL:https://news.csn.edu/event/transmitting-figures-36/
LOCATION:CSN Fine Arts Gallery\, 3200 E. Cheyenne Avenue\, North Las Vegas\, 89030\, United States
CATEGORIES:Arts
ATTACH;FMTTYPE=image/jpeg:https://news.csn.edu/wp-content/uploads/2026/02/transmitting-figures.jpg
END:VEVENT
BEGIN:VEVENT
DTSTART;TZID=America/Los_Angeles:20260409T120000
DTEND;TZID=America/Los_Angeles:20260409T130000
DTSTAMP:20260421T055247
CREATED:20260217T190509Z
LAST-MODIFIED:20260217T190509Z
UID:10009405-1775736000-1775739600@news.csn.edu
SUMMARY:Brown Bag Lunch Initiative
DESCRIPTION:The NLV Academic Advising department is presenting the Brown Bag Lunch Initiative\, a non-advising luncheon focused on connecting\, conversating\, and sharing ideas with each other! This event is open to all students and members of the CSN community.
URL:https://news.csn.edu/event/brown-bag-lunch-initiative/2026-04-09/
LOCATION:June Whitley Student Lounge\, 3200 N. Cheyenne Avenue\, North Las Vegas\, NV\, 89030\, United States
CATEGORIES:Athletics,Community,Employees,Student life
ATTACH;FMTTYPE=image/png:https://news.csn.edu/wp-content/uploads/2026/02/Brown-Paper-Bag-Luncheon-2.12-4.9-scaled.png
END:VEVENT
END:VCALENDAR