BEGIN:VCALENDAR
VERSION:2.0
PRODID:-//College of Southern Nevada - ECPv6.15.13//NONSGML v1.0//EN
CALSCALE:GREGORIAN
METHOD:PUBLISH
X-WR-CALNAME:College of Southern Nevada
X-ORIGINAL-URL:https://news.csn.edu
X-WR-CALDESC:Events for College of Southern Nevada
REFRESH-INTERVAL;VALUE=DURATION:PT1H
X-Robots-Tag:noindex
X-PUBLISHED-TTL:PT1H
BEGIN:VTIMEZONE
TZID:America/Los_Angeles
BEGIN:DAYLIGHT
TZOFFSETFROM:-0800
TZOFFSETTO:-0700
TZNAME:PDT
DTSTART:20250309T100000
END:DAYLIGHT
BEGIN:STANDARD
TZOFFSETFROM:-0700
TZOFFSETTO:-0800
TZNAME:PST
DTSTART:20251102T090000
END:STANDARD
BEGIN:DAYLIGHT
TZOFFSETFROM:-0800
TZOFFSETTO:-0700
TZNAME:PDT
DTSTART:20260308T100000
END:DAYLIGHT
BEGIN:STANDARD
TZOFFSETFROM:-0700
TZOFFSETTO:-0800
TZNAME:PST
DTSTART:20261101T090000
END:STANDARD
BEGIN:DAYLIGHT
TZOFFSETFROM:-0800
TZOFFSETTO:-0700
TZNAME:PDT
DTSTART:20270314T100000
END:DAYLIGHT
BEGIN:STANDARD
TZOFFSETFROM:-0700
TZOFFSETTO:-0800
TZNAME:PST
DTSTART:20271107T090000
END:STANDARD
END:VTIMEZONE
BEGIN:VTIMEZONE
TZID:UTC
BEGIN:STANDARD
TZOFFSETFROM:+0000
TZOFFSETTO:+0000
TZNAME:UTC
DTSTART:20250101T000000
END:STANDARD
END:VTIMEZONE
BEGIN:VEVENT
DTSTART;TZID=America/Los_Angeles:20260407T080000
DTEND;TZID=America/Los_Angeles:20260407T223000
DTSTAMP:20260421T055253
CREATED:20260212T194434Z
LAST-MODIFIED:20260212T194434Z
UID:10009359-1775548800-1775601000@news.csn.edu
SUMMARY:Abstracting the View
DESCRIPTION:Shawn Michelle Smith \nFriday\, March 13 – Saturday\, April 25\, 2026 \nThe Artspace Gallery \nArtspace Gallery Hours:\nMON – FRI 8 AM – 10:30 PM\nSATURDAY 8 AM – 5 PM
URL:https://news.csn.edu/event/abstracting-the-view-22/
LOCATION:CSN Artspace Gallery\, 3200 E. Cheyenne Avenue\, North Las Vegas\, 89030\, United States
CATEGORIES:Arts
ATTACH;FMTTYPE=image/jpeg:https://news.csn.edu/wp-content/uploads/2026/02/abstractingtheview.jpg
END:VEVENT
BEGIN:VEVENT
DTSTART;TZID=America/Los_Angeles:20260407T081500
DTEND;TZID=America/Los_Angeles:20260407T084500
DTSTAMP:20260421T055253
CREATED:20251125T203433Z
LAST-MODIFIED:20251125T203433Z
UID:10008872-1775549700-1775551500@news.csn.edu
SUMMARY:Biscuits & Business
DESCRIPTION:﻿Biscuits & Business with the Career Services Director \nMeet the Career Services Director to get an insider look at all the resources available to you to ensure you maximize your time here and successfully launch your professional Career. \nQuestions?: Email career.services@csn.edu \ntinyurl.com/Sp26BiscuitsAndBusiness
URL:https://news.csn.edu/event/biscuits-business-12/
LOCATION:NV
CATEGORIES:Community
ATTACH;FMTTYPE=image/jpeg:https://news.csn.edu/wp-content/uploads/2025/11/biscuitsbusiness.jpg
END:VEVENT
BEGIN:VEVENT
DTSTART;TZID=America/Los_Angeles:20260407T090000
DTEND;TZID=America/Los_Angeles:20260407T180000
DTSTAMP:20260421T055253
CREATED:20260212T171053Z
LAST-MODIFIED:20260212T171124Z
UID:10009314-1775552400-1775584800@news.csn.edu
SUMMARY:Transmitting Figures
DESCRIPTION:Sapira Cheuk \nFriday\, February 27 – Saturday\, May 2\, 2026 \nGallery Talk & Artist Reception:\nWednesday\, April 1 • 6 p.m. \nGallery Hours:\nMonday through Friday • 9:00 a.m. to 6:00 p.m.\nSaturday 10:00 a.m. to 4:00 p.m.\nAll CSN art gallery events are tree\, family friendly & open to the public. \nFor more information please call: 702.651.4146\nartgallery@csn.edu • www.csn.edu/artgallery \nDirections: The Fine Arts Gallery is located adjacent to the Nicholas J. Horn Theatre Lobby on the North Las Vegas Campus of the College of Southern Nevada\n3200 E. Cheyenne Ave. • North Las Vegas\, NV 89030
URL:https://news.csn.edu/event/transmitting-figures-34/
LOCATION:CSN Fine Arts Gallery\, 3200 E. Cheyenne Avenue\, North Las Vegas\, 89030\, United States
CATEGORIES:Arts
ATTACH;FMTTYPE=image/jpeg:https://news.csn.edu/wp-content/uploads/2026/02/transmitting-figures.jpg
END:VEVENT
BEGIN:VEVENT
DTSTART;TZID=America/Los_Angeles:20260408T080000
DTEND;TZID=America/Los_Angeles:20260408T170000
DTSTAMP:20260421T055253
CREATED:20260131T000256Z
LAST-MODIFIED:20260131T000256Z
UID:10009203-1775635200-1775667600@news.csn.edu
SUMMARY:To The Left
DESCRIPTION:Participating Artists:\nAimee Coello\, Camile Lovaz\, Rose Miller\, Niko Navalta\, Jessica Samaniego\, Bella Sanabria\, Montaysia Yuneek and Arianna Zaremehrjardi \nFri.\, Feb. 13 – Sat.\, June 20\, 2026\nPanel Discussion and Artist Reception: Thurs.\, June 11 at 6 p.m.\nThe Debra March Center of Excellence\n2200 Via Inspirada\, Henderson\, NV 89044 \nGallery Hours:\nMonday through Friday 8 a.m. to 5 p.m.\nGallery is closed Saturday\, Sunday\, Nevada state holidays and between CSN academic terms.\nAll CSN art gallery events are free\, family friendly and open to the public. \nFor exhibition information\, please email: artgallery@csn.edu or call 702.651.4146\nFor building access and hours\,\nplease call 702-651-3727 | Website: www.csn.edu/artgallery
URL:https://news.csn.edu/event/to-the-left-39/
LOCATION:Debra March Center of Excellence\, 2200 Via Inspirada\, Henderson\, NV\, 89044\, United States
CATEGORIES:Arts
ATTACH;FMTTYPE=image/jpeg:https://news.csn.edu/wp-content/uploads/2026/01/to-the-left-flyer.jpg
END:VEVENT
BEGIN:VEVENT
DTSTART;TZID=America/Los_Angeles:20260408T080000
DTEND;TZID=America/Los_Angeles:20260408T223000
DTSTAMP:20260421T055253
CREATED:20260212T194438Z
LAST-MODIFIED:20260212T194438Z
UID:10009360-1775635200-1775687400@news.csn.edu
SUMMARY:Abstracting the View
DESCRIPTION:Shawn Michelle Smith \nFriday\, March 13 – Saturday\, April 25\, 2026 \nThe Artspace Gallery \nArtspace Gallery Hours:\nMON – FRI 8 AM – 10:30 PM\nSATURDAY 8 AM – 5 PM
URL:https://news.csn.edu/event/abstracting-the-view-23/
LOCATION:CSN Artspace Gallery\, 3200 E. Cheyenne Avenue\, North Las Vegas\, 89030\, United States
CATEGORIES:Arts
ATTACH;FMTTYPE=image/jpeg:https://news.csn.edu/wp-content/uploads/2026/02/abstractingtheview.jpg
END:VEVENT
BEGIN:VEVENT
DTSTART;TZID=America/Los_Angeles:20260408T090000
DTEND;TZID=America/Los_Angeles:20260408T180000
DTSTAMP:20260421T055253
CREATED:20260212T171130Z
LAST-MODIFIED:20260212T171130Z
UID:10009315-1775638800-1775671200@news.csn.edu
SUMMARY:Transmitting Figures
DESCRIPTION:Sapira Cheuk \nFriday\, February 27 – Saturday\, May 2\, 2026 \nGallery Talk & Artist Reception:\nWednesday\, April 1 • 6 p.m. \nGallery Hours:\nMonday through Friday • 9:00 a.m. to 6:00 p.m.\nSaturday 10:00 a.m. to 4:00 p.m.\nAll CSN art gallery events are tree\, family friendly & open to the public. \nFor more information please call: 702.651.4146\nartgallery@csn.edu • www.csn.edu/artgallery \nDirections: The Fine Arts Gallery is located adjacent to the Nicholas J. Horn Theatre Lobby on the North Las Vegas Campus of the College of Southern Nevada\n3200 E. Cheyenne Ave. • North Las Vegas\, NV 89030
URL:https://news.csn.edu/event/transmitting-figures-35/
LOCATION:CSN Fine Arts Gallery\, 3200 E. Cheyenne Avenue\, North Las Vegas\, 89030\, United States
CATEGORIES:Arts
ATTACH;FMTTYPE=image/jpeg:https://news.csn.edu/wp-content/uploads/2026/02/transmitting-figures.jpg
END:VEVENT
BEGIN:VEVENT
DTSTART;TZID=America/Los_Angeles:20260408T110000
DTEND;TZID=America/Los_Angeles:20260408T120000
DTSTAMP:20260421T055253
CREATED:20251125T211720Z
LAST-MODIFIED:20251125T211720Z
UID:10008882-1775646000-1775649600@news.csn.edu
SUMMARY:From Draft to Done Resume & Cover Letter Workshop
DESCRIPTION:Questions?: Email career.services@csn.edu \nRSVP: https://forms.office.com/pages/responsepage.aspx?id=dNU137qfzkigc3N4aNd6SN55au-Weh1CoRsGU8A5fBhUNjAwMzlYVElaSVA0SURDMkJCOEVHSFhWRS4u&route=shorturl \n 
URL:https://news.csn.edu/event/from-draft-to-done-resume-cover-letter-workshop/2026-04-08/
LOCATION:NV
CATEGORIES:Community
ATTACH;FMTTYPE=image/jpeg:https://news.csn.edu/wp-content/uploads/2025/11/Sp26-From-Draft-to-Done-Resume-Workshop-scaled.jpg
END:VEVENT
BEGIN:VEVENT
DTSTART;TZID=America/Los_Angeles:20260408T130000
DTEND;TZID=America/Los_Angeles:20260408T140000
DTSTAMP:20260421T055253
CREATED:20260128T231523Z
LAST-MODIFIED:20260324T144535Z
UID:10009104-1775653200-1775656800@news.csn.edu
SUMMARY:Yoga for All Levels
DESCRIPTION:Join us for a relaxing\, all levels yoga class designed to reduce stress\, improve flexibility\, and support overall well-being! The yoga class begins on February 11 and runs through May 13 on Wednesdays at 1PM at the North Las Vegas Campus Bldg. G Rm. 115! Students may join at any time\, bring a yoga mat and a water bottle. Limited mats available\, no experience necessary\, and all abilities are welcomed!
URL:https://news.csn.edu/event/yoga-for-all-levels/2026-04-08/
LOCATION:CSN North Las Vegas Campus G Building\, 3200 East Cheyenne Avenue\, North Las Vegas\, NV\, 89030\, United States
CATEGORIES:Arts,Athletics,Community,Cultural Event,Employees,Sports,Student life
ATTACH;FMTTYPE=image/png:https://news.csn.edu/wp-content/uploads/2026/01/Yoga.png
END:VEVENT
BEGIN:VEVENT
DTSTART;TZID=America/Los_Angeles:20260408T150000
DTEND;TZID=America/Los_Angeles:20260408T160000
DTSTAMP:20260421T055253
CREATED:20250822T165932Z
LAST-MODIFIED:20250822T170007Z
UID:10008348-1775660400-1775664000@news.csn.edu
SUMMARY:Thrive Support Group (CAPS) - Henderson
DESCRIPTION:
URL:https://news.csn.edu/event/thrive-support-group-caps-henderson/2026-04-08/
LOCATION:Henderson Campus\, 700 College Drive\, Henderson\, NV\, 89146\, United States
ATTACH;FMTTYPE=image/png:https://news.csn.edu/wp-content/uploads/2025/08/Fa25-Thrive-Support-Group-HEN.png
END:VEVENT
BEGIN:VEVENT
DTSTART;TZID=America/Los_Angeles:20260409T080000
DTEND;TZID=America/Los_Angeles:20260409T170000
DTSTAMP:20260421T055253
CREATED:20260131T000303Z
LAST-MODIFIED:20260131T000303Z
UID:10009204-1775721600-1775754000@news.csn.edu
SUMMARY:To The Left
DESCRIPTION:Participating Artists:\nAimee Coello\, Camile Lovaz\, Rose Miller\, Niko Navalta\, Jessica Samaniego\, Bella Sanabria\, Montaysia Yuneek and Arianna Zaremehrjardi \nFri.\, Feb. 13 – Sat.\, June 20\, 2026\nPanel Discussion and Artist Reception: Thurs.\, June 11 at 6 p.m.\nThe Debra March Center of Excellence\n2200 Via Inspirada\, Henderson\, NV 89044 \nGallery Hours:\nMonday through Friday 8 a.m. to 5 p.m.\nGallery is closed Saturday\, Sunday\, Nevada state holidays and between CSN academic terms.\nAll CSN art gallery events are free\, family friendly and open to the public. \nFor exhibition information\, please email: artgallery@csn.edu or call 702.651.4146\nFor building access and hours\,\nplease call 702-651-3727 | Website: www.csn.edu/artgallery
URL:https://news.csn.edu/event/to-the-left-40/
LOCATION:Debra March Center of Excellence\, 2200 Via Inspirada\, Henderson\, NV\, 89044\, United States
CATEGORIES:Arts
ATTACH;FMTTYPE=image/jpeg:https://news.csn.edu/wp-content/uploads/2026/01/to-the-left-flyer.jpg
END:VEVENT
BEGIN:VEVENT
DTSTART;TZID=America/Los_Angeles:20260409T080000
DTEND;TZID=America/Los_Angeles:20260409T223000
DTSTAMP:20260421T055253
CREATED:20260212T194442Z
LAST-MODIFIED:20260212T194442Z
UID:10009361-1775721600-1775773800@news.csn.edu
SUMMARY:Abstracting the View
DESCRIPTION:Shawn Michelle Smith \nFriday\, March 13 – Saturday\, April 25\, 2026 \nThe Artspace Gallery \nArtspace Gallery Hours:\nMON – FRI 8 AM – 10:30 PM\nSATURDAY 8 AM – 5 PM
URL:https://news.csn.edu/event/abstracting-the-view-24/
LOCATION:CSN Artspace Gallery\, 3200 E. Cheyenne Avenue\, North Las Vegas\, 89030\, United States
CATEGORIES:Arts
ATTACH;FMTTYPE=image/jpeg:https://news.csn.edu/wp-content/uploads/2026/02/abstractingtheview.jpg
END:VEVENT
BEGIN:VEVENT
DTSTART;TZID=America/Los_Angeles:20260409T090000
DTEND;TZID=America/Los_Angeles:20260409T180000
DTSTAMP:20260421T055253
CREATED:20260212T171135Z
LAST-MODIFIED:20260212T171135Z
UID:10009316-1775725200-1775757600@news.csn.edu
SUMMARY:Transmitting Figures
DESCRIPTION:Sapira Cheuk \nFriday\, February 27 – Saturday\, May 2\, 2026 \nGallery Talk & Artist Reception:\nWednesday\, April 1 • 6 p.m. \nGallery Hours:\nMonday through Friday • 9:00 a.m. to 6:00 p.m.\nSaturday 10:00 a.m. to 4:00 p.m.\nAll CSN art gallery events are tree\, family friendly & open to the public. \nFor more information please call: 702.651.4146\nartgallery@csn.edu • www.csn.edu/artgallery \nDirections: The Fine Arts Gallery is located adjacent to the Nicholas J. Horn Theatre Lobby on the North Las Vegas Campus of the College of Southern Nevada\n3200 E. Cheyenne Ave. • North Las Vegas\, NV 89030
URL:https://news.csn.edu/event/transmitting-figures-36/
LOCATION:CSN Fine Arts Gallery\, 3200 E. Cheyenne Avenue\, North Las Vegas\, 89030\, United States
CATEGORIES:Arts
ATTACH;FMTTYPE=image/jpeg:https://news.csn.edu/wp-content/uploads/2026/02/transmitting-figures.jpg
END:VEVENT
BEGIN:VEVENT
DTSTART;TZID=America/Los_Angeles:20260409T120000
DTEND;TZID=America/Los_Angeles:20260409T130000
DTSTAMP:20260421T055253
CREATED:20260217T190509Z
LAST-MODIFIED:20260217T190509Z
UID:10009405-1775736000-1775739600@news.csn.edu
SUMMARY:Brown Bag Lunch Initiative
DESCRIPTION:The NLV Academic Advising department is presenting the Brown Bag Lunch Initiative\, a non-advising luncheon focused on connecting\, conversating\, and sharing ideas with each other! This event is open to all students and members of the CSN community.
URL:https://news.csn.edu/event/brown-bag-lunch-initiative/2026-04-09/
LOCATION:June Whitley Student Lounge\, 3200 N. Cheyenne Avenue\, North Las Vegas\, NV\, 89030\, United States
CATEGORIES:Athletics,Community,Employees,Student life
ATTACH;FMTTYPE=image/png:https://news.csn.edu/wp-content/uploads/2026/02/Brown-Paper-Bag-Luncheon-2.12-4.9-scaled.png
END:VEVENT
BEGIN:VEVENT
DTSTART;TZID=America/Los_Angeles:20260409T190000
DTEND;TZID=America/Los_Angeles:20260409T210000
DTSTAMP:20260421T055253
CREATED:20260128T160448Z
LAST-MODIFIED:20260128T184841Z
UID:10009081-1775761200-1775768400@news.csn.edu
SUMMARY:Echoes of Heritage
DESCRIPTION:A CELEBRATION OF DANCE & CULTURE! \nAPRIL\n9\, 10\, 11\, 16\, 17 at 7 p.m.\nAND 12 at 2 p.m.\nCSN PERFORMING ARTS CENTER\nBACKSTAGE THEATRE \nTickets available to purchase online at: www.csn.edu/pac\n$10 General Admission\n$5 Seniors/Students\nCSN Students Free
URL:https://news.csn.edu/event/echoes-of-heritage/
LOCATION:CSN BackStage Theatre\, 3200 E. Cheyenne Avenue\, North Las Vegas\, NV\, 89030\, United States
CATEGORIES:Arts,Cultural Event
ATTACH;FMTTYPE=image/jpeg:https://news.csn.edu/wp-content/uploads/2026/01/echoes-of-heritage.jpg
END:VEVENT
BEGIN:VEVENT
DTSTART;TZID=America/Los_Angeles:20260410T080000
DTEND;TZID=America/Los_Angeles:20260410T170000
DTSTAMP:20260421T055253
CREATED:20260131T000309Z
LAST-MODIFIED:20260131T000309Z
UID:10009205-1775808000-1775840400@news.csn.edu
SUMMARY:To The Left
DESCRIPTION:Participating Artists:\nAimee Coello\, Camile Lovaz\, Rose Miller\, Niko Navalta\, Jessica Samaniego\, Bella Sanabria\, Montaysia Yuneek and Arianna Zaremehrjardi \nFri.\, Feb. 13 – Sat.\, June 20\, 2026\nPanel Discussion and Artist Reception: Thurs.\, June 11 at 6 p.m.\nThe Debra March Center of Excellence\n2200 Via Inspirada\, Henderson\, NV 89044 \nGallery Hours:\nMonday through Friday 8 a.m. to 5 p.m.\nGallery is closed Saturday\, Sunday\, Nevada state holidays and between CSN academic terms.\nAll CSN art gallery events are free\, family friendly and open to the public. \nFor exhibition information\, please email: artgallery@csn.edu or call 702.651.4146\nFor building access and hours\,\nplease call 702-651-3727 | Website: www.csn.edu/artgallery
URL:https://news.csn.edu/event/to-the-left-41/
LOCATION:Debra March Center of Excellence\, 2200 Via Inspirada\, Henderson\, NV\, 89044\, United States
CATEGORIES:Arts
ATTACH;FMTTYPE=image/jpeg:https://news.csn.edu/wp-content/uploads/2026/01/to-the-left-flyer.jpg
END:VEVENT
BEGIN:VEVENT
DTSTART;TZID=America/Los_Angeles:20260410T080000
DTEND;TZID=America/Los_Angeles:20260410T223000
DTSTAMP:20260421T055253
CREATED:20260212T194447Z
LAST-MODIFIED:20260212T194447Z
UID:10009362-1775808000-1775860200@news.csn.edu
SUMMARY:Abstracting the View
DESCRIPTION:Shawn Michelle Smith \nFriday\, March 13 – Saturday\, April 25\, 2026 \nThe Artspace Gallery \nArtspace Gallery Hours:\nMON – FRI 8 AM – 10:30 PM\nSATURDAY 8 AM – 5 PM
URL:https://news.csn.edu/event/abstracting-the-view-25/
LOCATION:CSN Artspace Gallery\, 3200 E. Cheyenne Avenue\, North Las Vegas\, 89030\, United States
CATEGORIES:Arts
ATTACH;FMTTYPE=image/jpeg:https://news.csn.edu/wp-content/uploads/2026/02/abstractingtheview.jpg
END:VEVENT
BEGIN:VEVENT
DTSTART;TZID=America/Los_Angeles:20260410T090000
DTEND;TZID=America/Los_Angeles:20260410T180000
DTSTAMP:20260421T055253
CREATED:20260212T171139Z
LAST-MODIFIED:20260212T171139Z
UID:10009317-1775811600-1775844000@news.csn.edu
SUMMARY:Transmitting Figures
DESCRIPTION:Sapira Cheuk \nFriday\, February 27 – Saturday\, May 2\, 2026 \nGallery Talk & Artist Reception:\nWednesday\, April 1 • 6 p.m. \nGallery Hours:\nMonday through Friday • 9:00 a.m. to 6:00 p.m.\nSaturday 10:00 a.m. to 4:00 p.m.\nAll CSN art gallery events are tree\, family friendly & open to the public. \nFor more information please call: 702.651.4146\nartgallery@csn.edu • www.csn.edu/artgallery \nDirections: The Fine Arts Gallery is located adjacent to the Nicholas J. Horn Theatre Lobby on the North Las Vegas Campus of the College of Southern Nevada\n3200 E. Cheyenne Ave. • North Las Vegas\, NV 89030
URL:https://news.csn.edu/event/transmitting-figures-37/
LOCATION:CSN Fine Arts Gallery\, 3200 E. Cheyenne Avenue\, North Las Vegas\, 89030\, United States
CATEGORIES:Arts
ATTACH;FMTTYPE=image/jpeg:https://news.csn.edu/wp-content/uploads/2026/02/transmitting-figures.jpg
END:VEVENT
BEGIN:VEVENT
DTSTART;TZID=America/Los_Angeles:20260410T110000
DTEND;TZID=America/Los_Angeles:20260410T130000
DTSTAMP:20260421T055253
CREATED:20251223T054345Z
LAST-MODIFIED:20251223T054345Z
UID:10008979-1775818800-1775826000@news.csn.edu
SUMMARY:Spring 2026 ASCSN Senate Meetings
DESCRIPTION:ASCSN advocates for the academic and social success of students by promoting inclusivity and connecting them to community resources. Come join us for an informative meeting of promoting the success of CSN Students in campus life\, clubs\, organizations and community involvement!
URL:https://news.csn.edu/event/spring-2026-ascsn-senate-meetings/2026-04-10/
LOCATION:Charleston Campus Student Union Room 130\, 6375 W. Charleston\, Las Vegas\, 89146\, United States
CATEGORIES:Community,Cultural Event,Student life
ATTACH;FMTTYPE=image/png:https://news.csn.edu/wp-content/uploads/2025/12/ASCSN-Sp26-Senate-Meetings.png
END:VEVENT
BEGIN:VEVENT
DTSTART;TZID=America/Los_Angeles:20260410T110000
DTEND;TZID=America/Los_Angeles:20260410T130000
DTSTAMP:20260421T055253
CREATED:20260213T195044Z
LAST-MODIFIED:20260213T195044Z
UID:10009379-1775818800-1775826000@news.csn.edu
SUMMARY:Emergency Equipment Hands-On Training
DESCRIPTION:CSN’s Environmental Health & Safety Department (EHS) is offering a hands-on training session to help spread awareness on how to operate emergency equipment! This event is open to all students\, staff\, and faculty wanting to learn how to use a fire extinguisher\, an Automated External Defibrillator (AED)\, and the Stop-The-Bleed Kit. \n  \nFebruary 20 @ 11 AM – 1 PM West Charleston Campus Student Union Room 130 \nMarch 27 @ 11 AM – 1 PM Henderson Campus Student Union Room 130 \nApril 10 @ 11 AM – 1 PM North Las Vegas Campus Student Union Room 130
URL:https://news.csn.edu/event/emergency-equipment-hands-on-training/2026-04-10/
LOCATION:Charleston Campus Student Union Room 130\, 6375 W. Charleston\, Las Vegas\, 89146\, United States
CATEGORIES:Community,Cultural Event,Employees,Student life
ATTACH;FMTTYPE=image/jpeg:https://news.csn.edu/wp-content/uploads/2026/02/Hands-On-Emergency-Equipment-Training-Flyer_2026-scaled.jpg
END:VEVENT
BEGIN:VEVENT
DTSTART;TZID=America/Los_Angeles:20260410T190000
DTEND;TZID=America/Los_Angeles:20260410T203000
DTSTAMP:20260421T055253
CREATED:20260210T114345Z
LAST-MODIFIED:20260210T114345Z
UID:10009263-1775847600-1775853000@news.csn.edu
SUMMARY:Vocal Jazz Solo Nights
DESCRIPTION:General Admission: $10 \nStudents/Seniors: $5 \nCSN Students Free! \nBuy Tickets Here
URL:https://news.csn.edu/event/vocal-jazz-solo-nights/
LOCATION:CSN Jay Morrison Recital Hall\, 3200 E. Cheyenne Avenue\, North Las Vegas\, NV\, 89030\, United States
CATEGORIES:Arts,Community,Cultural Event,Employees,Student life
ATTACH;FMTTYPE=image/jpeg:https://news.csn.edu/wp-content/uploads/2026/02/F25-VJSN-scaled.jpg
END:VEVENT
BEGIN:VEVENT
DTSTART;TZID=UTC:20260410T190000
DTEND;TZID=UTC:20260410T210000
DTSTAMP:20260421T055253
CREATED:20251227T063458Z
LAST-MODIFIED:20251227T063458Z
UID:10008995-1775847600-1775854800@news.csn.edu
SUMMARY:College of Southern Nevada Softball vs Central Arizona College
DESCRIPTION:College of Southern Nevada Softball vs Central Arizona College
URL:https://news.csn.edu/event/college-of-southern-nevada-softball-vs-central-arizona-college-3/
LOCATION:Henderson\, NV\, Lady Coyote Softball Field
END:VEVENT
BEGIN:VEVENT
DTSTART;TZID=America/Los_Angeles:20260410T190000
DTEND;TZID=America/Los_Angeles:20260410T210000
DTSTAMP:20260421T055253
CREATED:20260128T160532Z
LAST-MODIFIED:20260128T160532Z
UID:10009082-1775847600-1775854800@news.csn.edu
SUMMARY:Echoes of Heritage
DESCRIPTION:A CELEBRATION OF DANCE & CULTURE! \nAPRIL\n9\, 10\, 11\, 16\, 17 at 7 p.m.\nAND 12 at 2 p.m.\nCSN PERFORMING ARTS CENTER\nBACKSTAGE THEATRE \nTickets: \n$10 General Admission\n$5 Seniors/Students\nCSN Students Free
URL:https://news.csn.edu/event/echoes-of-heritage-2/
LOCATION:CSN BackStage Theatre\, 3200 E. Cheyenne Avenue\, North Las Vegas\, NV\, 89030\, United States
CATEGORIES:Arts,Cultural Event
ATTACH;FMTTYPE=image/jpeg:https://news.csn.edu/wp-content/uploads/2026/01/echoes-of-heritage.jpg
END:VEVENT
BEGIN:VEVENT
DTSTART;TZID=UTC:20260410T190000
DTEND;TZID=UTC:20260410T220000
DTSTAMP:20260421T055253
CREATED:20251227T121530Z
LAST-MODIFIED:20251227T121530Z
UID:10009049-1775847600-1775858400@news.csn.edu
SUMMARY:College of Southern Nevada Baseball at Cochise College
DESCRIPTION:College of Southern Nevada Baseball at Cochise College
URL:https://news.csn.edu/event/college-of-southern-nevada-baseball-at-cochise-college-2/
LOCATION:Douglas\, AZ
CATEGORIES:Baseball
END:VEVENT
BEGIN:VEVENT
DTSTART;TZID=UTC:20260410T210000
DTEND;TZID=UTC:20260410T230000
DTSTAMP:20260421T055253
CREATED:20251227T063458Z
LAST-MODIFIED:20251227T063458Z
UID:10008996-1775854800-1775862000@news.csn.edu
SUMMARY:College of Southern Nevada Softball vs Central Arizona College
DESCRIPTION:College of Southern Nevada Softball vs Central Arizona College
URL:https://news.csn.edu/event/college-of-southern-nevada-softball-vs-central-arizona-college-4/
LOCATION:Henderson\, NV\, Lady Coyote Softball Field
END:VEVENT
BEGIN:VEVENT
DTSTART;TZID=UTC:20260410T213000
DTEND;TZID=UTC:20260411T003000
DTSTAMP:20260421T055253
CREATED:20251227T121530Z
LAST-MODIFIED:20251227T121530Z
UID:10009048-1775856600-1775867400@news.csn.edu
SUMMARY:College of Southern Nevada Baseball at Cochise College
DESCRIPTION:College of Southern Nevada Baseball at Cochise College
URL:https://news.csn.edu/event/college-of-southern-nevada-baseball-at-cochise-college/
LOCATION:Douglas\, AZ
CATEGORIES:Baseball
END:VEVENT
BEGIN:VEVENT
DTSTART;TZID=UTC:20260410T230000
DTEND;TZID=UTC:20260411T020000
DTSTAMP:20260421T055253
CREATED:20260214T151739Z
LAST-MODIFIED:20260214T151739Z
UID:10009387-1775862000-1775872800@news.csn.edu
SUMMARY:College of Southern Nevada Women's Cross Country and Distance Track  CSN Distance Carnival
DESCRIPTION:College of Southern Nevada Women’s Cross Country and Distance Track  CSN Distance Carnival
URL:https://news.csn.edu/event/college-of-southern-nevada-womens-cross-country-and-distance-track-csn-distance-carnival/
LOCATION:Las Vegas\, NV
CATEGORIES:Women's Cross Country
END:VEVENT
BEGIN:VEVENT
DTSTART;TZID=UTC:20260410T230000
DTEND;TZID=UTC:20260411T020000
DTSTAMP:20260421T055253
CREATED:20260215T051736Z
LAST-MODIFIED:20260215T051736Z
UID:10009395-1775862000-1775872800@news.csn.edu
SUMMARY:College of Southern Nevada Men's Cross Country and Distance Track  CSN Distance Carnival
DESCRIPTION:College of Southern Nevada Men’s Cross Country and Distance Track  CSN Distance Carnival
URL:https://news.csn.edu/event/college-of-southern-nevada-mens-cross-country-and-distance-track-csn-distance-carnival/
LOCATION:Las Vegas\, NV
CATEGORIES:Men's Cross Country
END:VEVENT
BEGIN:VEVENT
DTSTART;TZID=America/Los_Angeles:20260411T080000
DTEND;TZID=America/Los_Angeles:20260411T170000
DTSTAMP:20260421T055253
CREATED:20260212T194452Z
LAST-MODIFIED:20260212T194452Z
UID:10009363-1775894400-1775926800@news.csn.edu
SUMMARY:Abstracting the View
DESCRIPTION:Shawn Michelle Smith \nFriday\, March 13 – Saturday\, April 25\, 2026 \nThe Artspace Gallery \nArtspace Gallery Hours:\nMON – FRI 8 AM – 10:30 PM\nSATURDAY 8 AM – 5 PM
URL:https://news.csn.edu/event/abstracting-the-view-26/
LOCATION:CSN Artspace Gallery\, 3200 E. Cheyenne Avenue\, North Las Vegas\, 89030\, United States
CATEGORIES:Arts
ATTACH;FMTTYPE=image/jpeg:https://news.csn.edu/wp-content/uploads/2026/02/abstractingtheview.jpg
END:VEVENT
BEGIN:VEVENT
DTSTART;TZID=America/Los_Angeles:20260411T100000
DTEND;TZID=America/Los_Angeles:20260411T160000
DTSTAMP:20260421T055253
CREATED:20260212T171148Z
LAST-MODIFIED:20260212T171148Z
UID:10009318-1775901600-1775923200@news.csn.edu
SUMMARY:Transmitting Figures
DESCRIPTION:Sapira Cheuk \nFriday\, February 27 – Saturday\, May 2\, 2026 \nGallery Talk & Artist Reception:\nWednesday\, April 1 • 6 p.m. \nGallery Hours:\nMonday through Friday • 9:00 a.m. to 6:00 p.m.\nSaturday 10:00 a.m. to 4:00 p.m.\nAll CSN art gallery events are tree\, family friendly & open to the public. \nFor more information please call: 702.651.4146\nartgallery@csn.edu • www.csn.edu/artgallery \nDirections: The Fine Arts Gallery is located adjacent to the Nicholas J. Horn Theatre Lobby on the North Las Vegas Campus of the College of Southern Nevada\n3200 E. Cheyenne Ave. • North Las Vegas\, NV 89030
URL:https://news.csn.edu/event/transmitting-figures-38/
LOCATION:CSN Fine Arts Gallery\, 3200 E. Cheyenne Avenue\, North Las Vegas\, 89030\, United States
CATEGORIES:Arts
ATTACH;FMTTYPE=image/jpeg:https://news.csn.edu/wp-content/uploads/2026/02/transmitting-figures.jpg
END:VEVENT
BEGIN:VEVENT
DTSTART;TZID=UTC:20260411T170000
DTEND;TZID=UTC:20260411T200000
DTSTAMP:20260421T055253
CREATED:20260214T151739Z
LAST-MODIFIED:20260214T151739Z
UID:10009388-1775926800-1775937600@news.csn.edu
SUMMARY:College of Southern Nevada Women's Cross Country and Distance Track  Mt. SAC Invitational Community College
DESCRIPTION:College of Southern Nevada Women’s Cross Country and Distance Track  Mt. SAC Invitational Community College
URL:https://news.csn.edu/event/college-of-southern-nevada-womens-cross-country-and-distance-track-mt-sac-invitational-community-college/
LOCATION:Walnut\, CA
CATEGORIES:Women's Cross Country
END:VEVENT
END:VCALENDAR