BEGIN:VCALENDAR
VERSION:2.0
PRODID:-//College of Southern Nevada - ECPv6.15.13//NONSGML v1.0//EN
CALSCALE:GREGORIAN
METHOD:PUBLISH
X-ORIGINAL-URL:https://news.csn.edu
X-WR-CALDESC:Events for College of Southern Nevada
REFRESH-INTERVAL;VALUE=DURATION:PT1H
X-Robots-Tag:noindex
X-PUBLISHED-TTL:PT1H
BEGIN:VTIMEZONE
TZID:America/Los_Angeles
BEGIN:DAYLIGHT
TZOFFSETFROM:-0800
TZOFFSETTO:-0700
TZNAME:PDT
DTSTART:20240310T100000
END:DAYLIGHT
BEGIN:STANDARD
TZOFFSETFROM:-0700
TZOFFSETTO:-0800
TZNAME:PST
DTSTART:20241103T090000
END:STANDARD
BEGIN:DAYLIGHT
TZOFFSETFROM:-0800
TZOFFSETTO:-0700
TZNAME:PDT
DTSTART:20250309T100000
END:DAYLIGHT
BEGIN:STANDARD
TZOFFSETFROM:-0700
TZOFFSETTO:-0800
TZNAME:PST
DTSTART:20251102T090000
END:STANDARD
BEGIN:DAYLIGHT
TZOFFSETFROM:-0800
TZOFFSETTO:-0700
TZNAME:PDT
DTSTART:20260308T100000
END:DAYLIGHT
BEGIN:STANDARD
TZOFFSETFROM:-0700
TZOFFSETTO:-0800
TZNAME:PST
DTSTART:20261101T090000
END:STANDARD
END:VTIMEZONE
BEGIN:VEVENT
DTSTART;TZID=America/Los_Angeles:20250908T110000
DTEND;TZID=America/Los_Angeles:20250908T130000
DTSTAMP:20260420T094547
CREATED:20250822T143822Z
LAST-MODIFIED:20250822T143822Z
UID:10008182-1757329200-1757336400@news.csn.edu
SUMMARY:Level Up - Prep For Success - Henderson
DESCRIPTION:
URL:https://news.csn.edu/event/level-up-prep-for-success-henderson/
LOCATION:Henderson Student Union\, 700 College Dr.\, Henderson\, NV\, 89002\, United States
ATTACH;FMTTYPE=image/png:https://news.csn.edu/wp-content/uploads/2025/08/Fa25-Level-Up-Prep-for-Success.png
END:VEVENT
BEGIN:VEVENT
DTSTART;TZID=America/Los_Angeles:20250909T110000
DTEND;TZID=America/Los_Angeles:20250909T130000
DTSTAMP:20260420T094547
CREATED:20250729T210119Z
LAST-MODIFIED:20250729T210153Z
UID:10008132-1757415600-1757422800@news.csn.edu
SUMMARY:ASCSN Welcome Bo-Back Event at Charleston Student Union
DESCRIPTION:
URL:https://news.csn.edu/event/ascsn-wc-welcome-bo-back-event/
LOCATION:Charleston Student Union\, 6375 W. Charleston Blvd\, Las Vegas\, NV\, 89146\, United States
CATEGORIES:Student life
ATTACH;FMTTYPE=image/png:https://news.csn.edu/wp-content/uploads/2025/07/Screenshot-2025-07-29-at-2.00.24-PM.png
END:VEVENT
BEGIN:VEVENT
DTSTART;TZID=America/Los_Angeles:20250909T110000
DTEND;TZID=America/Los_Angeles:20250909T130000
DTSTAMP:20260420T094547
CREATED:20250822T143859Z
LAST-MODIFIED:20250822T143859Z
UID:10008183-1757415600-1757422800@news.csn.edu
SUMMARY:Level Up - Prep For Success - NLV
DESCRIPTION:
URL:https://news.csn.edu/event/level-up-prep-for-success-nlv/
LOCATION:June Whitley Lounge\, 3200 E Cheyenne Ave\, North Las Vegas\, NV\, 89030
ATTACH;FMTTYPE=image/png:https://news.csn.edu/wp-content/uploads/2025/08/Fa25-Level-Up-Prep-for-Success.png
END:VEVENT
BEGIN:VEVENT
DTSTART;TZID=America/Los_Angeles:20250909T113000
DTEND;TZID=America/Los_Angeles:20250909T140000
DTSTAMP:20260420T094547
CREATED:20250814T181629Z
LAST-MODIFIED:20250814T181629Z
UID:10008138-1757417400-1757426400@news.csn.edu
SUMMARY:NLV Academic Advising Open House
DESCRIPTION:
URL:https://news.csn.edu/event/nlv-academic-advising-open-house/
LOCATION:CSN North Las Vegas Campus\, 3200 E. Cheyenne Ave\, North Las Vegas\, NV\, 89030\, United States
CATEGORIES:Community,Student life
ATTACH;FMTTYPE=image/png:https://news.csn.edu/wp-content/uploads/2025/08/OpenHouse.NLV-1.png
END:VEVENT
BEGIN:VEVENT
DTSTART;TZID=America/Los_Angeles:20250909T163000
DTEND;TZID=America/Los_Angeles:20250909T203000
DTSTAMP:20260420T094547
CREATED:20250827T141025Z
LAST-MODIFIED:20250827T141025Z
UID:10008385-1757435400-1757449800@news.csn.edu
SUMMARY:CSN Theatre Program Auditions
DESCRIPTION:
URL:https://news.csn.edu/event/csn-theatre-program-auditions/
LOCATION:CSN BackStage Theatre\, 3200 E. Cheyenne Avenue\, North Las Vegas\, NV\, 89030\, United States
CATEGORIES:Arts,Community,Employees,Student life
ATTACH;FMTTYPE=image/jpeg:https://news.csn.edu/wp-content/uploads/2025/08/Our-Town-SM-scaled.jpg
END:VEVENT
BEGIN:VEVENT
DTSTART;TZID=America/Los_Angeles:20250910T110000
DTEND;TZID=America/Los_Angeles:20250910T140000
DTSTAMP:20260420T094547
CREATED:20250721T163653Z
LAST-MODIFIED:20250721T163653Z
UID:10008121-1757502000-1757512800@news.csn.edu
SUMMARY:A Tender Welcome Back!
DESCRIPTION:
URL:https://news.csn.edu/event/a-tender-welcome-back/
LOCATION:Henderson Student Union\, 700 College Dr.\, Henderson\, NV\, 89002\, United States
CATEGORIES:Community,Employees,Student life
ATTACH;FMTTYPE=image/jpeg:https://news.csn.edu/wp-content/uploads/2025/07/A-Tender-Welcome-Back-HN-Flyer-Fa-scaled.jpg
END:VEVENT
BEGIN:VEVENT
DTSTART;TZID=America/Los_Angeles:20250910T120000
DTEND;TZID=America/Los_Angeles:20250910T120000
DTSTAMP:20260420T094547
CREATED:20250815T151935Z
LAST-MODIFIED:20250815T151935Z
UID:10008161-1757505600-1757505600@news.csn.edu
SUMMARY:Secure the Money Bag: Money Management 101
DESCRIPTION:
URL:https://news.csn.edu/event/secure-the-money-bag-money-management-101-2/
LOCATION:CSN North Las Vegas Student Union\, 3200 E. Cheyenne Avenue\, North Las Vegas\, NV\, 89030\, United States
ATTACH;FMTTYPE=image/png:https://news.csn.edu/wp-content/uploads/2025/08/Secure-the-Bag-Money-Management-101-3-total-Events_Page_1.png
END:VEVENT
BEGIN:VEVENT
DTSTART;TZID=America/Los_Angeles:20250910T140000
DTEND;TZID=America/Los_Angeles:20250910T150000
DTSTAMP:20260420T094547
CREATED:20250821T175746Z
LAST-MODIFIED:20250821T175746Z
UID:10008165-1757512800-1757516400@news.csn.edu
SUMMARY:HR on the Road
DESCRIPTION:
URL:https://news.csn.edu/event/hr-on-the-road/
LOCATION:Charleston Student Union\, 6375 W. Charleston Blvd\, Las Vegas\, NV\, 89146\, United States
ATTACH;FMTTYPE=image/jpeg:https://news.csn.edu/wp-content/uploads/2025/08/HR-on-the-ROAD-Final-1.jpg
END:VEVENT
BEGIN:VEVENT
DTSTART;TZID=America/Los_Angeles:20250910T150000
DTEND;TZID=America/Los_Angeles:20250910T160000
DTSTAMP:20260420T094547
CREATED:20250822T165932Z
LAST-MODIFIED:20250822T170007Z
UID:10008318-1757516400-1757520000@news.csn.edu
SUMMARY:Thrive Support Group (CAPS) - Henderson
DESCRIPTION:
URL:https://news.csn.edu/event/thrive-support-group-caps-henderson/2025-09-10/
LOCATION:Henderson Campus\, 700 College Drive\, Henderson\, NV\, 89146\, United States
ATTACH;FMTTYPE=image/png:https://news.csn.edu/wp-content/uploads/2025/08/Fa25-Thrive-Support-Group-HEN.png
END:VEVENT
BEGIN:VEVENT
DTSTART;TZID=America/Los_Angeles:20250910T163000
DTEND;TZID=America/Los_Angeles:20250910T203000
DTSTAMP:20260420T094547
CREATED:20250827T141246Z
LAST-MODIFIED:20250827T141246Z
UID:10008386-1757521800-1757536200@news.csn.edu
SUMMARY:CSN Theatre Program Auditions
DESCRIPTION:
URL:https://news.csn.edu/event/csn-theatre-program-auditions-2/
LOCATION:CSN BackStage Theatre\, 3200 E. Cheyenne Avenue\, North Las Vegas\, NV\, 89030\, United States
CATEGORIES:Arts,Community,Employees,Student life
ATTACH;FMTTYPE=image/jpeg:https://news.csn.edu/wp-content/uploads/2025/08/Our-Town-SM-scaled.jpg
END:VEVENT
BEGIN:VEVENT
DTSTART;TZID=America/Los_Angeles:20250911T080000
DTEND;TZID=America/Los_Angeles:20250911T170000
DTSTAMP:20260420T094547
CREATED:20250721T164159Z
LAST-MODIFIED:20250721T164159Z
UID:10008122-1757577600-1757610000@news.csn.edu
SUMMARY:A Smooth Start - A Fall 2025 Semester Event!
DESCRIPTION:
URL:https://news.csn.edu/event/a-smooth-start-a-fall-2025-semester-event/
LOCATION:CSN North Las Vegas Student Union\, 3200 E. Cheyenne Avenue\, North Las Vegas\, NV\, 89030\, United States
CATEGORIES:Community,Student life
ATTACH;FMTTYPE=image/jpeg:https://news.csn.edu/wp-content/uploads/2025/07/NLV-Fa.-25-Welcoe-Back-Event-Flyer.jpeg
END:VEVENT
BEGIN:VEVENT
DTSTART;TZID=America/Los_Angeles:20250911T110000
DTEND;TZID=America/Los_Angeles:20250911T130000
DTSTAMP:20260420T094547
CREATED:20250822T144008Z
LAST-MODIFIED:20250822T144008Z
UID:10008184-1757588400-1757595600@news.csn.edu
SUMMARY:Level Up - Prep For Success - Charleston
DESCRIPTION:
URL:https://news.csn.edu/event/level-up-prep-for-success-charleston/
LOCATION:Charleston Student Union\, 6375 W. Charleston Blvd\, Las Vegas\, NV\, 89146\, United States
ATTACH;FMTTYPE=image/png:https://news.csn.edu/wp-content/uploads/2025/08/Fa25-Level-Up-Prep-for-Success.png
END:VEVENT
BEGIN:VEVENT
DTSTART;TZID=America/Los_Angeles:20250912T170000
DTEND;TZID=America/Los_Angeles:20250912T180000
DTSTAMP:20260420T094547
CREATED:20250904T204828Z
LAST-MODIFIED:20250904T204828Z
UID:10008387-1757696400-1757700000@news.csn.edu
SUMMARY:The Philososphy Event
DESCRIPTION:
URL:https://news.csn.edu/event/the-philososphy-event/
LOCATION:Charleston Campus Building I\, 6375 West Charleston Blvd\, Las Vegas\, NV\, 89146\, United States
ATTACH;FMTTYPE=image/jpeg:https://news.csn.edu/wp-content/uploads/2025/09/Club-event-flyer-Fall-25.jpg
END:VEVENT
BEGIN:VEVENT
DTSTART;TZID=America/Los_Angeles:20250916T150000
DTEND;TZID=America/Los_Angeles:20250916T170000
DTSTAMP:20260420T094547
CREATED:20250815T155656Z
LAST-MODIFIED:20250815T155656Z
UID:10008163-1758034800-1758042000@news.csn.edu
SUMMARY:Hispanic Heritage Month Celebration
DESCRIPTION:
URL:https://news.csn.edu/event/hispanic-heritage-month-celebration/
LOCATION:Charleston Student Union\, 6375 W. Charleston Blvd\, Las Vegas\, NV\, 89146\, United States
CATEGORIES:Cultural Event
ATTACH;FMTTYPE=image/png:https://news.csn.edu/wp-content/uploads/2025/08/Hispanic-History-Month-Hispanic-Heritage-Month-Instagram-Post-in-Green-Pink-Orange-Folksy-Patterned-Style.png
END:VEVENT
BEGIN:VEVENT
DTSTART;TZID=America/Los_Angeles:20250917T100000
DTEND;TZID=America/Los_Angeles:20250917T140000
DTSTAMP:20260420T094547
CREATED:20250723T202304Z
LAST-MODIFIED:20250723T202304Z
UID:10008131-1758103200-1758117600@news.csn.edu
SUMMARY:Career Fair
DESCRIPTION:
URL:https://news.csn.edu/event/career-fair/
LOCATION:June Whitley Lounge\, 3200 E Cheyenne Ave\, North Las Vegas\, NV\, 89030
CATEGORIES:Student life
ATTACH;FMTTYPE=image/jpeg:https://news.csn.edu/wp-content/uploads/2025/07/Fa25-Career-Fair-Save-the-Date-scaled.jpg
END:VEVENT
BEGIN:VEVENT
DTSTART;TZID=America/Los_Angeles:20250917T100000
DTEND;TZID=America/Los_Angeles:20250917T140000
DTSTAMP:20260420T094547
CREATED:20250730T184257Z
LAST-MODIFIED:20250730T184257Z
UID:10008134-1758103200-1758117600@news.csn.edu
SUMMARY:Level Up Fair
DESCRIPTION:
URL:https://news.csn.edu/event/level-up-fair/
LOCATION:June Whitley Lounge\, 3200 E Cheyenne Ave\, North Las Vegas\, NV\, 89030
CATEGORIES:Student life
ATTACH;FMTTYPE=image/jpeg:https://news.csn.edu/wp-content/uploads/2025/07/Fa25-Level-Up-Fair-Student-Flyer.jpg
END:VEVENT
BEGIN:VEVENT
DTSTART;TZID=America/Los_Angeles:20250918T110000
DTEND;TZID=America/Los_Angeles:20250918T110000
DTSTAMP:20260420T094547
CREATED:20250815T150150Z
LAST-MODIFIED:20250815T150150Z
UID:10008148-1758193200-1758193200@news.csn.edu
SUMMARY:Labubu & Latte Study Break - NLV
DESCRIPTION:
URL:https://news.csn.edu/event/labubu-latte-study-break-nlv/
LOCATION:June Whitley Lounge\, 3200 E Cheyenne Ave\, North Las Vegas\, NV\, 89030
ATTACH;FMTTYPE=image/png:https://news.csn.edu/wp-content/uploads/2025/08/Labubu-Latte-Study-Break-scaled.png
END:VEVENT
BEGIN:VEVENT
DTSTART;TZID=America/Los_Angeles:20250920T180000
DTEND;TZID=America/Los_Angeles:20250920T190000
DTSTAMP:20260420T094547
CREATED:20250915T181830Z
LAST-MODIFIED:20250915T182021Z
UID:10008419-1758391200-1758394800@news.csn.edu
SUMMARY:CSN Night with the Las Vegas Aviators
DESCRIPTION:More info here
URL:https://news.csn.edu/event/csn-night-with-the-las-vegas-aviators/
LOCATION:Las Vegas Ballpark
CATEGORIES:Athletics,Baseball,Community,Sports
ATTACH;FMTTYPE=image/jpeg:https://news.csn.edu/wp-content/uploads/2025/09/w3j1ksljr6fidlzvsmnd.jpg
END:VEVENT
BEGIN:VEVENT
DTSTART;TZID=America/Los_Angeles:20250923T110000
DTEND;TZID=America/Los_Angeles:20250923T130000
DTSTAMP:20260420T094547
CREATED:20250815T151135Z
LAST-MODIFIED:20250815T151135Z
UID:10008156-1758625200-1758632400@news.csn.edu
SUMMARY:Loteria- NLV
DESCRIPTION:
URL:https://news.csn.edu/event/loteria-nlv/
LOCATION:CSN North Las Vegas Student Union\, 3200 E. Cheyenne Avenue\, North Las Vegas\, NV\, 89030\, United States
ATTACH;FMTTYPE=image/png:https://news.csn.edu/wp-content/uploads/2025/08/NLV-Loteria-Poster-scaled.png
END:VEVENT
BEGIN:VEVENT
DTSTART;TZID=America/Los_Angeles:20250924T110000
DTEND;TZID=America/Los_Angeles:20250924T130000
DTSTAMP:20260420T094547
CREATED:20250815T151205Z
LAST-MODIFIED:20250815T151205Z
UID:10008157-1758711600-1758718800@news.csn.edu
SUMMARY:Loteria- Henderson
DESCRIPTION:
URL:https://news.csn.edu/event/loteria-henderson/
LOCATION:Henderson Student Union\, 700 College Dr.\, Henderson\, NV\, 89002\, United States
ATTACH;FMTTYPE=image/png:https://news.csn.edu/wp-content/uploads/2025/08/NLV-Loteria-Poster-scaled.png
END:VEVENT
BEGIN:VEVENT
DTSTART;TZID=America/Los_Angeles:20250925T110000
DTEND;TZID=America/Los_Angeles:20250925T143000
DTSTAMP:20260420T094547
CREATED:20250815T151236Z
LAST-MODIFIED:20250815T151255Z
UID:10008158-1758798000-1758810600@news.csn.edu
SUMMARY:Loteria- Charleston
DESCRIPTION:
URL:https://news.csn.edu/event/loteria-charleston/
LOCATION:Charleston Student Union\, 6375 W. Charleston Blvd\, Las Vegas\, NV\, 89146\, United States
ATTACH;FMTTYPE=image/png:https://news.csn.edu/wp-content/uploads/2025/08/NLV-Loteria-Poster-scaled.png
END:VEVENT
BEGIN:VEVENT
DTSTART;TZID=America/Los_Angeles:20250926T080000
DTEND;TZID=America/Los_Angeles:20250926T223000
DTSTAMP:20260420T094547
CREATED:20250908T154053Z
LAST-MODIFIED:20250908T154053Z
UID:10008388-1758873600-1758925800@news.csn.edu
SUMMARY:Home is Where
DESCRIPTION:Home is Where by: Brian Higgins \nFri.\, Sept. 26 – Sat.\, Nov. 22\, 2025 \nGallery Talk & Artist Reception:\nTues.\, Sept 30\, 2025 – 6 p.m. \nMonday through Friday 8 a.m. to 10:30 p.m.\nSaturday 8 a.m. to 5 p.m. \nAll CSN art gallery events are free\, family friendly and open to the public. \nFor more information please call: 702.651.4146\nartgallery@csn.edu • www.csn.edu/artgallery \nDirections: The Artspace Gallery is located upstairs above the main entrance lobby of the North Las Vegas Campus of the College of Southern Nevada\n3200 E. Cheyenne Ave. • North Las Vegas\, NV 89030
URL:https://news.csn.edu/event/home-is-where/
LOCATION:CSN North Las Vegas Campus\, 3200 E. Cheyenne Ave\, North Las Vegas\, NV\, 89030\, United States
CATEGORIES:Arts
ATTACH;FMTTYPE=image/jpeg:https://news.csn.edu/wp-content/uploads/2025/09/homeiswhere-scaled.jpg
END:VEVENT
BEGIN:VEVENT
DTSTART;TZID=America/Los_Angeles:20250927T080000
DTEND;TZID=America/Los_Angeles:20250927T170000
DTSTAMP:20260420T094547
CREATED:20250908T164638Z
LAST-MODIFIED:20250908T164930Z
UID:10008390-1758960000-1758992400@news.csn.edu
SUMMARY:Home is Where
DESCRIPTION:Home is Where by: Brian Higgins \nFri.\, Sept. 26 – Sat.\, Nov. 22\, 2025 \nGallery Talk & Artist Reception:\nTues.\, Sept 30\, 2025 – 6 p.m. \nMonday through Friday 8 a.m. to 10:30 p.m.\nSaturday 8 a.m. to 5 p.m. \nAll CSN art gallery events are free\, family friendly and open to the public. \nFor more information please call: 702.651.4146\nartgallery@csn.edu • www.csn.edu/artgallery \nDirections: The Artspace Gallery is located upstairs above the main entrance lobby of the North Las Vegas Campus of the College of Southern Nevada\n3200 E. Cheyenne Ave. • North Las Vegas\, NV 89030
URL:https://news.csn.edu/event/15392/
LOCATION:North Las Vegas campus\, 3200 E. Cheyenne Avenue\, North Las Vegas\, NV\, 89122\, United States
CATEGORIES:Arts
ATTACH;FMTTYPE=image/jpeg:https://news.csn.edu/wp-content/uploads/2025/09/homeiswhere-scaled.jpg
END:VEVENT
BEGIN:VEVENT
DTSTART;TZID=America/Los_Angeles:20250928T150000
DTEND;TZID=America/Los_Angeles:20250928T170000
DTSTAMP:20260420T094547
CREATED:20250922T152530Z
LAST-MODIFIED:20250922T152530Z
UID:10008481-1759071600-1759078800@news.csn.edu
SUMMARY:Mariposa Que Vuela presented by Opera Las Vegas and CSN Performing Arts Center
DESCRIPTION:An Autobiographical Recital \nfeaturing Nathan Salazar\, piano\, and musicians from CSN’s award winning Mariachi Plata! \n  \nUn Recital Autobiográfico \nfeaturing Nathan Salazar\, piano and musicians from Mariachi Plata de CSN! \n  \nClick here for tickets:
URL:https://news.csn.edu/event/mariposa-que-vuela-presented-by-opera-las-vegas-and-csn-performing-arts-center/
LOCATION:CSN Performing Arts Center Horn Theatre\, 3200 E. Cheyenne Avenue\, North Las Vegas\, NV\, 89030\, United States
CATEGORIES:Arts,Community,Cultural Event,Employees,Student life
ATTACH;FMTTYPE=image/jpeg:https://news.csn.edu/wp-content/uploads/2025/09/LVO-LR-SM-scaled.jpg
END:VEVENT
BEGIN:VEVENT
DTSTART;TZID=America/Los_Angeles:20250929T080000
DTEND;TZID=America/Los_Angeles:20250929T223000
DTSTAMP:20260420T094547
CREATED:20250908T164756Z
LAST-MODIFIED:20250908T164822Z
UID:10008391-1759132800-1759185000@news.csn.edu
SUMMARY:Home is Where
DESCRIPTION:Home is Where by: Brian Higgins \nFri.\, Sept. 26 – Sat.\, Nov. 22\, 2025 \nGallery Talk & Artist Reception:\nTues.\, Sept 30\, 2025 – 6 p.m. \nMonday through Friday 8 a.m. to 10:30 p.m.\nSaturday 8 a.m. to 5 p.m. \nAll CSN art gallery events are free\, family friendly and open to the public. \nFor more information please call: 702.651.4146\nartgallery@csn.edu • www.csn.edu/artgallery \nDirections: The Artspace Gallery is located upstairs above the main entrance lobby of the North Las Vegas Campus of the College of Southern Nevada\n3200 E. Cheyenne Ave. • North Las Vegas\, NV 89030
URL:https://news.csn.edu/event/home-is-where-2/
LOCATION:North Las Vegas campus\, 3200 E. Cheyenne Avenue\, North Las Vegas\, NV\, 89122\, United States
CATEGORIES:Arts
ATTACH;FMTTYPE=image/jpeg:https://news.csn.edu/wp-content/uploads/2025/09/homeiswhere-scaled.jpg
END:VEVENT
BEGIN:VEVENT
DTSTART;TZID=America/Los_Angeles:20250930T080000
DTEND;TZID=America/Los_Angeles:20250930T223000
DTSTAMP:20260420T094547
CREATED:20250908T164855Z
LAST-MODIFIED:20250908T164855Z
UID:10008392-1759219200-1759271400@news.csn.edu
SUMMARY:Home is Where
DESCRIPTION:Home is Where by: Brian Higgins \nFri.\, Sept. 26 – Sat.\, Nov. 22\, 2025 \nGallery Talk & Artist Reception:\nTues.\, Sept 30\, 2025 – 6 p.m. \nMonday through Friday 8 a.m. to 10:30 p.m.\nSaturday 8 a.m. to 5 p.m. \nAll CSN art gallery events are free\, family friendly and open to the public. \nFor more information please call: 702.651.4146\nartgallery@csn.edu • www.csn.edu/artgallery \nDirections: The Artspace Gallery is located upstairs above the main entrance lobby of the North Las Vegas Campus of the College of Southern Nevada\n3200 E. Cheyenne Ave. • North Las Vegas\, NV 89030
URL:https://news.csn.edu/event/home-is-where-3/
LOCATION:CSN North Las Vegas Campus\, 3200 E. Cheyenne Ave\, North Las Vegas\, NV\, 89030\, United States
CATEGORIES:Arts
ATTACH;FMTTYPE=image/jpeg:https://news.csn.edu/wp-content/uploads/2025/09/homeiswhere-scaled.jpg
END:VEVENT
BEGIN:VEVENT
DTSTART;TZID=America/Los_Angeles:20250930T180000
DTEND;TZID=America/Los_Angeles:20250930T200000
DTSTAMP:20260420T094547
CREATED:20250908T160042Z
LAST-MODIFIED:20250908T160042Z
UID:10008389-1759255200-1759262400@news.csn.edu
SUMMARY:CSN ARTSPACE GALLERY PRESENTS: BRIAN HIGGINS ARTIST TALK
DESCRIPTION:The College of Southern Nevada\, School of Arts & Letters\, and Department of Fine Arts is hosting an exhibition of oil paintings that share subtle yet profound narratives that echo the struggles and resilience of the human spirit by Nevada-based artist Brian Higgins.  \nBrian Higgins: HOME IS WHERE exhibition opens on Friday\, September 26\, 2025\, and will run through Saturday\, November 22\, 2025\, in the Artspace Gallery on the North Las Vegas Campus of the College of Southern Nevada. \nA special gallery talk and artist reception with light refreshments will take place in the Artspace Gallery on:  \nTuesday\, September 30\, 2025\, at 6:00 pm. \nCSN’s Artspace Gallery is free\, family-friendly\, and open to the public. Gallery hours are from 8 a.m. to 10:30 p.m. Monday through Friday and 8 a.m. to 5 p.m. Saturday. The Artspace Gallery is upstairs above the main entrance lobby on the North Las Vegas campus\, located at 3200 E. Cheyenne Avenue\, one mile East of I-15 North. This program/project was supported\, in part\, by the Nevada Arts Council\, a state agency\, which receives support from the National Endowment for the Arts\, a federal agency\, and the state of Nevada.” \n \nFor more information\, please call (702) 651-4146\nhttp://www.csn.edu/artgallery
URL:https://news.csn.edu/event/csn-artspace-gallery-presents-brian-higgins-artist-talk/
LOCATION:CSN Artspace Gallery\, 3200 E. Cheyenne Avenue\, North Las Vegas\, 89030\, United States
CATEGORIES:Arts,Community,Cultural Event,Employees,Student life
ATTACH;FMTTYPE=image/jpeg:https://news.csn.edu/wp-content/uploads/2025/09/homeiswhere-scaled.jpg
END:VEVENT
BEGIN:VEVENT
DTSTART;TZID=America/Los_Angeles:20251001T080000
DTEND;TZID=America/Los_Angeles:20251001T223000
DTSTAMP:20260420T094547
CREATED:20250908T165106Z
LAST-MODIFIED:20250908T165106Z
UID:10008393-1759305600-1759357800@news.csn.edu
SUMMARY:Home is Where
DESCRIPTION:Home is Where by: Brian Higgins \nFri.\, Sept. 26 – Sat.\, Nov. 22\, 2025 \nGallery Talk & Artist Reception:\nTues.\, Sept 30\, 2025 – 6 p.m. \nMonday through Friday 8 a.m. to 10:30 p.m.\nSaturday 8 a.m. to 5 p.m. \nAll CSN art gallery events are free\, family friendly and open to the public. \nFor more information please call: 702.651.4146\nartgallery@csn.edu • www.csn.edu/artgallery \nDirections: The Artspace Gallery is located upstairs above the main entrance lobby of the North Las Vegas Campus of the College of Southern Nevada\n3200 E. Cheyenne Ave. • North Las Vegas\, NV 89030
URL:https://news.csn.edu/event/home-is-where-4/
LOCATION:North Las Vegas campus\, 3200 E. Cheyenne Avenue\, North Las Vegas\, NV\, 89122\, United States
CATEGORIES:Arts
ATTACH;FMTTYPE=image/jpeg:https://news.csn.edu/wp-content/uploads/2025/09/homeiswhere-scaled.jpg
END:VEVENT
BEGIN:VEVENT
DTSTART;TZID=America/Los_Angeles:20251002T080000
DTEND;TZID=America/Los_Angeles:20251002T223000
DTSTAMP:20260420T094547
CREATED:20250908T165132Z
LAST-MODIFIED:20250908T165132Z
UID:10008394-1759392000-1759444200@news.csn.edu
SUMMARY:Home is Where
DESCRIPTION:Home is Where by: Brian Higgins \nFri.\, Sept. 26 – Sat.\, Nov. 22\, 2025 \nGallery Talk & Artist Reception:\nTues.\, Sept 30\, 2025 – 6 p.m. \nMonday through Friday 8 a.m. to 10:30 p.m.\nSaturday 8 a.m. to 5 p.m. \nAll CSN art gallery events are free\, family friendly and open to the public. \nFor more information please call: 702.651.4146\nartgallery@csn.edu • www.csn.edu/artgallery \nDirections: The Artspace Gallery is located upstairs above the main entrance lobby of the North Las Vegas Campus of the College of Southern Nevada\n3200 E. Cheyenne Ave. • North Las Vegas\, NV 89030
URL:https://news.csn.edu/event/home-is-where-5/
LOCATION:NV
CATEGORIES:Arts
ATTACH;FMTTYPE=image/jpeg:https://news.csn.edu/wp-content/uploads/2025/09/homeiswhere-scaled.jpg
END:VEVENT
BEGIN:VEVENT
DTSTART;TZID=America/Los_Angeles:20251003T080000
DTEND;TZID=America/Los_Angeles:20251003T223000
DTSTAMP:20260420T094547
CREATED:20250908T165158Z
LAST-MODIFIED:20250908T165158Z
UID:10008395-1759478400-1759530600@news.csn.edu
SUMMARY:Home is Where
DESCRIPTION:Home is Where by: Brian Higgins \nFri.\, Sept. 26 – Sat.\, Nov. 22\, 2025 \nGallery Talk & Artist Reception:\nTues.\, Sept 30\, 2025 – 6 p.m. \nMonday through Friday 8 a.m. to 10:30 p.m.\nSaturday 8 a.m. to 5 p.m. \nAll CSN art gallery events are free\, family friendly and open to the public. \nFor more information please call: 702.651.4146\nartgallery@csn.edu • www.csn.edu/artgallery \nDirections: The Artspace Gallery is located upstairs above the main entrance lobby of the North Las Vegas Campus of the College of Southern Nevada\n3200 E. Cheyenne Ave. • North Las Vegas\, NV 89030
URL:https://news.csn.edu/event/home-is-where-6/
LOCATION:North Las Vegas campus\, 3200 E. Cheyenne Avenue\, North Las Vegas\, NV\, 89122\, United States
ATTACH;FMTTYPE=image/jpeg:https://news.csn.edu/wp-content/uploads/2025/09/homeiswhere-scaled.jpg
END:VEVENT
END:VCALENDAR