BEGIN:VCALENDAR
VERSION:2.0
PRODID:-//College of Southern Nevada - ECPv6.15.13//NONSGML v1.0//EN
CALSCALE:GREGORIAN
METHOD:PUBLISH
X-ORIGINAL-URL:https://news.csn.edu
X-WR-CALDESC:Events for College of Southern Nevada
REFRESH-INTERVAL;VALUE=DURATION:PT1H
X-Robots-Tag:noindex
X-PUBLISHED-TTL:PT1H
BEGIN:VTIMEZONE
TZID:America/Los_Angeles
BEGIN:DAYLIGHT
TZOFFSETFROM:-0800
TZOFFSETTO:-0700
TZNAME:PDT
DTSTART:20250309T100000
END:DAYLIGHT
BEGIN:STANDARD
TZOFFSETFROM:-0700
TZOFFSETTO:-0800
TZNAME:PST
DTSTART:20251102T090000
END:STANDARD
BEGIN:DAYLIGHT
TZOFFSETFROM:-0800
TZOFFSETTO:-0700
TZNAME:PDT
DTSTART:20260308T100000
END:DAYLIGHT
BEGIN:STANDARD
TZOFFSETFROM:-0700
TZOFFSETTO:-0800
TZNAME:PST
DTSTART:20261101T090000
END:STANDARD
BEGIN:DAYLIGHT
TZOFFSETFROM:-0800
TZOFFSETTO:-0700
TZNAME:PDT
DTSTART:20270314T100000
END:DAYLIGHT
BEGIN:STANDARD
TZOFFSETFROM:-0700
TZOFFSETTO:-0800
TZNAME:PST
DTSTART:20271107T090000
END:STANDARD
END:VTIMEZONE
BEGIN:VTIMEZONE
TZID:UTC
BEGIN:STANDARD
TZOFFSETFROM:+0000
TZOFFSETTO:+0000
TZNAME:UTC
DTSTART:20250101T000000
END:STANDARD
END:VTIMEZONE
BEGIN:VEVENT
DTSTART;TZID=America/Los_Angeles:20260421T080000
DTEND;TZID=America/Los_Angeles:20260421T170000
DTSTAMP:20260421T012645
CREATED:20260131T000405Z
LAST-MODIFIED:20260131T000405Z
UID:10009212-1776758400-1776790800@news.csn.edu
SUMMARY:To The Left
DESCRIPTION:Participating Artists:\nAimee Coello\, Camile Lovaz\, Rose Miller\, Niko Navalta\, Jessica Samaniego\, Bella Sanabria\, Montaysia Yuneek and Arianna Zaremehrjardi \nFri.\, Feb. 13 – Sat.\, June 20\, 2026\nPanel Discussion and Artist Reception: Thurs.\, June 11 at 6 p.m.\nThe Debra March Center of Excellence\n2200 Via Inspirada\, Henderson\, NV 89044 \nGallery Hours:\nMonday through Friday 8 a.m. to 5 p.m.\nGallery is closed Saturday\, Sunday\, Nevada state holidays and between CSN academic terms.\nAll CSN art gallery events are free\, family friendly and open to the public. \nFor exhibition information\, please email: artgallery@csn.edu or call 702.651.4146\nFor building access and hours\,\nplease call 702-651-3727 | Website: www.csn.edu/artgallery
URL:https://news.csn.edu/event/to-the-left-48/
LOCATION:Debra March Center of Excellence\, 2200 Via Inspirada\, Henderson\, NV\, 89044\, United States
CATEGORIES:Arts
ATTACH;FMTTYPE=image/jpeg:https://news.csn.edu/wp-content/uploads/2026/01/to-the-left-flyer.jpg
END:VEVENT
BEGIN:VEVENT
DTSTART;TZID=America/Los_Angeles:20260421T080000
DTEND;TZID=America/Los_Angeles:20260421T223000
DTSTAMP:20260421T012645
CREATED:20260212T194601Z
LAST-MODIFIED:20260212T194601Z
UID:10009371-1776758400-1776810600@news.csn.edu
SUMMARY:Abstracting the View
DESCRIPTION:Shawn Michelle Smith \nFriday\, March 13 – Saturday\, April 25\, 2026 \nThe Artspace Gallery \nArtspace Gallery Hours:\nMON – FRI 8 AM – 10:30 PM\nSATURDAY 8 AM – 5 PM
URL:https://news.csn.edu/event/abstracting-the-view-34/
LOCATION:CSN Artspace Gallery\, 3200 E. Cheyenne Avenue\, North Las Vegas\, 89030\, United States
CATEGORIES:Arts
ATTACH;FMTTYPE=image/jpeg:https://news.csn.edu/wp-content/uploads/2026/02/abstractingtheview.jpg
END:VEVENT
BEGIN:VEVENT
DTSTART;TZID=America/Los_Angeles:20260421T081500
DTEND;TZID=America/Los_Angeles:20260421T084500
DTSTAMP:20260421T012645
CREATED:20251125T203446Z
LAST-MODIFIED:20251125T203446Z
UID:10008874-1776759300-1776761100@news.csn.edu
SUMMARY:Biscuits & Business
DESCRIPTION:﻿Biscuits & Business with the Career Services Director \nMeet the Career Services Director to get an insider look at all the resources available to you to ensure you maximize your time here and successfully launch your professional Career. \nQuestions?: Email career.services@csn.edu \ntinyurl.com/Sp26BiscuitsAndBusiness
URL:https://news.csn.edu/event/biscuits-business-14/
CATEGORIES:Community
ATTACH;FMTTYPE=image/jpeg:https://news.csn.edu/wp-content/uploads/2025/11/biscuitsbusiness.jpg
END:VEVENT
BEGIN:VEVENT
DTSTART;TZID=America/Los_Angeles:20260421T090000
DTEND;TZID=America/Los_Angeles:20260421T180000
DTSTAMP:20260421T012645
CREATED:20260212T171248Z
LAST-MODIFIED:20260212T171248Z
UID:10009326-1776762000-1776794400@news.csn.edu
SUMMARY:Transmitting Figures
DESCRIPTION:Sapira Cheuk \nFriday\, February 27 – Saturday\, May 2\, 2026 \nGallery Talk & Artist Reception:\nWednesday\, April 1 • 6 p.m. \nGallery Hours:\nMonday through Friday • 9:00 a.m. to 6:00 p.m.\nSaturday 10:00 a.m. to 4:00 p.m.\nAll CSN art gallery events are tree\, family friendly & open to the public. \nFor more information please call: 702.651.4146\nartgallery@csn.edu • www.csn.edu/artgallery \nDirections: The Fine Arts Gallery is located adjacent to the Nicholas J. Horn Theatre Lobby on the North Las Vegas Campus of the College of Southern Nevada\n3200 E. Cheyenne Ave. • North Las Vegas\, NV 89030
URL:https://news.csn.edu/event/transmitting-figures-46/
LOCATION:CSN Fine Arts Gallery\, 3200 E. Cheyenne Avenue\, North Las Vegas\, 89030\, United States
CATEGORIES:Arts
ATTACH;FMTTYPE=image/jpeg:https://news.csn.edu/wp-content/uploads/2026/02/transmitting-figures.jpg
END:VEVENT
BEGIN:VEVENT
DTSTART;TZID=America/Los_Angeles:20260421T113000
DTEND;TZID=America/Los_Angeles:20260421T140000
DTSTAMP:20260421T012645
CREATED:20260415T204825Z
LAST-MODIFIED:20260415T204825Z
UID:10010857-1776771000-1776780000@news.csn.edu
SUMMARY:Paris is Burning: Film and Discussion
DESCRIPTION:CSN’s Gender and Sexuality Alliance is hosting a film discussion event on the 1990 cult-classic documentary “Paris is Burning\,” which reflects New York’s Drag Ball culture\, or Vogue\, examining identity\, gender\, race\, and class. There will be a group discussion to share thoughts and feelings after the premiere\, focusing on what happened to the people following its release\, criticism of the film\, and the cultural changes. Food and drinks will be provided!
URL:https://news.csn.edu/event/paris-is-burning-film-and-discussion/
LOCATION:Charleston Student Union\, 6375 W. Charleston Blvd\, Las Vegas\, NV\, 89146\, United States
CATEGORIES:Arts,Community,Cultural Event,Employees,Student life
ATTACH;FMTTYPE=image/jpeg:https://news.csn.edu/wp-content/uploads/2026/04/CSN-Paris-Is-Burning-Flyer-1.jpg
END:VEVENT
BEGIN:VEVENT
DTSTART;TZID=America/Los_Angeles:20260421T123000
DTEND;TZID=America/Los_Angeles:20260421T150000
DTSTAMP:20260421T012645
CREATED:20260315T194557Z
LAST-MODIFIED:20260315T194557Z
UID:10009426-1776774600-1776783600@news.csn.edu
SUMMARY:CAPS Magic Comedy Hour
DESCRIPTION:CSN’s Counseling and Psychological Services is hosting three Magic Comedy Hour events at the WC Campus featuring professional comedy and magic by Adam London & Rudolph Chavez\, along with pizza\, giveaways\, and light refreshments for a fun\, welcoming environment that promotes student engagement and awareness of campus mental health and support resources! Bring your fellow Coyotes to the West Charleston Campus Student Union on April 21st at 12:30 PM\, with the show starting at 1 PM!
URL:https://news.csn.edu/event/caps-magic-comedy-hour/
LOCATION:Charleston Student Union\, 6375 W. Charleston Blvd\, Las Vegas\, NV\, 89146\, United States
CATEGORIES:Arts,Community,Cultural Event,Employees,Student life
ATTACH;FMTTYPE=image/png:https://news.csn.edu/wp-content/uploads/2026/03/CAPS-Magic-Comedy-Hour-WC-4-21-26-2.png
END:VEVENT
BEGIN:VEVENT
DTSTART;TZID=America/Los_Angeles:20260421T130000
DTEND;TZID=America/Los_Angeles:20260421T140000
DTSTAMP:20260421T012645
CREATED:20251216T011514Z
LAST-MODIFIED:20251216T011514Z
UID:10008933-1776776400-1776780000@news.csn.edu
SUMMARY:CTEAP Info Session - Spring 2026
DESCRIPTION:The Career & Technical Education Assistance Program (CTEAP) provides textbooks\, uniforms\, tools\, assistance and more to students interested in non-traditional occupations in the career and technical education fields. \nTo learn more\, attend an information session by RSVP at tinyurl.com/Sp26CTEAPInfoSession
URL:https://news.csn.edu/event/cteap-info-session-spring-2026/2026-04-21/
LOCATION:CSN North Las Vegas Campus\, 3200 E. Cheyenne Ave\, North Las Vegas\, NV\, 89030\, United States
CATEGORIES:Community,Employees,Student life
ATTACH;FMTTYPE=image/png:https://news.csn.edu/wp-content/uploads/2025/12/7-1.png
END:VEVENT
BEGIN:VEVENT
DTSTART;TZID=America/Los_Angeles:20260422T080000
DTEND;TZID=America/Los_Angeles:20260422T170000
DTSTAMP:20260421T012645
CREATED:20260131T000412Z
LAST-MODIFIED:20260131T000412Z
UID:10009213-1776844800-1776877200@news.csn.edu
SUMMARY:To The Left
DESCRIPTION:Participating Artists:\nAimee Coello\, Camile Lovaz\, Rose Miller\, Niko Navalta\, Jessica Samaniego\, Bella Sanabria\, Montaysia Yuneek and Arianna Zaremehrjardi \nFri.\, Feb. 13 – Sat.\, June 20\, 2026\nPanel Discussion and Artist Reception: Thurs.\, June 11 at 6 p.m.\nThe Debra March Center of Excellence\n2200 Via Inspirada\, Henderson\, NV 89044 \nGallery Hours:\nMonday through Friday 8 a.m. to 5 p.m.\nGallery is closed Saturday\, Sunday\, Nevada state holidays and between CSN academic terms.\nAll CSN art gallery events are free\, family friendly and open to the public. \nFor exhibition information\, please email: artgallery@csn.edu or call 702.651.4146\nFor building access and hours\,\nplease call 702-651-3727 | Website: www.csn.edu/artgallery
URL:https://news.csn.edu/event/to-the-left-49/
LOCATION:Debra March Center of Excellence\, 2200 Via Inspirada\, Henderson\, NV\, 89044\, United States
CATEGORIES:Arts
ATTACH;FMTTYPE=image/jpeg:https://news.csn.edu/wp-content/uploads/2026/01/to-the-left-flyer.jpg
END:VEVENT
BEGIN:VEVENT
DTSTART;TZID=America/Los_Angeles:20260422T080000
DTEND;TZID=America/Los_Angeles:20260422T223000
DTSTAMP:20260421T012645
CREATED:20260212T194605Z
LAST-MODIFIED:20260212T194605Z
UID:10009372-1776844800-1776897000@news.csn.edu
SUMMARY:Abstracting the View
DESCRIPTION:Shawn Michelle Smith \nFriday\, March 13 – Saturday\, April 25\, 2026 \nThe Artspace Gallery \nArtspace Gallery Hours:\nMON – FRI 8 AM – 10:30 PM\nSATURDAY 8 AM – 5 PM
URL:https://news.csn.edu/event/abstracting-the-view-35/
LOCATION:CSN Artspace Gallery\, 3200 E. Cheyenne Avenue\, North Las Vegas\, 89030\, United States
CATEGORIES:Arts
ATTACH;FMTTYPE=image/jpeg:https://news.csn.edu/wp-content/uploads/2026/02/abstractingtheview.jpg
END:VEVENT
BEGIN:VEVENT
DTSTART;TZID=America/Los_Angeles:20260422T090000
DTEND;TZID=America/Los_Angeles:20260422T180000
DTSTAMP:20260421T012645
CREATED:20260212T171252Z
LAST-MODIFIED:20260212T171252Z
UID:10009328-1776848400-1776880800@news.csn.edu
SUMMARY:Transmitting Figures
DESCRIPTION:Sapira Cheuk \nFriday\, February 27 – Saturday\, May 2\, 2026 \nGallery Talk & Artist Reception:\nWednesday\, April 1 • 6 p.m. \nGallery Hours:\nMonday through Friday • 9:00 a.m. to 6:00 p.m.\nSaturday 10:00 a.m. to 4:00 p.m.\nAll CSN art gallery events are tree\, family friendly & open to the public. \nFor more information please call: 702.651.4146\nartgallery@csn.edu • www.csn.edu/artgallery \nDirections: The Fine Arts Gallery is located adjacent to the Nicholas J. Horn Theatre Lobby on the North Las Vegas Campus of the College of Southern Nevada\n3200 E. Cheyenne Ave. • North Las Vegas\, NV 89030
URL:https://news.csn.edu/event/transmitting-figures-47/
LOCATION:CSN Fine Arts Gallery\, 3200 E. Cheyenne Avenue\, North Las Vegas\, 89030\, United States
CATEGORIES:Arts
ATTACH;FMTTYPE=image/jpeg:https://news.csn.edu/wp-content/uploads/2026/02/transmitting-figures.jpg
END:VEVENT
BEGIN:VEVENT
DTSTART;TZID=America/Los_Angeles:20260422T120000
DTEND;TZID=America/Los_Angeles:20260422T140000
DTSTAMP:20260421T012645
CREATED:20260123T002740Z
LAST-MODIFIED:20260123T002740Z
UID:10009077-1776859200-1776866400@news.csn.edu
SUMMARY:CSN Sophomore Survival Series
DESCRIPTION:Still need another 30 more credits before you graduate? Never fear! CSN’s Sophomore Survival Series is here to help YOU with workshops designed to discover the tools you need to finish college strong!  Join us in person for free supplies or online through livestream! Scan the QR code to register for a workshop today! \nStudy Smarter\, Work Harder \n\nFebruary 11: North Las Vegas Campus\, June Whitley Student Lounge @ 1 PM – 2 PM\nFebruary 23: Charleston Campus\, Student Union Ballroom @ 11 AM – 12 PM\n\nThe Resource Roadmap \n\nMarch 10: North Las Vegas Campus\, June Whitley Student Lounge @ 1 PM – 2 PM\nMarch 25: Charleston Campus\, Student Union Ballroom @ 11 AM – 12 PM\n\nThe Finish Line Strategy \n\nApril 6: North Las Vegas Campus\, June Whitley Student Lounge @ 1 PM – 2 PM\nApril 14: Charleston Campus\, Student Union Ballroom @ 11 AM – 12 PM\n\nSpring 2026 Sophomore Special Event \n\nApril 22: North Las Vegas Campus\, Student Union Ballroom  @ 12 PM – 2 PM
URL:https://news.csn.edu/event/csn-sophomore-survival-series/2026-04-22/
LOCATION:June Whitley Student Lounge\, 3200 N. Cheyenne Avenue\, North Las Vegas\, NV\, 89030\, United States
CATEGORIES:Arts,Athletics,Community,Cultural Event,Sports,Student life
ATTACH;FMTTYPE=image/png:https://news.csn.edu/wp-content/uploads/2026/01/Sophomore-Survival-Series-Workshop-Flyer-1.png
END:VEVENT
BEGIN:VEVENT
DTSTART;TZID=America/Los_Angeles:20260422T120000
DTEND;TZID=America/Los_Angeles:20260422T140000
DTSTAMP:20260421T012645
CREATED:20260313T153750Z
LAST-MODIFIED:20260313T153750Z
UID:10009422-1776859200-1776866400@news.csn.edu
SUMMARY:CSN Sophomore Social Spring 26'
DESCRIPTION:Calling all Sophomore Coyotes! CSN is hosting a social event featuring Kahoot games\, some Raising Cane’s\, and live music from DJ Sincere! Head over to the North Las Vegas Campus Student Union Ballroom on Wednesday\, April 22nd\, at 12 PM for a fun afternoon with friends and faculty!
URL:https://news.csn.edu/event/csn-sophomore-social-spring-26/
LOCATION:CSN North Las Vegas Student Union\, 3200 E. Cheyenne Avenue\, North Las Vegas\, NV\, 89030\, United States
CATEGORIES:Arts,Community,Cultural Event,Employees,Student life
ATTACH;FMTTYPE=image/png:https://news.csn.edu/wp-content/uploads/2026/03/Spring-2026-Sophomore-Social-Save-the-Date.png
END:VEVENT
BEGIN:VEVENT
DTSTART;TZID=America/Los_Angeles:20260422T120000
DTEND;TZID=America/Los_Angeles:20260422T160000
DTSTAMP:20260421T012645
CREATED:20260415T191956Z
LAST-MODIFIED:20260415T191956Z
UID:10010851-1776859200-1776873600@news.csn.edu
SUMMARY:Chess Tournament
DESCRIPTION:The Den of West Charleston is hosting a chess tournament on April 22nd at 12 PM in collaboration with ASCSN for all chess lovers at CSN! There will be pizza and drinks for all participants and attendees\, plus special prizes for the top 3 players! Come and hang out with your fellow Coyotes at The Den and learn some chess!
URL:https://news.csn.edu/event/chess-tournament/
LOCATION:Charleston Student Union\, 6375 W. Charleston Blvd\, Las Vegas\, NV\, 89146\, United States
CATEGORIES:Arts,Community,Student life
ATTACH;FMTTYPE=image/png:https://news.csn.edu/wp-content/uploads/2026/04/chess-contest.png
END:VEVENT
BEGIN:VEVENT
DTSTART;TZID=America/Los_Angeles:20260422T130000
DTEND;TZID=America/Los_Angeles:20260422T140000
DTSTAMP:20260421T012645
CREATED:20260128T231523Z
LAST-MODIFIED:20260324T144535Z
UID:10009106-1776862800-1776866400@news.csn.edu
SUMMARY:Yoga for All Levels
DESCRIPTION:Join us for a relaxing\, all levels yoga class designed to reduce stress\, improve flexibility\, and support overall well-being! The yoga class begins on February 11 and runs through May 13 on Wednesdays at 1PM at the North Las Vegas Campus Bldg. G Rm. 115! Students may join at any time\, bring a yoga mat and a water bottle. Limited mats available\, no experience necessary\, and all abilities are welcomed!
URL:https://news.csn.edu/event/yoga-for-all-levels/2026-04-22/
LOCATION:CSN North Las Vegas Campus G Building\, 3200 East Cheyenne Avenue\, North Las Vegas\, NV\, 89030\, United States
CATEGORIES:Arts,Athletics,Community,Cultural Event,Employees,Sports,Student life
ATTACH;FMTTYPE=image/png:https://news.csn.edu/wp-content/uploads/2026/01/Yoga.png
END:VEVENT
BEGIN:VEVENT
DTSTART;TZID=America/Los_Angeles:20260422T150000
DTEND;TZID=America/Los_Angeles:20260422T160000
DTSTAMP:20260421T012645
CREATED:20250822T165932Z
LAST-MODIFIED:20250822T170007Z
UID:10008350-1776870000-1776873600@news.csn.edu
SUMMARY:Thrive Support Group (CAPS) - Henderson
DESCRIPTION:
URL:https://news.csn.edu/event/thrive-support-group-caps-henderson/2026-04-22/
LOCATION:Henderson Campus\, 700 College Drive\, Henderson\, NV\, 89146\, United States
ATTACH;FMTTYPE=image/png:https://news.csn.edu/wp-content/uploads/2025/08/Fa25-Thrive-Support-Group-HEN.png
END:VEVENT
BEGIN:VEVENT
DTSTART;TZID=America/Los_Angeles:20260423T080000
DTEND;TZID=America/Los_Angeles:20260423T170000
DTSTAMP:20260421T012645
CREATED:20260131T000419Z
LAST-MODIFIED:20260131T000419Z
UID:10009214-1776931200-1776963600@news.csn.edu
SUMMARY:To The Left
DESCRIPTION:Participating Artists:\nAimee Coello\, Camile Lovaz\, Rose Miller\, Niko Navalta\, Jessica Samaniego\, Bella Sanabria\, Montaysia Yuneek and Arianna Zaremehrjardi \nFri.\, Feb. 13 – Sat.\, June 20\, 2026\nPanel Discussion and Artist Reception: Thurs.\, June 11 at 6 p.m.\nThe Debra March Center of Excellence\n2200 Via Inspirada\, Henderson\, NV 89044 \nGallery Hours:\nMonday through Friday 8 a.m. to 5 p.m.\nGallery is closed Saturday\, Sunday\, Nevada state holidays and between CSN academic terms.\nAll CSN art gallery events are free\, family friendly and open to the public. \nFor exhibition information\, please email: artgallery@csn.edu or call 702.651.4146\nFor building access and hours\,\nplease call 702-651-3727 | Website: www.csn.edu/artgallery
URL:https://news.csn.edu/event/to-the-left-50/
LOCATION:Debra March Center of Excellence\, 2200 Via Inspirada\, Henderson\, NV\, 89044\, United States
CATEGORIES:Arts
ATTACH;FMTTYPE=image/jpeg:https://news.csn.edu/wp-content/uploads/2026/01/to-the-left-flyer.jpg
END:VEVENT
BEGIN:VEVENT
DTSTART;TZID=America/Los_Angeles:20260423T080000
DTEND;TZID=America/Los_Angeles:20260423T223000
DTSTAMP:20260421T012645
CREATED:20260212T194609Z
LAST-MODIFIED:20260212T194609Z
UID:10009373-1776931200-1776983400@news.csn.edu
SUMMARY:Abstracting the View
DESCRIPTION:Shawn Michelle Smith \nFriday\, March 13 – Saturday\, April 25\, 2026 \nThe Artspace Gallery \nArtspace Gallery Hours:\nMON – FRI 8 AM – 10:30 PM\nSATURDAY 8 AM – 5 PM
URL:https://news.csn.edu/event/abstracting-the-view-36/
LOCATION:CSN Artspace Gallery\, 3200 E. Cheyenne Avenue\, North Las Vegas\, 89030\, United States
CATEGORIES:Arts
ATTACH;FMTTYPE=image/jpeg:https://news.csn.edu/wp-content/uploads/2026/02/abstractingtheview.jpg
END:VEVENT
BEGIN:VEVENT
DTSTART;TZID=America/Los_Angeles:20260423T090000
DTEND;TZID=America/Los_Angeles:20260423T180000
DTSTAMP:20260421T012645
CREATED:20260212T171256Z
LAST-MODIFIED:20260212T171256Z
UID:10009327-1776934800-1776967200@news.csn.edu
SUMMARY:Transmitting Figures
DESCRIPTION:Sapira Cheuk \nFriday\, February 27 – Saturday\, May 2\, 2026 \nGallery Talk & Artist Reception:\nWednesday\, April 1 • 6 p.m. \nGallery Hours:\nMonday through Friday • 9:00 a.m. to 6:00 p.m.\nSaturday 10:00 a.m. to 4:00 p.m.\nAll CSN art gallery events are tree\, family friendly & open to the public. \nFor more information please call: 702.651.4146\nartgallery@csn.edu • www.csn.edu/artgallery \nDirections: The Fine Arts Gallery is located adjacent to the Nicholas J. Horn Theatre Lobby on the North Las Vegas Campus of the College of Southern Nevada\n3200 E. Cheyenne Ave. • North Las Vegas\, NV 89030
URL:https://news.csn.edu/event/transmitting-figures-48/
LOCATION:CSN Fine Arts Gallery\, 3200 E. Cheyenne Avenue\, North Las Vegas\, 89030\, United States
CATEGORIES:Arts
ATTACH;FMTTYPE=image/jpeg:https://news.csn.edu/wp-content/uploads/2026/02/transmitting-figures.jpg
END:VEVENT
BEGIN:VEVENT
DTSTART;TZID=America/Los_Angeles:20260423T183000
DTEND;TZID=America/Los_Angeles:20260423T183000
DTSTAMP:20260421T012645
CREATED:20260327T163349Z
LAST-MODIFIED:20260327T163503Z
UID:10010504-1776969000-1776969000@news.csn.edu
SUMMARY:Community Town Hall: Northwest Campus Activation
DESCRIPTION:Location: \nCentennial Hills \nCommunity Center / YMCA \n6601 N. Buffalo Dr.\, \nLas Vegas\, NV 89131
URL:https://news.csn.edu/event/community-town-hall-northwest-campus-activation/
LOCATION:Centennial Hills  Community Center / YMCA
CATEGORIES:Community
ATTACH;FMTTYPE=image/jpeg:https://news.csn.edu/wp-content/uploads/2026/03/Event-Flyer-CSN-NW-Town-Hall-scaled.jpg
END:VEVENT
BEGIN:VEVENT
DTSTART;TZID=America/Los_Angeles:20260424T080000
DTEND;TZID=America/Los_Angeles:20260424T170000
DTSTAMP:20260421T012645
CREATED:20260131T000427Z
LAST-MODIFIED:20260131T000427Z
UID:10009215-1777017600-1777050000@news.csn.edu
SUMMARY:To The Left
DESCRIPTION:Participating Artists:\nAimee Coello\, Camile Lovaz\, Rose Miller\, Niko Navalta\, Jessica Samaniego\, Bella Sanabria\, Montaysia Yuneek and Arianna Zaremehrjardi \nFri.\, Feb. 13 – Sat.\, June 20\, 2026\nPanel Discussion and Artist Reception: Thurs.\, June 11 at 6 p.m.\nThe Debra March Center of Excellence\n2200 Via Inspirada\, Henderson\, NV 89044 \nGallery Hours:\nMonday through Friday 8 a.m. to 5 p.m.\nGallery is closed Saturday\, Sunday\, Nevada state holidays and between CSN academic terms.\nAll CSN art gallery events are free\, family friendly and open to the public. \nFor exhibition information\, please email: artgallery@csn.edu or call 702.651.4146\nFor building access and hours\,\nplease call 702-651-3727 | Website: www.csn.edu/artgallery
URL:https://news.csn.edu/event/to-the-left-51/
LOCATION:Debra March Center of Excellence\, 2200 Via Inspirada\, Henderson\, NV\, 89044\, United States
CATEGORIES:Arts
ATTACH;FMTTYPE=image/jpeg:https://news.csn.edu/wp-content/uploads/2026/01/to-the-left-flyer.jpg
END:VEVENT
BEGIN:VEVENT
DTSTART;TZID=America/Los_Angeles:20260424T080000
DTEND;TZID=America/Los_Angeles:20260424T223000
DTSTAMP:20260421T012645
CREATED:20260212T194613Z
LAST-MODIFIED:20260212T194613Z
UID:10009374-1777017600-1777069800@news.csn.edu
SUMMARY:Abstracting the View
DESCRIPTION:Shawn Michelle Smith \nFriday\, March 13 – Saturday\, April 25\, 2026 \nThe Artspace Gallery \nArtspace Gallery Hours:\nMON – FRI 8 AM – 10:30 PM\nSATURDAY 8 AM – 5 PM
URL:https://news.csn.edu/event/abstracting-the-view-37/
LOCATION:CSN Artspace Gallery\, 3200 E. Cheyenne Avenue\, North Las Vegas\, 89030\, United States
CATEGORIES:Arts
ATTACH;FMTTYPE=image/jpeg:https://news.csn.edu/wp-content/uploads/2026/02/abstractingtheview.jpg
END:VEVENT
BEGIN:VEVENT
DTSTART;TZID=America/Los_Angeles:20260424T090000
DTEND;TZID=America/Los_Angeles:20260424T180000
DTSTAMP:20260421T012645
CREATED:20260212T171301Z
LAST-MODIFIED:20260212T171301Z
UID:10009329-1777021200-1777053600@news.csn.edu
SUMMARY:Transmitting Figures
DESCRIPTION:Sapira Cheuk \nFriday\, February 27 – Saturday\, May 2\, 2026 \nGallery Talk & Artist Reception:\nWednesday\, April 1 • 6 p.m. \nGallery Hours:\nMonday through Friday • 9:00 a.m. to 6:00 p.m.\nSaturday 10:00 a.m. to 4:00 p.m.\nAll CSN art gallery events are tree\, family friendly & open to the public. \nFor more information please call: 702.651.4146\nartgallery@csn.edu • www.csn.edu/artgallery \nDirections: The Fine Arts Gallery is located adjacent to the Nicholas J. Horn Theatre Lobby on the North Las Vegas Campus of the College of Southern Nevada\n3200 E. Cheyenne Ave. • North Las Vegas\, NV 89030
URL:https://news.csn.edu/event/transmitting-figures-49/
LOCATION:CSN Fine Arts Gallery\, 3200 E. Cheyenne Avenue\, North Las Vegas\, 89030\, United States
CATEGORIES:Arts
ATTACH;FMTTYPE=image/jpeg:https://news.csn.edu/wp-content/uploads/2026/02/transmitting-figures.jpg
END:VEVENT
BEGIN:VEVENT
DTSTART;TZID=America/Los_Angeles:20260424T110000
DTEND;TZID=America/Los_Angeles:20260424T130000
DTSTAMP:20260421T012645
CREATED:20251223T054345Z
LAST-MODIFIED:20251223T054345Z
UID:10008980-1777028400-1777035600@news.csn.edu
SUMMARY:Spring 2026 ASCSN Senate Meetings
DESCRIPTION:ASCSN advocates for the academic and social success of students by promoting inclusivity and connecting them to community resources. Come join us for an informative meeting of promoting the success of CSN Students in campus life\, clubs\, organizations and community involvement!
URL:https://news.csn.edu/event/spring-2026-ascsn-senate-meetings/2026-04-24/
LOCATION:Charleston Campus Student Union Room 130\, 6375 W. Charleston\, Las Vegas\, 89146\, United States
CATEGORIES:Community,Cultural Event,Student life
ATTACH;FMTTYPE=image/png:https://news.csn.edu/wp-content/uploads/2025/12/ASCSN-Sp26-Senate-Meetings.png
END:VEVENT
BEGIN:VEVENT
DTSTART;TZID=America/Los_Angeles:20260424T160000
DTEND;TZID=America/Los_Angeles:20260424T180000
DTSTAMP:20260421T012645
CREATED:20260313T160311Z
LAST-MODIFIED:20260313T160311Z
UID:10009424-1777046400-1777053600@news.csn.edu
SUMMARY:Faculty & Staff Volleyball Tournament
DESCRIPTION:Calling all faculty and staff! CSN is organizing a volleyball tournament at the North Las Vegas Campus Sports Center on April 24th at 4 PM! 6-8 people per team\, single elimination\, and 15-minute games each round! Register for this event at tinyurl.com/CSNVolleyball2026!
URL:https://news.csn.edu/event/faculty-staff-volleyball-tournament/
LOCATION:North Las Vegas Sports Center\, 3200 East Cheyenne Avenue\, Las Vegas\, NV\, 89122\, United States
CATEGORIES:Athletics,Community,Cultural Event,Employees,Sports,Student life
ATTACH;FMTTYPE=image/png:https://news.csn.edu/wp-content/uploads/2026/03/Faculty-Staff-Volleyball-Tournament-Mar2026.png
END:VEVENT
BEGIN:VEVENT
DTSTART;TZID=UTC:20260424T190000
DTEND;TZID=UTC:20260424T210000
DTSTAMP:20260421T012645
CREATED:20251227T063459Z
LAST-MODIFIED:20251227T063459Z
UID:10009003-1777057200-1777064400@news.csn.edu
SUMMARY:College of Southern Nevada Softball vs Yavapai College
DESCRIPTION:College of Southern Nevada Softball vs Yavapai College
URL:https://news.csn.edu/event/college-of-southern-nevada-softball-vs-yavapai-college-2/
LOCATION:Henderson\, NV\, Lady Coyote Softball Field
END:VEVENT
BEGIN:VEVENT
DTSTART;TZID=America/Los_Angeles:20260424T190000
DTEND;TZID=America/Los_Angeles:20260424T210000
DTSTAMP:20260421T012645
CREATED:20260128T183116Z
LAST-MODIFIED:20260128T183116Z
UID:10009087-1777057200-1777064400@news.csn.edu
SUMMARY:CSN Spring Formal Dance Concert
DESCRIPTION:Tickets available to purchase online at: www.csn.edu/pac\n$10 General Admission\n$5 Seniors/Students\nCSN Students Free
URL:https://news.csn.edu/event/csn-spring-formal-dance-concert/
LOCATION:CSN Performing Arts Center Horn Theatre\, 3200 E. Cheyenne Avenue\, North Las Vegas\, NV\, 89030\, United States
CATEGORIES:Arts,Community,Cultural Event,Employees,Student life
ATTACH;FMTTYPE=image/jpeg:https://news.csn.edu/wp-content/uploads/2026/01/S26-Formal-Dance-calendar-graphic-scaled.jpg
END:VEVENT
BEGIN:VEVENT
DTSTART;TZID=UTC:20260424T210000
DTEND;TZID=UTC:20260424T230000
DTSTAMP:20260421T012645
CREATED:20251227T063459Z
LAST-MODIFIED:20251227T063459Z
UID:10009004-1777064400-1777071600@news.csn.edu
SUMMARY:College of Southern Nevada Softball vs Yavapai College
DESCRIPTION:College of Southern Nevada Softball vs Yavapai College
URL:https://news.csn.edu/event/college-of-southern-nevada-softball-vs-yavapai-college-3/
LOCATION:Henderson\, NV\, Lady Coyote Softball Field
END:VEVENT
BEGIN:VEVENT
DTSTART;TZID=UTC:20260424T210000
DTEND;TZID=UTC:20260425T000000
DTSTAMP:20260421T012645
CREATED:20251227T121530Z
LAST-MODIFIED:20251227T121530Z
UID:10009054-1777064400-1777075200@news.csn.edu
SUMMARY:College of Southern Nevada Baseball vs Arizona Western College
DESCRIPTION:College of Southern Nevada Baseball vs Arizona Western College
URL:https://news.csn.edu/event/college-of-southern-nevada-baseball-vs-arizona-western-college-2/
LOCATION:Henderson\, NV\, Morse Stadium
CATEGORIES:Baseball
END:VEVENT
BEGIN:VEVENT
DTSTART;TZID=UTC:20260424T233000
DTEND;TZID=UTC:20260425T023000
DTSTAMP:20260421T012645
CREATED:20251227T121530Z
LAST-MODIFIED:20251227T121530Z
UID:10009055-1777073400-1777084200@news.csn.edu
SUMMARY:College of Southern Nevada Baseball vs Arizona Western College
DESCRIPTION:College of Southern Nevada Baseball vs Arizona Western College
URL:https://news.csn.edu/event/college-of-southern-nevada-baseball-vs-arizona-western-college-3/
LOCATION:Henderson\, NV\, Morse Stadium
CATEGORIES:Baseball
END:VEVENT
BEGIN:VEVENT
DTSTART;TZID=America/Los_Angeles:20260425T080000
DTEND;TZID=America/Los_Angeles:20260425T170000
DTSTAMP:20260421T012645
CREATED:20260212T194619Z
LAST-MODIFIED:20260212T194619Z
UID:10009375-1777104000-1777136400@news.csn.edu
SUMMARY:Abstracting the View
DESCRIPTION:Shawn Michelle Smith \nFriday\, March 13 – Saturday\, April 25\, 2026 \nThe Artspace Gallery \nArtspace Gallery Hours:\nMON – FRI 8 AM – 10:30 PM\nSATURDAY 8 AM – 5 PM
URL:https://news.csn.edu/event/abstracting-the-view-38/
LOCATION:CSN Artspace Gallery\, 3200 E. Cheyenne Avenue\, North Las Vegas\, 89030\, United States
CATEGORIES:Arts
ATTACH;FMTTYPE=image/jpeg:https://news.csn.edu/wp-content/uploads/2026/02/abstractingtheview.jpg
END:VEVENT
END:VCALENDAR