BEGIN:VCALENDAR
VERSION:2.0
PRODID:-//College of Southern Nevada - ECPv6.15.13//NONSGML v1.0//EN
CALSCALE:GREGORIAN
METHOD:PUBLISH
X-WR-CALNAME:College of Southern Nevada
X-ORIGINAL-URL:https://news.csn.edu
X-WR-CALDESC:Events for College of Southern Nevada
REFRESH-INTERVAL;VALUE=DURATION:PT1H
X-Robots-Tag:noindex
X-PUBLISHED-TTL:PT1H
BEGIN:VTIMEZONE
TZID:America/Los_Angeles
BEGIN:DAYLIGHT
TZOFFSETFROM:-0800
TZOFFSETTO:-0700
TZNAME:PDT
DTSTART:20250309T100000
END:DAYLIGHT
BEGIN:STANDARD
TZOFFSETFROM:-0700
TZOFFSETTO:-0800
TZNAME:PST
DTSTART:20251102T090000
END:STANDARD
BEGIN:DAYLIGHT
TZOFFSETFROM:-0800
TZOFFSETTO:-0700
TZNAME:PDT
DTSTART:20260308T100000
END:DAYLIGHT
BEGIN:STANDARD
TZOFFSETFROM:-0700
TZOFFSETTO:-0800
TZNAME:PST
DTSTART:20261101T090000
END:STANDARD
BEGIN:DAYLIGHT
TZOFFSETFROM:-0800
TZOFFSETTO:-0700
TZNAME:PDT
DTSTART:20270314T100000
END:DAYLIGHT
BEGIN:STANDARD
TZOFFSETFROM:-0700
TZOFFSETTO:-0800
TZNAME:PST
DTSTART:20271107T090000
END:STANDARD
END:VTIMEZONE
BEGIN:VEVENT
DTSTART;TZID=America/Los_Angeles:20260428T090000
DTEND;TZID=America/Los_Angeles:20260428T160000
DTSTAMP:20260423T035218
CREATED:20260415T211531Z
LAST-MODIFIED:20260422T180415Z
UID:10010864-1777366800-1777392000@news.csn.edu
SUMMARY:2026-2027 ASCSN Elections
DESCRIPTION:Vote for your NEW student leaders for the 2026-2027 Associated Students of the College of Southern Nevada! It is the official student government organization here at CSN. Vote now to choose who will represent the CSN student body in conferences and will champion your and fellow Coyotes’ interests\, advocate for needs\, and promote campus engagement. The following positions are up for voting in this election: \nASCSN President \nASCSN Vice President \nASCSN Secretary \nASCSN Treasurer \nNorth Las Vegas Campus Senator \nCharleston Campus Senators \nHenderson Campus Senators \nYou may vote across all campuses\, and online voting will be available from 9 AM – 9 PM!
URL:https://news.csn.edu/event/2026-2027-ascsn-elections/2026-04-28/
LOCATION:CSN North Las Vegas Campus\, 3200 E. Cheyenne Ave\, North Las Vegas\, NV\, 89030\, United States
CATEGORIES:Community,Student life
ATTACH;FMTTYPE=image/jpeg:https://news.csn.edu/wp-content/uploads/2026/04/2026-2027-Elections-flyer-scaled.jpg
END:VEVENT
BEGIN:VEVENT
DTSTART;TZID=America/Los_Angeles:20260429T090000
DTEND;TZID=America/Los_Angeles:20260429T160000
DTSTAMP:20260423T035218
CREATED:20260415T211531Z
LAST-MODIFIED:20260422T180415Z
UID:10010865-1777453200-1777478400@news.csn.edu
SUMMARY:2026-2027 ASCSN Elections
DESCRIPTION:Vote for your NEW student leaders for the 2026-2027 Associated Students of the College of Southern Nevada! It is the official student government organization here at CSN. Vote now to choose who will represent the CSN student body in conferences and will champion your and fellow Coyotes’ interests\, advocate for needs\, and promote campus engagement. The following positions are up for voting in this election: \nASCSN President \nASCSN Vice President \nASCSN Secretary \nASCSN Treasurer \nNorth Las Vegas Campus Senator \nCharleston Campus Senators \nHenderson Campus Senators \nYou may vote across all campuses\, and online voting will be available from 9 AM – 9 PM!
URL:https://news.csn.edu/event/2026-2027-ascsn-elections/2026-04-29/
LOCATION:CSN North Las Vegas Campus\, 3200 E. Cheyenne Ave\, North Las Vegas\, NV\, 89030\, United States
CATEGORIES:Community,Student life
ATTACH;FMTTYPE=image/jpeg:https://news.csn.edu/wp-content/uploads/2026/04/2026-2027-Elections-flyer-scaled.jpg
END:VEVENT
END:VCALENDAR