BEGIN:VCALENDAR
VERSION:2.0
PRODID:-//College of Southern Nevada - ECPv6.15.13//NONSGML v1.0//EN
CALSCALE:GREGORIAN
METHOD:PUBLISH
X-WR-CALNAME:College of Southern Nevada
X-ORIGINAL-URL:https://news.csn.edu
X-WR-CALDESC:Events for College of Southern Nevada
REFRESH-INTERVAL;VALUE=DURATION:PT1H
X-Robots-Tag:noindex
X-PUBLISHED-TTL:PT1H
BEGIN:VTIMEZONE
TZID:America/Los_Angeles
BEGIN:DAYLIGHT
TZOFFSETFROM:-0800
TZOFFSETTO:-0700
TZNAME:PDT
DTSTART:20250309T100000
END:DAYLIGHT
BEGIN:STANDARD
TZOFFSETFROM:-0700
TZOFFSETTO:-0800
TZNAME:PST
DTSTART:20251102T090000
END:STANDARD
BEGIN:DAYLIGHT
TZOFFSETFROM:-0800
TZOFFSETTO:-0700
TZNAME:PDT
DTSTART:20260308T100000
END:DAYLIGHT
BEGIN:STANDARD
TZOFFSETFROM:-0700
TZOFFSETTO:-0800
TZNAME:PST
DTSTART:20261101T090000
END:STANDARD
BEGIN:DAYLIGHT
TZOFFSETFROM:-0800
TZOFFSETTO:-0700
TZNAME:PDT
DTSTART:20270314T100000
END:DAYLIGHT
BEGIN:STANDARD
TZOFFSETFROM:-0700
TZOFFSETTO:-0800
TZNAME:PST
DTSTART:20271107T090000
END:STANDARD
END:VTIMEZONE
BEGIN:VEVENT
DTSTART;TZID=America/Los_Angeles:20260310T130000
DTEND;TZID=America/Los_Angeles:20260310T140000
DTSTAMP:20260419T072347
CREATED:20260123T002740Z
LAST-MODIFIED:20260123T002740Z
UID:10009073-1773147600-1773151200@news.csn.edu
SUMMARY:CSN Sophomore Survival Series
DESCRIPTION:Still need another 30 more credits before you graduate? Never fear! CSN’s Sophomore Survival Series is here to help YOU with workshops designed to discover the tools you need to finish college strong!  Join us in person for free supplies or online through livestream! Scan the QR code to register for a workshop today! \nStudy Smarter\, Work Harder \n\nFebruary 11: North Las Vegas Campus\, June Whitley Student Lounge @ 1 PM – 2 PM\nFebruary 23: Charleston Campus\, Student Union Ballroom @ 11 AM – 12 PM\n\nThe Resource Roadmap \n\nMarch 10: North Las Vegas Campus\, June Whitley Student Lounge @ 1 PM – 2 PM\nMarch 25: Charleston Campus\, Student Union Ballroom @ 11 AM – 12 PM\n\nThe Finish Line Strategy \n\nApril 6: North Las Vegas Campus\, June Whitley Student Lounge @ 1 PM – 2 PM\nApril 14: Charleston Campus\, Student Union Ballroom @ 11 AM – 12 PM\n\nSpring 2026 Sophomore Special Event \n\nApril 22: North Las Vegas Campus\, Student Union Ballroom  @ 12 PM – 2 PM
URL:https://news.csn.edu/event/csn-sophomore-survival-series/2026-03-10/
LOCATION:June Whitley Student Lounge\, 3200 N. Cheyenne Avenue\, North Las Vegas\, NV\, 89030\, United States
CATEGORIES:Arts,Athletics,Community,Cultural Event,Sports,Student life
ATTACH;FMTTYPE=image/png:https://news.csn.edu/wp-content/uploads/2026/01/Sophomore-Survival-Series-Workshop-Flyer-1.png
END:VEVENT
BEGIN:VEVENT
DTSTART;TZID=America/Los_Angeles:20260318T080000
DTEND;TZID=America/Los_Angeles:20260318T170000
DTSTAMP:20260419T072347
CREATED:20260303T215717Z
LAST-MODIFIED:20260303T215717Z
UID:10009418-1773820800-1773853200@news.csn.edu
SUMMARY:Active Assailant Training
DESCRIPTION:In an effort to increase safety and security measures\, UPD will be hosting an Active Assailant Training during the week of Spring Break\, Wed. Mar. 18th. Please be sure to create an account\, enroll\, and take the short 10 question pretest. If you have any questions\, please feel free to reach out! \nClass Registration Link: https://train.ncbrt.lsu.edu/ClassRegister?ClassID=35005 \nClass ID: 35005 \nAccess Code: (N/A)
URL:https://news.csn.edu/event/active-assailant-training/
LOCATION:Charleston Student Union\, 6375 W. Charleston Blvd\, Las Vegas\, NV\, 89146\, United States
CATEGORIES:Athletics,Community,Cultural Event,Employees,Student life
ATTACH;FMTTYPE=image/png:https://news.csn.edu/wp-content/uploads/2026/03/AAT-MARCH-18-2026-2-1.png
END:VEVENT
BEGIN:VEVENT
DTSTART;VALUE=DATE:20260322
DTEND;VALUE=DATE:20260323
DTSTAMP:20260419T072347
CREATED:20260122T230132Z
LAST-MODIFIED:20260122T230132Z
UID:10009069-1774137600-1774223999@news.csn.edu
SUMMARY:Class of 2026 Commencement Speaker Contest
DESCRIPTION:Are you a graduate of the Class of 2026? Think you have what it takes to be a commencement speaker? Submit your speech today by scanning the QR code and filling out the sign-up form! The finalist will receive the Nevada Institution Transfer Scholarship for a baccalaureate degree at any of the Nevada System of Higher Education (NSHE) schools! Make graduation memorable with YOUR speech surrounded by friends\, family\, and the future alumni of CSN!
URL:https://news.csn.edu/event/class-of-2026-commencement-speaker-contest/
LOCATION:Virtual
CATEGORIES:Arts,Athletics,Community,Cultural Event,Employees,Sports,Student life
ATTACH;FMTTYPE=image/png:https://news.csn.edu/wp-content/uploads/2026/01/Class-of-2026-Flyer.png
END:VEVENT
BEGIN:VEVENT
DTSTART;VALUE=DATE:20260323
DTEND;VALUE=DATE:20260324
DTSTAMP:20260419T072347
CREATED:20260116T223636Z
LAST-MODIFIED:20260116T223636Z
UID:10009067-1774224000-1774310399@news.csn.edu
SUMMARY:Class of 2026 Commencement Speaker Contest Deadline
DESCRIPTION:Are you a graduate of The Class of 2026? Think you have what it takes to be a commencement speaker? Scan the QR code to submit your application today! The finalist will receive the Nevada Institution Transfer Scholarship if transferring to a 4-year college or university! Make graduation unforgettable with YOUR speech surrounded by friends and family with the future alums of CSN!
URL:https://news.csn.edu/event/class-of-2026-commencement-speaker-contest-deadline/
LOCATION:Virtual
CATEGORIES:Arts,Athletics,Community,Cultural Event,Student life
ATTACH;FMTTYPE=image/png:https://news.csn.edu/wp-content/uploads/2026/01/Class-of-2026-Flyer.png
END:VEVENT
BEGIN:VEVENT
DTSTART;TZID=America/Los_Angeles:20260325T110000
DTEND;TZID=America/Los_Angeles:20260325T120000
DTSTAMP:20260419T072347
CREATED:20260123T002740Z
LAST-MODIFIED:20260123T002740Z
UID:10009074-1774436400-1774440000@news.csn.edu
SUMMARY:CSN Sophomore Survival Series
DESCRIPTION:Still need another 30 more credits before you graduate? Never fear! CSN’s Sophomore Survival Series is here to help YOU with workshops designed to discover the tools you need to finish college strong!  Join us in person for free supplies or online through livestream! Scan the QR code to register for a workshop today! \nStudy Smarter\, Work Harder \n\nFebruary 11: North Las Vegas Campus\, June Whitley Student Lounge @ 1 PM – 2 PM\nFebruary 23: Charleston Campus\, Student Union Ballroom @ 11 AM – 12 PM\n\nThe Resource Roadmap \n\nMarch 10: North Las Vegas Campus\, June Whitley Student Lounge @ 1 PM – 2 PM\nMarch 25: Charleston Campus\, Student Union Ballroom @ 11 AM – 12 PM\n\nThe Finish Line Strategy \n\nApril 6: North Las Vegas Campus\, June Whitley Student Lounge @ 1 PM – 2 PM\nApril 14: Charleston Campus\, Student Union Ballroom @ 11 AM – 12 PM\n\nSpring 2026 Sophomore Special Event \n\nApril 22: North Las Vegas Campus\, Student Union Ballroom  @ 12 PM – 2 PM
URL:https://news.csn.edu/event/csn-sophomore-survival-series/2026-03-25/
LOCATION:June Whitley Student Lounge\, 3200 N. Cheyenne Avenue\, North Las Vegas\, NV\, 89030\, United States
CATEGORIES:Arts,Athletics,Community,Cultural Event,Sports,Student life
ATTACH;FMTTYPE=image/png:https://news.csn.edu/wp-content/uploads/2026/01/Sophomore-Survival-Series-Workshop-Flyer-1.png
END:VEVENT
BEGIN:VEVENT
DTSTART;TZID=America/Los_Angeles:20260326T160000
DTEND;TZID=America/Los_Angeles:20260326T180000
DTSTAMP:20260419T072347
CREATED:20260315T201348Z
LAST-MODIFIED:20260315T201348Z
UID:10009429-1774540800-1774548000@news.csn.edu
SUMMARY:CommUNITY Business Success Expo
DESCRIPTION:Join us for the CommUNITY Business Success Expo at Tyrone Thompson Student Union\, CSN North Las Vegas Campus! \nThis event connects small business owners and entrepreneurs with Nevada’s leading experts in licensing\, procurement\, workforce development\, and funding resources — all in one place! \nAttendees will gain valuable insights on the newly announced $38.5M SSBCI funding tranche\, learn how to navigate licensing requirements\, access procurement opportunities\, upskill their workforce\, and position their businesses for growth. \nEmmy-winning journalist Patranya Bhoolsuwan will moderate the Expo and will feature distinguished speakers\, including Senator Dina Neal\, representatives from the Nevada Capital Readiness Program\, APEX Accelerator\, CSN Workforce & Economic Development\, Nevada SBDC\, and other regional business leaders. \nWhether you are launching\, growing\, or scaling your business\, this event provides direct access to the resources and connections you need to reach the next level. \nLocation: Tyrone Thompson Student Union\, CSN North Las Vegas Campus \nDate & Time: March 26th from 4:00 PM to 6:00 PM \nScan the QR code to register or click the link: https://forms.office.com/Pages/ResponsePage.aspx?id=dNU137qfzkigc3N4aNd6SNhL-bYa_StPsz9zp9BMsrtUNDZUUEtOU0lMM1FYRTlVRVk1UEtYRE9JRS4u
URL:https://news.csn.edu/event/community-business-success-expo/
LOCATION:CSN North Las Vegas Student Union\, 3200 E. Cheyenne Avenue\, North Las Vegas\, NV\, 89030\, United States
CATEGORIES:Community,Cultural Event,Employees,Student life
ATTACH;FMTTYPE=image/jpeg:https://news.csn.edu/wp-content/uploads/2026/03/Business-Expo-Flyer-Final-EG-2-scaled.jpg
END:VEVENT
END:VCALENDAR