BEGIN:VCALENDAR
VERSION:2.0
PRODID:-//College of Southern Nevada - ECPv6.15.13//NONSGML v1.0//EN
CALSCALE:GREGORIAN
METHOD:PUBLISH
X-WR-CALNAME:College of Southern Nevada
X-ORIGINAL-URL:https://news.csn.edu
X-WR-CALDESC:Events for College of Southern Nevada
REFRESH-INTERVAL;VALUE=DURATION:PT1H
X-Robots-Tag:noindex
X-PUBLISHED-TTL:PT1H
BEGIN:VTIMEZONE
TZID:UTC
BEGIN:STANDARD
TZOFFSETFROM:+0000
TZOFFSETTO:+0000
TZNAME:UTC
DTSTART:20240101T000000
END:STANDARD
END:VTIMEZONE
BEGIN:VEVENT
DTSTART;TZID=UTC:20251122T200000
DTEND;TZID=UTC:20251122T220000
DTSTAMP:20260420T093812
CREATED:20251121T201634Z
LAST-MODIFIED:20251121T201634Z
UID:10008833-1763841600-1763848800@news.csn.edu
SUMMARY:College of Southern Nevada Men's Basketball vs Colorado Northwestern Community College
DESCRIPTION:College of Southern Nevada Men’s Basketball vs Colorado Northwestern Community College
URL:https://news.csn.edu/event/college-of-southern-nevada-mens-basketball-vs-colorado-northwestern-community-college-2/
LOCATION:Price\, UT
CATEGORIES:Men's Basketball
END:VEVENT
BEGIN:VEVENT
DTSTART;TZID=UTC:20251122T020000
DTEND;TZID=UTC:20251122T040000
DTSTAMP:20260420T093812
CREATED:20251121T201634Z
LAST-MODIFIED:20251121T201634Z
UID:10008832-1763776800-1763784000@news.csn.edu
SUMMARY:College of Southern Nevada Men's Basketball at Utah State University Eastern
DESCRIPTION:College of Southern Nevada Men’s Basketball at Utah State University Eastern
URL:https://news.csn.edu/event/college-of-southern-nevada-mens-basketball-at-utah-state-university-eastern/
LOCATION:Price\, UT
CATEGORIES:Men's Basketball
END:VEVENT
END:VCALENDAR